Back to Multiple platform build/check report for BioC 3.14
ABCDEFGHIJKLMNOPQ[R]STUVWXYZ

This page was generated on 2022-01-21 13:07:00 -0500 (Fri, 21 Jan 2022).

HostnameOSArch (*)R versionInstalled pkgs
nebbiolo2Linux (Ubuntu 20.04.4 LTS)x86_644.1.2 (2021-11-01) -- "Bird Hippie" 4329
tokay2Windows Server 2012 R2 Standardx644.1.2 (2021-11-01) -- "Bird Hippie" 4079
machv2macOS 10.14.6 Mojavex86_644.1.2 (2021-11-01) -- "Bird Hippie" 4140
Click on any hostname to see more info about the system (e.g. compilers)      (*) as reported by 'uname -p', except on Windows and Mac OS X

BUILD BIN results for RNAmodR on tokay2


To the developers/maintainers of the RNAmodR package:
- Please allow up to 24 hours (and sometimes 48 hours) for your latest push to git@git.bioconductor.org:packages/RNAmodR.git to
reflect on this report. See How and When does the builder pull? When will my changes propagate? here for more information.
- Make sure to use the following settings in order to reproduce any error or warning you see on this page.

raw results

Package 1630/2083HostnameOS / ArchINSTALLBUILDCHECKBUILD BIN
RNAmodR 1.8.0  (landing page)
Felix G.M. Ernst
Snapshot Date: 2022-01-20 01:55:04 -0500 (Thu, 20 Jan 2022)
git_url: https://git.bioconductor.org/packages/RNAmodR
git_branch: RELEASE_3_14
git_last_commit: 33b6760
git_last_commit_date: 2021-10-26 12:52:29 -0500 (Tue, 26 Oct 2021)
nebbiolo2Linux (Ubuntu 20.04.4 LTS) / x86_64  OK    OK    OK  UNNEEDED, same version is already published
tokay2Windows Server 2012 R2 Standard / x64  OK    OK    OK    OK  UNNEEDED, same version is already published
machv2macOS 10.14.6 Mojave / x86_64  OK    OK    OK    OK  UNNEEDED, same version is already published

Summary

Package: RNAmodR
Version: 1.8.0
Command: rm -rf RNAmodR.buildbin-libdir && mkdir RNAmodR.buildbin-libdir && C:\Users\biocbuild\bbs-3.14-bioc\R\bin\R.exe CMD INSTALL --merge-multiarch --build --library=RNAmodR.buildbin-libdir RNAmodR_1.8.0.tar.gz
StartedAt: 2022-01-21 06:58:00 -0500 (Fri, 21 Jan 2022)
EndedAt: 2022-01-21 06:59:45 -0500 (Fri, 21 Jan 2022)
EllapsedTime: 104.7 seconds
RetCode: 0
Status:   OK  
PackageFile: RNAmodR_1.8.0.zip
PackageFileSize: 2.946 MiB

Command output

##############################################################################
##############################################################################
###
### Running command:
###
###   rm -rf RNAmodR.buildbin-libdir && mkdir RNAmodR.buildbin-libdir && C:\Users\biocbuild\bbs-3.14-bioc\R\bin\R.exe CMD INSTALL --merge-multiarch --build --library=RNAmodR.buildbin-libdir RNAmodR_1.8.0.tar.gz
###
##############################################################################
##############################################################################



install for i386

* installing *source* package 'RNAmodR' ...
** using staged installation
** R
** data
** inst
** byte-compile and prepare package for lazy loading
** help
*** installing help indices
  converting help for package 'RNAmodR'
    finding HTML links ... done
    CoverageSequenceData-class              html  
    EndSequenceData-class                   html  
    ModInosine-functions                    html  
    ModInosine-internals                    html  
    ModInosine                              html  
    Modifier-class                          html  
    Modifier-functions                      html  
    ModifierSet-class                       html  
    NormEndSequenceData-class               html  
    PileupSequenceData-class                html  
    ProtectedEndSequenceData-class          html  
    RNAmodR-datasets                        html  
    RNAmodR-development                     html  
    RNAmodR-internals                       html  
    RNAmodR                                 html  
    SequenceData-class                      html  
REDIRECT:topic	 Previous alias or file overwritten by alias: C:/Users/biocbuild/bbs-3.14-bioc/meat/RNAmodR.buildbin-libdir/00LOCK-RNAmodR/00new/RNAmodR/help/SequenceData.html
    SequenceData-functions                  html  
    SequenceDataFrame-class                 html  
    SequenceDataList-class                  html  
    SequenceDataSet-class                   html  
    SequenceModDNAStringSetTrack-class      html  
    SequenceModRNAStringSetTrack-class      html  
    aggregate                               html  
    compareByCoord                          html  
    modify                                  html  
    plotData                                html  
    plotROC                                 html  
    settings                                html  
    stats                                   html  
    subsetByCoord                           html  
** building package indices
** installing vignettes
** testing if installed package can be loaded from temporary location
** testing if installed package can be loaded from final location
** testing if installed package keeps a record of temporary installation path

install for x64

* installing *source* package 'RNAmodR' ...
** testing if installed package can be loaded
* MD5 sums
packaged installation of 'RNAmodR' as RNAmodR_1.8.0.zip
* DONE (RNAmodR)