Back to Multiple platform build/check report for BioC 3.14
ABCDEFGHIJKLMNOPQ[R]STUVWXYZ

This page was generated on 2021-12-06 13:05:09 -0500 (Mon, 06 Dec 2021).

INSTALL results for RJMCMCNucleosomes on nebbiolo2

To the developers/maintainers of the RJMCMCNucleosomes package:
- Please allow up to 24 hours (and sometimes 48 hours) for your latest push to git@git.bioconductor.org:packages/RJMCMCNucleosomes.git to
reflect on this report. See How and When does the builder pull? When will my changes propagate? here for more information.
- Make sure to use the following settings in order to reproduce any error or warning you see on this page.

raw results

Package 1616/2083HostnameOS / ArchINSTALLBUILDCHECKBUILD BIN
RJMCMCNucleosomes 1.18.0  (landing page)
Astrid Deschênes
Snapshot Date: 2021-12-05 01:55:05 -0500 (Sun, 05 Dec 2021)
git_url: https://git.bioconductor.org/packages/RJMCMCNucleosomes
git_branch: RELEASE_3_14
git_last_commit: 0d6b941
git_last_commit_date: 2021-10-26 12:32:18 -0500 (Tue, 26 Oct 2021)
nebbiolo2Linux (Ubuntu 20.04.3 LTS) / x86_64  OK    OK    OK  UNNEEDED, same version is already published
tokay2Windows Server 2012 R2 Standard / x64  OK    OK    OK    OK  UNNEEDED, same version is already published
machv2macOS 10.14.6 Mojave / x86_64  OK    OK    OK    OK  UNNEEDED, same version is already published

Summary

Package: RJMCMCNucleosomes
Version: 1.18.0
Command: /home/biocbuild/bbs-3.14-bioc/R/bin/R CMD INSTALL RJMCMCNucleosomes
StartedAt: 2021-12-05 03:33:08 -0500 (Sun, 05 Dec 2021)
EndedAt: 2021-12-05 03:33:55 -0500 (Sun, 05 Dec 2021)
EllapsedTime: 46.4 seconds
RetCode: 0
Status:   OK  

Command output

##############################################################################
##############################################################################
###
### Running command:
###
###   /home/biocbuild/bbs-3.14-bioc/R/bin/R CMD INSTALL RJMCMCNucleosomes
###
##############################################################################
##############################################################################


* installing to library ‘/home/biocbuild/bbs-3.14-bioc/R/library’
* installing *source* package ‘RJMCMCNucleosomes’ ...
** using staged installation
** libs
g++ -std=gnu++14 -I"/home/biocbuild/bbs-3.14-bioc/R/include" -DNDEBUG `gsl-config --cflags` -I'/home/biocbuild/bbs-3.14-bioc/R/library/Rcpp/include' -I/usr/local/include   -fpic  -g -O2  -Wall -c NucleoDirichlet.cpp -o NucleoDirichlet.o
g++ -std=gnu++14 -I"/home/biocbuild/bbs-3.14-bioc/R/include" -DNDEBUG `gsl-config --cflags` -I'/home/biocbuild/bbs-3.14-bioc/R/library/Rcpp/include' -I/usr/local/include   -fpic  -g -O2  -Wall -c NucleoDirichletPA.cpp -o NucleoDirichletPA.o
g++ -std=gnu++14 -I"/home/biocbuild/bbs-3.14-bioc/R/include" -DNDEBUG `gsl-config --cflags` -I'/home/biocbuild/bbs-3.14-bioc/R/library/Rcpp/include' -I/usr/local/include   -fpic  -g -O2  -Wall -c Nucleosome.cpp -o Nucleosome.o
gcc -I"/home/biocbuild/bbs-3.14-bioc/R/include" -DNDEBUG `gsl-config --cflags` -I'/home/biocbuild/bbs-3.14-bioc/R/library/Rcpp/include' -I/usr/local/include   -fpic  -g -O2  -Wall -c RJMCMCNucleosomes_init.c -o RJMCMCNucleosomes_init.o
g++ -std=gnu++14 -I"/home/biocbuild/bbs-3.14-bioc/R/include" -DNDEBUG `gsl-config --cflags` -I'/home/biocbuild/bbs-3.14-bioc/R/library/Rcpp/include' -I/usr/local/include   -fpic  -g -O2  -Wall -c RcppExports.cpp -o RcppExports.o
g++ -std=gnu++14 -I"/home/biocbuild/bbs-3.14-bioc/R/include" -DNDEBUG `gsl-config --cflags` -I'/home/biocbuild/bbs-3.14-bioc/R/library/Rcpp/include' -I/usr/local/include   -fpic  -g -O2  -Wall -c SegmentSeq.cpp -o SegmentSeq.o
g++ -std=gnu++14 -I"/home/biocbuild/bbs-3.14-bioc/R/include" -DNDEBUG `gsl-config --cflags` -I'/home/biocbuild/bbs-3.14-bioc/R/library/Rcpp/include' -I/usr/local/include   -fpic  -g -O2  -Wall -c rjmcmcNucleo.cpp -o rjmcmcNucleo.o
g++ -std=gnu++14 -shared -L/home/biocbuild/bbs-3.14-bioc/R/lib -L/usr/local/lib -o RJMCMCNucleosomes.so NucleoDirichlet.o NucleoDirichletPA.o Nucleosome.o RJMCMCNucleosomes_init.o RcppExports.o SegmentSeq.o rjmcmcNucleo.o -L/usr/lib/x86_64-linux-gnu -lgsl -lgslcblas -lm -L/home/biocbuild/bbs-3.14-bioc/R/lib -lR
installing to /home/biocbuild/bbs-3.14-bioc/R/library/00LOCK-RJMCMCNucleosomes/00new/RJMCMCNucleosomes/libs
** R
** data
** inst
** byte-compile and prepare package for lazy loading
** help
*** installing help indices
** building package indices
** installing vignettes
** testing if installed package can be loaded from temporary location
** checking absolute paths in shared objects and dynamic libraries
** testing if installed package can be loaded from final location
** testing if installed package keeps a record of temporary installation path
* DONE (RJMCMCNucleosomes)