![]() | Name | Last modified | Size | Description |
---|---|---|---|---|
![]() | Parent Directory | - | ||
![]() | install-out.txt | 14-Apr-2022 01:07 | 3.0K | |
![]() | install-summary.dcf | 14-Apr-2022 01:07 | 614 | |
![]() | buildsrc-out.txt | 14-Apr-2022 01:07 | 830 | |
![]() | buildsrc-summary.dcf | 14-Apr-2022 01:07 | 447 | |
![]() | checksrc-out.txt | 14-Apr-2022 01:07 | 5.2K | |
![]() | checksrc-summary.dcf | 14-Apr-2022 01:07 | 450 | |
![]() | buildbin-out.txt | 14-Apr-2022 01:07 | 2.4K | |
![]() | buildbin-summary.dcf | 14-Apr-2022 01:07 | 521 | |