Back to Multiple platform build/check report for BioC 3.14
ABCDEFGHIJKLMNOP[Q]RSTUVWXYZ

This page was generated on 2021-11-29 15:05:05 -0500 (Mon, 29 Nov 2021).

INSTALL results for QuasR on nebbiolo2

To the developers/maintainers of the QuasR package:
- Please allow up to 24 hours (and sometimes 48 hours) for your latest push to git@git.bioconductor.org:packages/QuasR.git to
reflect on this report. See How and When does the builder pull? When will my changes propagate? here for more information.
- Make sure to use the following settings in order to reproduce any error or warning you see on this page.

raw results

Package 1510/2083HostnameOS / ArchINSTALLBUILDCHECKBUILD BIN
QuasR 1.34.0  (landing page)
Michael Stadler
Snapshot Date: 2021-11-28 04:15:06 -0500 (Sun, 28 Nov 2021)
git_url: https://git.bioconductor.org/packages/QuasR
git_branch: RELEASE_3_14
git_last_commit: d22d4ad
git_last_commit_date: 2021-10-26 12:06:13 -0500 (Tue, 26 Oct 2021)
nebbiolo2Linux (Ubuntu 20.04.3 LTS) / x86_64  OK    OK    OK  UNNEEDED, same version is already published
tokay2Windows Server 2012 R2 Standard / x64  OK    OK    OK    OK  UNNEEDED, same version is already published
machv2macOS 10.14.6 Mojave / x86_64  OK    OK    OK    OK  UNNEEDED, same version is already published

Summary

Package: QuasR
Version: 1.34.0
Command: /home/biocbuild/bbs-3.14-bioc/R/bin/R CMD INSTALL QuasR
StartedAt: 2021-11-28 05:27:05 -0500 (Sun, 28 Nov 2021)
EndedAt: 2021-11-28 05:28:06 -0500 (Sun, 28 Nov 2021)
EllapsedTime: 60.8 seconds
RetCode: 0
Status:   OK  

Command output

##############################################################################
##############################################################################
###
### Running command:
###
###   /home/biocbuild/bbs-3.14-bioc/R/bin/R CMD INSTALL QuasR
###
##############################################################################
##############################################################################


* installing to library ‘/home/biocbuild/bbs-3.14-bioc/R/library’
* installing *source* package ‘QuasR’ ...
** using staged installation
** libs
g++ -std=gnu++14 -I"/home/biocbuild/bbs-3.14-bioc/R/include" -DNDEBUG -D_FILE_OFFSET_BITS=64 -I'/home/biocbuild/bbs-3.14-bioc/R/library/Rhtslib/include' -I/usr/local/include   -fpic  -g -O2  -Wall -c R_init_QuasR.cpp -o R_init_QuasR.o
gcc -I"/home/biocbuild/bbs-3.14-bioc/R/include" -DNDEBUG -D_FILE_OFFSET_BITS=64 -I'/home/biocbuild/bbs-3.14-bioc/R/library/Rhtslib/include' -I/usr/local/include   -fpic  -g -O2  -Wall -c bam.c -o bam.o
gcc -I"/home/biocbuild/bbs-3.14-bioc/R/include" -DNDEBUG -D_FILE_OFFSET_BITS=64 -I'/home/biocbuild/bbs-3.14-bioc/R/library/Rhtslib/include' -I/usr/local/include   -fpic  -g -O2  -Wall -c bam_cat.c -o bam_cat.o
gcc -I"/home/biocbuild/bbs-3.14-bioc/R/include" -DNDEBUG -D_FILE_OFFSET_BITS=64 -I'/home/biocbuild/bbs-3.14-bioc/R/library/Rhtslib/include' -I/usr/local/include   -fpic  -g -O2  -Wall -c bam_plbuf.c -o bam_plbuf.o
gcc -I"/home/biocbuild/bbs-3.14-bioc/R/include" -DNDEBUG -D_FILE_OFFSET_BITS=64 -I'/home/biocbuild/bbs-3.14-bioc/R/library/Rhtslib/include' -I/usr/local/include   -fpic  -g -O2  -Wall -c cat_bam.c -o cat_bam.o
gcc -I"/home/biocbuild/bbs-3.14-bioc/R/include" -DNDEBUG -D_FILE_OFFSET_BITS=64 -I'/home/biocbuild/bbs-3.14-bioc/R/library/Rhtslib/include' -I/usr/local/include   -fpic  -g -O2  -Wall -c convert_reads_id_bis_rc.c -o convert_reads_id_bis_rc.o
gcc -I"/home/biocbuild/bbs-3.14-bioc/R/include" -DNDEBUG -D_FILE_OFFSET_BITS=64 -I'/home/biocbuild/bbs-3.14-bioc/R/library/Rhtslib/include' -I/usr/local/include   -fpic  -g -O2  -Wall -c count_alignments.c -o count_alignments.o
gcc -I"/home/biocbuild/bbs-3.14-bioc/R/include" -DNDEBUG -D_FILE_OFFSET_BITS=64 -I'/home/biocbuild/bbs-3.14-bioc/R/library/Rhtslib/include' -I/usr/local/include   -fpic  -g -O2  -Wall -c count_alignments_subregions.c -o count_alignments_subregions.o
g++ -std=gnu++14 -I"/home/biocbuild/bbs-3.14-bioc/R/include" -DNDEBUG -D_FILE_OFFSET_BITS=64 -I'/home/biocbuild/bbs-3.14-bioc/R/library/Rhtslib/include' -I/usr/local/include   -fpic  -g -O2  -Wall -c count_junctions.cpp -o count_junctions.o
gcc -I"/home/biocbuild/bbs-3.14-bioc/R/include" -DNDEBUG -D_FILE_OFFSET_BITS=64 -I'/home/biocbuild/bbs-3.14-bioc/R/library/Rhtslib/include' -I/usr/local/include   -fpic  -g -O2  -Wall -c export_wig.c -o export_wig.o
gcc -I"/home/biocbuild/bbs-3.14-bioc/R/include" -DNDEBUG -D_FILE_OFFSET_BITS=64 -I'/home/biocbuild/bbs-3.14-bioc/R/library/Rhtslib/include' -I/usr/local/include   -fpic  -g -O2  -Wall -c extract_unmapped_reads.c -o extract_unmapped_reads.o
gcc -I"/home/biocbuild/bbs-3.14-bioc/R/include" -DNDEBUG -D_FILE_OFFSET_BITS=64 -I'/home/biocbuild/bbs-3.14-bioc/R/library/Rhtslib/include' -I/usr/local/include   -fpic  -g -O2  -Wall -c filter_hisat2.c -o filter_hisat2.o
gcc -I"/home/biocbuild/bbs-3.14-bioc/R/include" -DNDEBUG -D_FILE_OFFSET_BITS=64 -I'/home/biocbuild/bbs-3.14-bioc/R/library/Rhtslib/include' -I/usr/local/include   -fpic  -g -O2  -Wall -c idxstats_bam.c -o idxstats_bam.o
g++ -std=gnu++14 -I"/home/biocbuild/bbs-3.14-bioc/R/include" -DNDEBUG -D_FILE_OFFSET_BITS=64 -I'/home/biocbuild/bbs-3.14-bioc/R/library/Rhtslib/include' -I/usr/local/include   -fpic  -g -O2  -Wall -c merge_reorder_sam.cpp -o merge_reorder_sam.o
gcc -I"/home/biocbuild/bbs-3.14-bioc/R/include" -DNDEBUG -D_FILE_OFFSET_BITS=64 -I'/home/biocbuild/bbs-3.14-bioc/R/library/Rhtslib/include' -I/usr/local/include   -fpic  -g -O2  -Wall -c nucleotide_alignment_frequencies.c -o nucleotide_alignment_frequencies.o
gcc -I"/home/biocbuild/bbs-3.14-bioc/R/include" -DNDEBUG -D_FILE_OFFSET_BITS=64 -I'/home/biocbuild/bbs-3.14-bioc/R/library/Rhtslib/include' -I/usr/local/include   -fpic  -g -O2  -Wall -c profile_alignments.c -o profile_alignments.o
g++ -std=gnu++14 -I"/home/biocbuild/bbs-3.14-bioc/R/include" -DNDEBUG -D_FILE_OFFSET_BITS=64 -I'/home/biocbuild/bbs-3.14-bioc/R/library/Rhtslib/include' -I/usr/local/include   -fpic  -g -O2  -Wall -c quantify_methylation.cpp -o quantify_methylation.o
gcc -I"/home/biocbuild/bbs-3.14-bioc/R/include" -DNDEBUG -D_FILE_OFFSET_BITS=64 -I'/home/biocbuild/bbs-3.14-bioc/R/library/Rhtslib/include' -I/usr/local/include   -fpic  -g -O2  -Wall -c remove_unmapped_from_sam.c -o remove_unmapped_from_sam.o
gcc -I"/home/biocbuild/bbs-3.14-bioc/R/include" -DNDEBUG -D_FILE_OFFSET_BITS=64 -I'/home/biocbuild/bbs-3.14-bioc/R/library/Rhtslib/include' -I/usr/local/include   -fpic  -g -O2  -Wall -c sam.c -o sam.o
gcc -I"/home/biocbuild/bbs-3.14-bioc/R/include" -DNDEBUG -D_FILE_OFFSET_BITS=64 -I'/home/biocbuild/bbs-3.14-bioc/R/library/Rhtslib/include' -I/usr/local/include   -fpic  -g -O2  -Wall -c sam_utils.c -o sam_utils.o
gcc -I"/home/biocbuild/bbs-3.14-bioc/R/include" -DNDEBUG -D_FILE_OFFSET_BITS=64 -I'/home/biocbuild/bbs-3.14-bioc/R/library/Rhtslib/include' -I/usr/local/include   -fpic  -g -O2  -Wall -c split_sam_chr.c -o split_sam_chr.o
gcc -I"/home/biocbuild/bbs-3.14-bioc/R/include" -DNDEBUG -D_FILE_OFFSET_BITS=64 -I'/home/biocbuild/bbs-3.14-bioc/R/library/Rhtslib/include' -I/usr/local/include   -fpic  -g -O2  -Wall -c utilities.c -o utilities.o
g++ -std=gnu++14 -shared -L/home/biocbuild/bbs-3.14-bioc/R/lib -L/usr/local/lib -o QuasR.so R_init_QuasR.o bam.o bam_cat.o bam_plbuf.o cat_bam.o convert_reads_id_bis_rc.o count_alignments.o count_alignments_subregions.o count_junctions.o export_wig.o extract_unmapped_reads.o filter_hisat2.o idxstats_bam.o merge_reorder_sam.o nucleotide_alignment_frequencies.o profile_alignments.o quantify_methylation.o remove_unmapped_from_sam.o sam.o sam_utils.o split_sam_chr.o utilities.o /home/biocbuild/bbs-3.14-bioc/R/library/Rhtslib/usrlib/libhts.a -lcurl -L/home/biocbuild/bbs-3.14-bioc/R/lib -lR
installing to /home/biocbuild/bbs-3.14-bioc/R/library/00LOCK-QuasR/00new/QuasR/libs
** R
** inst
** byte-compile and prepare package for lazy loading
** help
*** installing help indices
** building package indices
** installing vignettes
** testing if installed package can be loaded from temporary location
** checking absolute paths in shared objects and dynamic libraries
** testing if installed package can be loaded from final location
** testing if installed package keeps a record of temporary installation path
* DONE (QuasR)