Back to Multiple platform build/check report for BioC 3.14
ABCDEFGHIJKLMNOP[Q]RSTUVWXYZ

This page was generated on 2021-12-06 13:05:08 -0500 (Mon, 06 Dec 2021).

BUILD results for QuasR on nebbiolo2

To the developers/maintainers of the QuasR package:
- Please allow up to 24 hours (and sometimes 48 hours) for your latest push to git@git.bioconductor.org:packages/QuasR.git to
reflect on this report. See How and When does the builder pull? When will my changes propagate? here for more information.
- Make sure to use the following settings in order to reproduce any error or warning you see on this page.

raw results

Package 1510/2083HostnameOS / ArchINSTALLBUILDCHECKBUILD BIN
QuasR 1.34.0  (landing page)
Michael Stadler
Snapshot Date: 2021-12-05 01:55:05 -0500 (Sun, 05 Dec 2021)
git_url: https://git.bioconductor.org/packages/QuasR
git_branch: RELEASE_3_14
git_last_commit: d22d4ad
git_last_commit_date: 2021-10-26 12:06:13 -0500 (Tue, 26 Oct 2021)
nebbiolo2Linux (Ubuntu 20.04.3 LTS) / x86_64  OK    OK    OK  UNNEEDED, same version is already published
tokay2Windows Server 2012 R2 Standard / x64  OK    OK    OK    OK  UNNEEDED, same version is already published
machv2macOS 10.14.6 Mojave / x86_64  OK    OK    OK    OK  UNNEEDED, same version is already published

Summary

Package: QuasR
Version: 1.34.0
Command: /home/biocbuild/bbs-3.14-bioc/R/bin/R CMD build --keep-empty-dirs --no-resave-data QuasR
StartedAt: 2021-12-05 05:32:31 -0500 (Sun, 05 Dec 2021)
EndedAt: 2021-12-05 05:38:04 -0500 (Sun, 05 Dec 2021)
EllapsedTime: 333.3 seconds
RetCode: 0
Status:   OK  
PackageFile: QuasR_1.34.0.tar.gz
PackageFileSize: 2.191 MiB

Command output

##############################################################################
##############################################################################
###
### Running command:
###
###   /home/biocbuild/bbs-3.14-bioc/R/bin/R CMD build --keep-empty-dirs --no-resave-data QuasR
###
##############################################################################
##############################################################################


* checking for file ‘QuasR/DESCRIPTION’ ... OK
* preparing ‘QuasR’:
* checking DESCRIPTION meta-information ... OK
* cleaning src
* installing the package to build vignettes
* creating vignettes ... OK
* cleaning src
* checking for LF line-endings in source and make files and shell scripts
* checking for empty or unneeded directories
WARNING: directory ‘QuasR/inst/AlignerIndexPkg-template/R’ is empty
* building ‘QuasR_1.34.0.tar.gz’