Back to Multiple platform build/check report for BioC 3.14
ABCDEFGHIJKLMNOP[Q]RSTUVWXYZ

This page was generated on 2022-01-14 13:06:58 -0500 (Fri, 14 Jan 2022).

HostnameOSArch (*)R versionInstalled pkgs
nebbiolo2Linux (Ubuntu 20.04.4 LTS)x86_644.1.2 (2021-11-01) -- "Bird Hippie" 4327
tokay2Windows Server 2012 R2 Standardx644.1.2 (2021-11-01) -- "Bird Hippie" 4076
machv2macOS 10.14.6 Mojavex86_644.1.2 (2021-11-01) -- "Bird Hippie" 4137
Click on any hostname to see more info about the system (e.g. compilers)      (*) as reported by 'uname -p', except on Windows and Mac OS X

INSTALL results for QFeatures on tokay2


To the developers/maintainers of the QFeatures package:
- Please allow up to 24 hours (and sometimes 48 hours) for your latest push to git@git.bioconductor.org:packages/QFeatures.git to
reflect on this report. See How and When does the builder pull? When will my changes propagate? here for more information.
- Make sure to use the following settings in order to reproduce any error or warning you see on this page.

raw results

Package 1497/2083HostnameOS / ArchINSTALLBUILDCHECKBUILD BIN
QFeatures 1.4.0  (landing page)
Laurent Gatto
Snapshot Date: 2022-01-13 01:55:04 -0500 (Thu, 13 Jan 2022)
git_url: https://git.bioconductor.org/packages/QFeatures
git_branch: RELEASE_3_14
git_last_commit: 7a02fd7
git_last_commit_date: 2021-10-26 13:01:52 -0500 (Tue, 26 Oct 2021)
nebbiolo2Linux (Ubuntu 20.04.4 LTS) / x86_64  OK    OK    OK  UNNEEDED, same version is already published
tokay2Windows Server 2012 R2 Standard / x64  OK    OK    OK    OK  UNNEEDED, same version is already published
machv2macOS 10.14.6 Mojave / x86_64  OK    OK    OK    OK  UNNEEDED, same version is already published

Summary

Package: QFeatures
Version: 1.4.0
Command: C:\cygwin\bin\curl.exe -O http://155.52.207.166/BBS/3.14/bioc/src/contrib/QFeatures_1.4.0.tar.gz && rm -rf QFeatures.buildbin-libdir && mkdir QFeatures.buildbin-libdir && C:\Users\biocbuild\bbs-3.14-bioc\R\bin\R.exe CMD INSTALL --merge-multiarch --build --library=QFeatures.buildbin-libdir QFeatures_1.4.0.tar.gz && C:\Users\biocbuild\bbs-3.14-bioc\R\bin\R.exe CMD INSTALL QFeatures_1.4.0.zip && rm QFeatures_1.4.0.tar.gz QFeatures_1.4.0.zip
StartedAt: 2022-01-13 06:03:53 -0500 (Thu, 13 Jan 2022)
EndedAt: 2022-01-13 06:05:35 -0500 (Thu, 13 Jan 2022)
EllapsedTime: 102.3 seconds
RetCode: 0
Status:   OK  

Command output

##############################################################################
##############################################################################
###
### Running command:
###
###   C:\cygwin\bin\curl.exe -O http://155.52.207.166/BBS/3.14/bioc/src/contrib/QFeatures_1.4.0.tar.gz && rm -rf QFeatures.buildbin-libdir && mkdir QFeatures.buildbin-libdir && C:\Users\biocbuild\bbs-3.14-bioc\R\bin\R.exe CMD INSTALL --merge-multiarch --build --library=QFeatures.buildbin-libdir QFeatures_1.4.0.tar.gz && C:\Users\biocbuild\bbs-3.14-bioc\R\bin\R.exe CMD INSTALL QFeatures_1.4.0.zip && rm QFeatures_1.4.0.tar.gz QFeatures_1.4.0.zip
###
##############################################################################
##############################################################################


  % Total    % Received % Xferd  Average Speed   Time    Time     Time  Current
                                 Dload  Upload   Total   Spent    Left  Speed

  0     0    0     0    0     0      0      0 --:--:-- --:--:-- --:--:--     0
100  679k  100  679k    0     0  3225k      0 --:--:-- --:--:-- --:--:-- 3234k

install for i386

* installing *source* package 'QFeatures' ...
** using staged installation
** R
** data
*** moving datasets to lazyload DB
** inst
** byte-compile and prepare package for lazy loading
Creating a new generic function for 'sweep' in package 'QFeatures'
** help
*** installing help indices
  converting help for package 'QFeatures'
    finding HTML links ... done
    AllGenerics                             html  
    AssayLinks                              html  
REDIRECT:topic	 Previous alias or file overwritten by alias: C:/Users/biocbuild/bbs-3.14-bioc/meat/QFeatures.buildbin-libdir/00LOCK-QFeatures/00new/QFeatures/help/assayLink.html
REDIRECT:topic	 Previous alias or file overwritten by alias: C:/Users/biocbuild/bbs-3.14-bioc/meat/QFeatures.buildbin-libdir/00LOCK-QFeatures/00new/QFeatures/help/assayLinks.html
    QFeatures-aggregate                     html  
    finding level-2 HTML links ... done

    QFeatures-class                         html  
    QFeatures-filtering                     html  
    QFeatures-missing-data                  html  
    QFeatures-processing                    html  
    QFeatures-subsetBy                      html  
    countUniqueFeatures                     html  
    display                                 html  
    feat1                                   html  
    feat3                                   html  
    hlpsms                                  html  
    impute                                  html  
    joinAssays                              html  
    readQFeatures                           html  
    reduceDataFrame                         html  
** building package indices
** installing vignettes
** testing if installed package can be loaded from temporary location
** testing if installed package can be loaded from final location
** testing if installed package keeps a record of temporary installation path

install for x64

* installing *source* package 'QFeatures' ...
** testing if installed package can be loaded
* MD5 sums
packaged installation of 'QFeatures' as QFeatures_1.4.0.zip
* DONE (QFeatures)
* installing to library 'C:/Users/biocbuild/bbs-3.14-bioc/R/library'
package 'QFeatures' successfully unpacked and MD5 sums checked