Back to Multiple platform build/check report for BioC 3.14
ABCDEFGHIJKLMNO[P]QRSTUVWXYZ

This page was generated on 2022-01-26 13:07:09 -0500 (Wed, 26 Jan 2022).

HostnameOSArch (*)R versionInstalled pkgs
nebbiolo2Linux (Ubuntu 20.04.4 LTS)x86_644.1.2 (2021-11-01) -- "Bird Hippie" 4329
tokay2Windows Server 2012 R2 Standardx644.1.2 (2021-11-01) -- "Bird Hippie" 4080
machv2macOS 10.14.6 Mojavex86_644.1.2 (2021-11-01) -- "Bird Hippie" 4141
Click on any hostname to see more info about the system (e.g. compilers)      (*) as reported by 'uname -p', except on Windows and Mac OS X

BUILD BIN results for Pviz on tokay2


To the developers/maintainers of the Pviz package:
- Please allow up to 24 hours (and sometimes 48 hours) for your latest push to git@git.bioconductor.org:packages/Pviz.git to
reflect on this report. See How and When does the builder pull? When will my changes propagate? here for more information.
- Make sure to use the following settings in order to reproduce any error or warning you see on this page.

raw results

Package 1490/2083HostnameOS / ArchINSTALLBUILDCHECKBUILD BIN
Pviz 1.28.0  (landing page)
Renan Sauteraud
Snapshot Date: 2022-01-25 01:55:07 -0500 (Tue, 25 Jan 2022)
git_url: https://git.bioconductor.org/packages/Pviz
git_branch: RELEASE_3_14
git_last_commit: 18cff4d
git_last_commit_date: 2021-10-26 12:14:31 -0500 (Tue, 26 Oct 2021)
nebbiolo2Linux (Ubuntu 20.04.4 LTS) / x86_64  OK    OK    OK  UNNEEDED, same version is already published
tokay2Windows Server 2012 R2 Standard / x64  OK    OK    OK    OK  UNNEEDED, same version is already published
machv2macOS 10.14.6 Mojave / x86_64  OK    OK    OK    OK  UNNEEDED, same version is already published

Summary

Package: Pviz
Version: 1.28.0
Command: rm -rf Pviz.buildbin-libdir && mkdir Pviz.buildbin-libdir && C:\Users\biocbuild\bbs-3.14-bioc\R\bin\R.exe CMD INSTALL --merge-multiarch --build --library=Pviz.buildbin-libdir Pviz_1.28.0.tar.gz
StartedAt: 2022-01-26 06:49:49 -0500 (Wed, 26 Jan 2022)
EndedAt: 2022-01-26 06:51:26 -0500 (Wed, 26 Jan 2022)
EllapsedTime: 97.3 seconds
RetCode: 0
Status:   OK  
PackageFile: Pviz_1.28.0.zip
PackageFileSize: 672 KiB

Command output

##############################################################################
##############################################################################
###
### Running command:
###
###   rm -rf Pviz.buildbin-libdir && mkdir Pviz.buildbin-libdir && C:\Users\biocbuild\bbs-3.14-bioc\R\bin\R.exe CMD INSTALL --merge-multiarch --build --library=Pviz.buildbin-libdir Pviz_1.28.0.tar.gz
###
##############################################################################
##############################################################################



install for i386

* installing *source* package 'Pviz' ...
** using staged installation
** R
** inst
** byte-compile and prepare package for lazy loading
** help
*** installing help indices
  converting help for package 'Pviz'
    finding HTML links ... done
    ATrack                                  html  
    finding level-2 HTML links ... done

    CladeTrack                              html  
    DTrack                                  html  
    ProbeTrack                              html  
    ProteinAxisTrack                        html  
    ProteinSequenceTrack                    html  
    plot_clade                              html  
    plot_inter                              html  
** building package indices
** installing vignettes
** testing if installed package can be loaded from temporary location
** testing if installed package can be loaded from final location
** testing if installed package keeps a record of temporary installation path

install for x64

* installing *source* package 'Pviz' ...
** testing if installed package can be loaded
* MD5 sums
packaged installation of 'Pviz' as Pviz_1.28.0.zip
* DONE (Pviz)