Back to Multiple platform build/check report for BioC 3.14
ABCDEFGHIJKLMNO[P]QRSTUVWXYZ

This page was generated on 2022-01-19 13:08:36 -0500 (Wed, 19 Jan 2022).

HostnameOSArch (*)R versionInstalled pkgs
nebbiolo2Linux (Ubuntu 20.04.4 LTS)x86_644.1.2 (2021-11-01) -- "Bird Hippie" 4328
tokay2Windows Server 2012 R2 Standardx644.1.2 (2021-11-01) -- "Bird Hippie" 4077
machv2macOS 10.14.6 Mojavex86_644.1.2 (2021-11-01) -- "Bird Hippie" 4138
Click on any hostname to see more info about the system (e.g. compilers)      (*) as reported by 'uname -p', except on Windows and Mac OS X

CHECK results for Pviz on machv2


To the developers/maintainers of the Pviz package:
- Please allow up to 24 hours (and sometimes 48 hours) for your latest push to git@git.bioconductor.org:packages/Pviz.git to
reflect on this report. See How and When does the builder pull? When will my changes propagate? here for more information.
- Make sure to use the following settings in order to reproduce any error or warning you see on this page.

raw results

Package 1490/2083HostnameOS / ArchINSTALLBUILDCHECKBUILD BIN
Pviz 1.28.0  (landing page)
Renan Sauteraud
Snapshot Date: 2022-01-18 01:55:07 -0500 (Tue, 18 Jan 2022)
git_url: https://git.bioconductor.org/packages/Pviz
git_branch: RELEASE_3_14
git_last_commit: 18cff4d
git_last_commit_date: 2021-10-26 12:14:31 -0500 (Tue, 26 Oct 2021)
nebbiolo2Linux (Ubuntu 20.04.4 LTS) / x86_64  OK    OK    OK  UNNEEDED, same version is already published
tokay2Windows Server 2012 R2 Standard / x64  OK    OK    OK    OK  UNNEEDED, same version is already published
machv2macOS 10.14.6 Mojave / x86_64  OK    OK    OK    OK  UNNEEDED, same version is already published

Summary

Package: Pviz
Version: 1.28.0
Command: /Library/Frameworks/R.framework/Resources/bin/R CMD check --install=check:Pviz.install-out.txt --library=/Library/Frameworks/R.framework/Resources/library --no-vignettes --timings Pviz_1.28.0.tar.gz
StartedAt: 2022-01-18 16:46:25 -0500 (Tue, 18 Jan 2022)
EndedAt: 2022-01-18 16:53:21 -0500 (Tue, 18 Jan 2022)
EllapsedTime: 415.8 seconds
RetCode: 0
Status:   OK  
CheckDir: Pviz.Rcheck
Warnings: 0

Command output

##############################################################################
##############################################################################
###
### Running command:
###
###   /Library/Frameworks/R.framework/Resources/bin/R CMD check --install=check:Pviz.install-out.txt --library=/Library/Frameworks/R.framework/Resources/library --no-vignettes --timings Pviz_1.28.0.tar.gz
###
##############################################################################
##############################################################################


* using log directory ‘/Users/biocbuild/bbs-3.14-bioc/meat/Pviz.Rcheck’
* using R version 4.1.2 (2021-11-01)
* using platform: x86_64-apple-darwin17.0 (64-bit)
* using session charset: UTF-8
* using option ‘--no-vignettes’
* checking for file ‘Pviz/DESCRIPTION’ ... OK
* checking extension type ... Package
* this is package ‘Pviz’ version ‘1.28.0’
* checking package namespace information ... OK
* checking package dependencies ... OK
* checking if this is a source package ... OK
* checking if there is a namespace ... OK
* checking for hidden files and directories ... OK
* checking for portable file names ... OK
* checking for sufficient/correct file permissions ... OK
* checking whether package ‘Pviz’ can be installed ... OK
* checking installed package size ... OK
* checking package directory ... OK
* checking ‘build’ directory ... OK
* checking DESCRIPTION meta-information ... OK
* checking top-level files ... OK
* checking for left-over files ... OK
* checking index information ... OK
* checking package subdirectories ... OK
* checking R files for non-ASCII characters ... OK
* checking R files for syntax errors ... OK
* checking whether the package can be loaded ... OK
* checking whether the package can be loaded with stated dependencies ... OK
* checking whether the package can be unloaded cleanly ... OK
* checking whether the namespace can be loaded with stated dependencies ... OK
* checking whether the namespace can be unloaded cleanly ... OK
* checking dependencies in R code ... OK
* checking S3 generic/method consistency ... OK
* checking replacement functions ... OK
* checking foreign function calls ... OK
* checking R code for possible problems ... NOTE
.makeParMapping: no visible global function definition for
  'assignInNamespace'
drawGD,ProbeTrack: no visible global function definition for
  'pushViewport'
drawGD,ProbeTrack: no visible global function definition for 'viewport'
drawGD,ProbeTrack: no visible global function definition for
  'popViewport'
drawGD,ProbeTrack: no visible global function definition for 'unit'
drawGD,ProbeTrack: no visible global function definition for 'gpar'
drawGD,ProbeTrack: no visible global function definition for
  'convertWidth'
drawGD,ProbeTrack: no visible global function definition for
  'stringWidth'
drawGD,ProbeTrack: no visible global function definition for
  'stringHeight'
drawGD,ProbeTrack: no visible global function definition for
  'grid.text'
drawGD,ProbeTrack: no visible global function definition for
  'grid.rect'
drawGD,ProbeTrack: no visible global function definition for
  'dataViewport'
drawGD,ProbeTrack : <anonymous>: no visible global function definition
  for 'grid.rect'
drawGD,ProbeTrack : <anonymous>: no visible global function definition
  for 'gpar'
drawGD,ProbeTrack : <anonymous>: no visible global function definition
  for 'grid.text'
drawGD,ProteinAxisTrack: no visible global function definition for
  'pushViewport'
drawGD,ProteinAxisTrack: no visible global function definition for
  'dataViewport'
drawGD,ProteinAxisTrack: no visible global function definition for
  'convertHeight'
drawGD,ProteinAxisTrack: no visible global function definition for
  'stringHeight'
drawGD,ProteinAxisTrack: no visible global function definition for
  'popViewport'
drawGD,ProteinAxisTrack: no visible global function definition for
  '.getGapPos'
drawGD,ProteinAxisTrack: no visible global function definition for
  'gaps'
drawGD,ProteinAxisTrack: no visible global function definition for
  'viewport'
drawGD,ProteinAxisTrack: no visible global function definition for
  'grid.segments'
drawGD,ProteinAxisTrack: no visible global function definition for
  'gpar'
drawGD,ProteinAxisTrack: no visible global function definition for
  'coord2ext'
drawGD,ProteinAxisTrack: no visible global function definition for
  'grid.text'
drawGD,ProteinAxisTrack: no visible global function definition for
  'convertWidth'
drawGD,ProteinAxisTrack: no visible global function definition for
  'stringWidth'
drawGD,ProteinSequenceTrack: no visible global function definition for
  'pushViewport'
drawGD,ProteinSequenceTrack: no visible global function definition for
  'dataViewport'
drawGD,ProteinSequenceTrack: no visible global function definition for
  'gpar'
drawGD,ProteinSequenceTrack: no visible global function definition for
  'popViewport'
drawGD,ProteinSequenceTrack: no visible global function definition for
  'convertUnit'
drawGD,ProteinSequenceTrack: no visible global function definition for
  'stringWidth'
drawGD,ProteinSequenceTrack: no visible global function definition for
  'grid.lines'
drawGD,ProteinSequenceTrack: no visible global function definition for
  'unit'
drawGD,ProteinSequenceTrack: no visible global function definition for
  'grid.text'
drawGD,ProteinSequenceTrack: no visible global function definition for
  'grid.rect'
Undefined global functions or variables:
  .getGapPos assignInNamespace convertHeight convertUnit convertWidth
  coord2ext dataViewport gaps gpar grid.lines grid.rect grid.segments
  grid.text popViewport pushViewport stringHeight stringWidth unit
  viewport
Consider adding
  importFrom("utils", "assignInNamespace")
to your NAMESPACE file.
* checking Rd files ... OK
* checking Rd metadata ... OK
* checking Rd cross-references ... OK
* checking for missing documentation entries ... OK
* checking for code/documentation mismatches ... OK
* checking Rd \usage sections ... OK
* checking Rd contents ... OK
* checking for unstated dependencies in examples ... OK
* checking sizes of PDF files under ‘inst/doc’ ... OK
* checking installed files from ‘inst/doc’ ... OK
* checking files in ‘vignettes’ ... OK
* checking examples ... OK
* checking for unstated dependencies in vignettes ... OK
* checking package vignettes in ‘inst/doc’ ... OK
* checking running R code from vignettes ... SKIPPED
* checking re-building of vignette outputs ... SKIPPED
* checking PDF version of manual ... OK
* DONE

Status: 1 NOTE
See
  ‘/Users/biocbuild/bbs-3.14-bioc/meat/Pviz.Rcheck/00check.log’
for details.



Installation output

Pviz.Rcheck/00install.out

##############################################################################
##############################################################################
###
### Running command:
###
###   /Library/Frameworks/R.framework/Resources/bin/R CMD INSTALL Pviz
###
##############################################################################
##############################################################################


* installing to library ‘/Library/Frameworks/R.framework/Versions/4.1/Resources/library’
* installing *source* package ‘Pviz’ ...
** using staged installation
** R
** inst
** byte-compile and prepare package for lazy loading
** help
*** installing help indices
** building package indices
** installing vignettes
   ‘Pviz.Rnw’ 
** testing if installed package can be loaded from temporary location
** testing if installed package can be loaded from final location
** testing if installed package keeps a record of temporary installation path
* DONE (Pviz)

Tests output


Example timings

Pviz.Rcheck/Pviz-Ex.timings

nameusersystemelapsed
ATrack4.4780.1094.589
CladeTrack1.5940.0531.649
DTrack0.1890.0040.193
ProbeTrack4.1240.1284.255
ProteinAxisTrack0.7060.0050.711
ProteinSequenceTrack0.3530.0060.361
plot_clade2.2090.0192.229
plot_inter1.2670.0101.280