Back to Multiple platform build/check report for BioC 3.14
ABCDEFGHIJKLMNO[P]QRSTUVWXYZ

This page was generated on 2022-01-21 13:06:50 -0500 (Fri, 21 Jan 2022).

HostnameOSArch (*)R versionInstalled pkgs
nebbiolo2Linux (Ubuntu 20.04.4 LTS)x86_644.1.2 (2021-11-01) -- "Bird Hippie" 4329
tokay2Windows Server 2012 R2 Standardx644.1.2 (2021-11-01) -- "Bird Hippie" 4079
machv2macOS 10.14.6 Mojavex86_644.1.2 (2021-11-01) -- "Bird Hippie" 4140
Click on any hostname to see more info about the system (e.g. compilers)      (*) as reported by 'uname -p', except on Windows and Mac OS X

INSTALL results for PharmacoGx on tokay2


To the developers/maintainers of the PharmacoGx package:
- Please allow up to 24 hours (and sometimes 48 hours) for your latest push to git@git.bioconductor.org:packages/PharmacoGx.git to
reflect on this report. See How and When does the builder pull? When will my changes propagate? here for more information.
- Make sure to use the following settings in order to reproduce any error or warning you see on this page.

raw results

Package 1404/2083HostnameOS / ArchINSTALLBUILDCHECKBUILD BIN
PharmacoGx 2.6.0  (landing page)
Benjamin Haibe-Kains
Snapshot Date: 2022-01-20 01:55:04 -0500 (Thu, 20 Jan 2022)
git_url: https://git.bioconductor.org/packages/PharmacoGx
git_branch: RELEASE_3_14
git_last_commit: 0cb3c82
git_last_commit_date: 2021-10-26 12:29:36 -0500 (Tue, 26 Oct 2021)
nebbiolo2Linux (Ubuntu 20.04.4 LTS) / x86_64  OK    OK    OK  UNNEEDED, same version is already published
tokay2Windows Server 2012 R2 Standard / x64  OK    OK    OK    OK  UNNEEDED, same version is already published
machv2macOS 10.14.6 Mojave / x86_64  OK    OK    OK    OK  UNNEEDED, same version is already published

Summary

Package: PharmacoGx
Version: 2.6.0
Command: C:\cygwin\bin\curl.exe -O http://155.52.207.166/BBS/3.14/bioc/src/contrib/PharmacoGx_2.6.0.tar.gz && rm -rf PharmacoGx.buildbin-libdir && mkdir PharmacoGx.buildbin-libdir && C:\Users\biocbuild\bbs-3.14-bioc\R\bin\R.exe CMD INSTALL --merge-multiarch --build --library=PharmacoGx.buildbin-libdir PharmacoGx_2.6.0.tar.gz && C:\Users\biocbuild\bbs-3.14-bioc\R\bin\R.exe CMD INSTALL PharmacoGx_2.6.0.zip && rm PharmacoGx_2.6.0.tar.gz PharmacoGx_2.6.0.zip
StartedAt: 2022-01-20 05:52:32 -0500 (Thu, 20 Jan 2022)
EndedAt: 2022-01-20 05:55:51 -0500 (Thu, 20 Jan 2022)
EllapsedTime: 199.0 seconds
RetCode: 0
Status:   OK  

Command output

##############################################################################
##############################################################################
###
### Running command:
###
###   C:\cygwin\bin\curl.exe -O http://155.52.207.166/BBS/3.14/bioc/src/contrib/PharmacoGx_2.6.0.tar.gz && rm -rf PharmacoGx.buildbin-libdir && mkdir PharmacoGx.buildbin-libdir && C:\Users\biocbuild\bbs-3.14-bioc\R\bin\R.exe CMD INSTALL --merge-multiarch --build --library=PharmacoGx.buildbin-libdir PharmacoGx_2.6.0.tar.gz && C:\Users\biocbuild\bbs-3.14-bioc\R\bin\R.exe CMD INSTALL PharmacoGx_2.6.0.zip && rm PharmacoGx_2.6.0.tar.gz PharmacoGx_2.6.0.zip
###
##############################################################################
##############################################################################


  % Total    % Received % Xferd  Average Speed   Time    Time     Time  Current
                                 Dload  Upload   Total   Spent    Left  Speed

  0     0    0     0    0     0      0      0 --:--:-- --:--:-- --:--:--     0
 92 3577k   92 3324k    0     0  3558k      0  0:00:01 --:--:--  0:00:01 3559k
100 3577k  100 3577k    0     0  3680k      0 --:--:-- --:--:-- --:--:-- 3680k

install for i386

* installing *source* package 'PharmacoGx' ...
** using staged installation
** R
** data
** inst
** byte-compile and prepare package for lazy loading
** help
*** installing help indices
  converting help for package 'PharmacoGx'
    finding HTML links ... done
    CCLEsmall                               html  
    CMAPsmall                               html  
    GDSCsmall                               html  
    HDAC_genes                              html  
    PharmacoSet-accessors                   html  
    PharmacoSet-class                       html  
    PharmacoSet-utils                       html  
    PharmacoSet                             html  
    PharmacoSet2                            html  
    PharmacoSig                             html  
    amcc                                    html  
    availablePSets                          html  
    callingWaterfall                        html  
    checkPsetStructure                      html  
    computeABC                              html  
    computeAUC                              html  
    computeAmax                             html  
    computeICn                              html  
    computeSlope                            html  
    connectivityScore                       html  
    cosinePerm                              html  
    dim-PharmacoSet-method                  html  
    dot-summarizeSensProfiles               html  
    downloadPSet                            html  
    downloadPertSig                         html  
    drugDoseResponseCurve                   html  
    drugInfo-set                            html  
    drugInfo                                html  
    drugNames-set                           html  
    drugNames                               html  
    drugPerturbationSig                     html  
    drugSensitivitySig-PharmacoSet-method   html  
    filterNoisyCurves                       html  
    geneDrugSensitivity                     html  
    gwc                                     html  
    intersectPSet                           html  
    logLogisticRegression                   html  
    mcc                                     html  
    plot.PharmacoSig                        html  
    show-PharmacoSet-method                 html  
    show-PharmacoSig-method                 html  
    showSigAnnot-PharmacoSig-method         html  
    sub-PharmacoSet-ANY-ANY-ANY-method      html  
    subsetTo-PharmacoSet-method             html  
    summarizeMolecularProfiles-PharmacoSet-method
                                            html  
    summarizeSensitivityProfiles-PharmacoSet-method
                                            html  
** building package indices
** installing vignettes
** testing if installed package can be loaded from temporary location
** testing if installed package can be loaded from final location
** testing if installed package keeps a record of temporary installation path

install for x64

* installing *source* package 'PharmacoGx' ...
** testing if installed package can be loaded
* MD5 sums
packaged installation of 'PharmacoGx' as PharmacoGx_2.6.0.zip
* DONE (PharmacoGx)
* installing to library 'C:/Users/biocbuild/bbs-3.14-bioc/R/library'
package 'PharmacoGx' successfully unpacked and MD5 sums checked