Back to Multiple platform build/check report for BioC 3.14
ABCDEFGHIJKLMNO[P]QRSTUVWXYZ

This page was generated on 2022-01-24 13:06:46 -0500 (Mon, 24 Jan 2022).

HostnameOSArch (*)R versionInstalled pkgs
nebbiolo2Linux (Ubuntu 20.04.4 LTS)x86_644.1.2 (2021-11-01) -- "Bird Hippie" 4329
tokay2Windows Server 2012 R2 Standardx644.1.2 (2021-11-01) -- "Bird Hippie" 4080
machv2macOS 10.14.6 Mojavex86_644.1.2 (2021-11-01) -- "Bird Hippie" 4141
Click on any hostname to see more info about the system (e.g. compilers)      (*) as reported by 'uname -p', except on Windows and Mac OS X

INSTALL results for POMA on tokay2


To the developers/maintainers of the POMA package:
- Please allow up to 24 hours (and sometimes 48 hours) for your latest push to git@git.bioconductor.org:packages/POMA.git to
reflect on this report. See How and When does the builder pull? When will my changes propagate? here for more information.
- Make sure to use the following settings in order to reproduce any error or warning you see on this page.

raw results

Package 1440/2083HostnameOS / ArchINSTALLBUILDCHECKBUILD BIN
POMA 1.4.0  (landing page)
Pol Castellano-Escuder
Snapshot Date: 2022-01-23 01:55:04 -0500 (Sun, 23 Jan 2022)
git_url: https://git.bioconductor.org/packages/POMA
git_branch: RELEASE_3_14
git_last_commit: c549d40
git_last_commit_date: 2021-10-26 13:01:27 -0500 (Tue, 26 Oct 2021)
nebbiolo2Linux (Ubuntu 20.04.4 LTS) / x86_64  OK    OK    OK  UNNEEDED, same version is already published
tokay2Windows Server 2012 R2 Standard / x64  OK    OK    OK    OK  UNNEEDED, same version is already published
machv2macOS 10.14.6 Mojave / x86_64  OK    OK    OK    OK  UNNEEDED, same version is already published

Summary

Package: POMA
Version: 1.4.0
Command: C:\cygwin\bin\curl.exe -O http://155.52.207.166/BBS/3.14/bioc/src/contrib/POMA_1.4.0.tar.gz && rm -rf POMA.buildbin-libdir && mkdir POMA.buildbin-libdir && C:\Users\biocbuild\bbs-3.14-bioc\R\bin\R.exe CMD INSTALL --merge-multiarch --build --library=POMA.buildbin-libdir POMA_1.4.0.tar.gz && C:\Users\biocbuild\bbs-3.14-bioc\R\bin\R.exe CMD INSTALL POMA_1.4.0.zip && rm POMA_1.4.0.tar.gz POMA_1.4.0.zip
StartedAt: 2022-01-23 06:47:35 -0500 (Sun, 23 Jan 2022)
EndedAt: 2022-01-23 06:49:12 -0500 (Sun, 23 Jan 2022)
EllapsedTime: 96.9 seconds
RetCode: 0
Status:   OK  

Command output

##############################################################################
##############################################################################
###
### Running command:
###
###   C:\cygwin\bin\curl.exe -O http://155.52.207.166/BBS/3.14/bioc/src/contrib/POMA_1.4.0.tar.gz && rm -rf POMA.buildbin-libdir && mkdir POMA.buildbin-libdir && C:\Users\biocbuild\bbs-3.14-bioc\R\bin\R.exe CMD INSTALL --merge-multiarch --build --library=POMA.buildbin-libdir POMA_1.4.0.tar.gz && C:\Users\biocbuild\bbs-3.14-bioc\R\bin\R.exe CMD INSTALL POMA_1.4.0.zip && rm POMA_1.4.0.tar.gz POMA_1.4.0.zip
###
##############################################################################
##############################################################################


  % Total    % Received % Xferd  Average Speed   Time    Time     Time  Current
                                 Dload  Upload   Total   Spent    Left  Speed

  0     0    0     0    0     0      0      0 --:--:-- --:--:-- --:--:--     0
 96  315k   96  305k    0     0  1014k      0 --:--:-- --:--:-- --:--:-- 1015k
100  315k  100  315k    0     0  1044k      0 --:--:-- --:--:-- --:--:-- 1043k

install for i386

* installing *source* package 'POMA' ...
** using staged installation
** R
** data
*** moving datasets to lazyload DB
** inst
** byte-compile and prepare package for lazy loading
** help
*** installing help indices
  converting help for package 'POMA'
    finding HTML links ... done
    PomaBoxplots                            html  
    PomaClust                               html  
    PomaCorr                                html  
    PomaDensity                             html  
    PomaEDA                                 html  
    PomaHeatmap                             html  
    PomaImpute                              html  
    PomaLasso                               html  
    PomaLimma                               html  
    PomaMSnSetClass                         html  
    PomaMultivariate                        html  
    PomaNorm                                html  
    PomaOddsRatio                           html  
    PomaOutliers                            html  
    PomaRandForest                          html  
    PomaRankProd                            html  
    PomaUnivariate                          html  
    PomaVolcano                             html  
    pipe                                    html  
    st000284                                html  
    st000336                                html  
*** copying figures
** building package indices
** installing vignettes
** testing if installed package can be loaded from temporary location
** testing if installed package can be loaded from final location
** testing if installed package keeps a record of temporary installation path

install for x64

* installing *source* package 'POMA' ...
** testing if installed package can be loaded
* MD5 sums
packaged installation of 'POMA' as POMA_1.4.0.zip
* DONE (POMA)
* installing to library 'C:/Users/biocbuild/bbs-3.14-bioc/R/library'
package 'POMA' successfully unpacked and MD5 sums checked