Back to Multiple platform build/check report for BioC 3.14
ABCDEFGHIJKLMNO[P]QRSTUVWXYZ

This page was generated on 2021-12-01 17:17:32 -0500 (Wed, 01 Dec 2021).

CHECK results for PCAtools on nebbiolo2

To the developers/maintainers of the PCAtools package:
- Please allow up to 24 hours (and sometimes 48 hours) for your latest push to git@git.bioconductor.org:packages/PCAtools.git to
reflect on this report. See How and When does the builder pull? When will my changes propagate? here for more information.
- Make sure to use the following settings in order to reproduce any error or warning you see on this page.

raw results

Package 1386/2083HostnameOS / ArchINSTALLBUILDCHECKBUILD BIN
PCAtools 2.6.0  (landing page)
Kevin Blighe
Snapshot Date: 2021-11-30 04:15:05 -0500 (Tue, 30 Nov 2021)
git_url: https://git.bioconductor.org/packages/PCAtools
git_branch: RELEASE_3_14
git_last_commit: 9c497b5
git_last_commit_date: 2021-10-26 12:48:53 -0500 (Tue, 26 Oct 2021)
nebbiolo2Linux (Ubuntu 20.04.3 LTS) / x86_64  OK    OK    OK  UNNEEDED, same version is already published
tokay2Windows Server 2012 R2 Standard / x64  OK    OK    OK    OK  UNNEEDED, same version is already published
machv2macOS 10.14.6 Mojave / x86_64  OK    OK    OK    OK  UNNEEDED, same version is already published

Summary

Package: PCAtools
Version: 2.6.0
Command: /home/biocbuild/bbs-3.14-bioc/R/bin/R CMD check --install=check:PCAtools.install-out.txt --library=/home/biocbuild/bbs-3.14-bioc/R/library --no-vignettes --timings PCAtools_2.6.0.tar.gz
StartedAt: 2021-11-30 10:18:42 -0500 (Tue, 30 Nov 2021)
EndedAt: 2021-11-30 10:22:00 -0500 (Tue, 30 Nov 2021)
EllapsedTime: 197.8 seconds
RetCode: 0
Status:   OK  
CheckDir: PCAtools.Rcheck
Warnings: 0

Command output

##############################################################################
##############################################################################
###
### Running command:
###
###   /home/biocbuild/bbs-3.14-bioc/R/bin/R CMD check --install=check:PCAtools.install-out.txt --library=/home/biocbuild/bbs-3.14-bioc/R/library --no-vignettes --timings PCAtools_2.6.0.tar.gz
###
##############################################################################
##############################################################################


* using log directory ‘/home/biocbuild/bbs-3.14-bioc/meat/PCAtools.Rcheck’
* using R version 4.1.2 (2021-11-01)
* using platform: x86_64-pc-linux-gnu (64-bit)
* using session charset: UTF-8
* using option ‘--no-vignettes’
* checking for file ‘PCAtools/DESCRIPTION’ ... OK
* checking extension type ... Package
* this is package ‘PCAtools’ version ‘2.6.0’
* package encoding: UTF-8
* checking package namespace information ... OK
* checking package dependencies ... OK
* checking if this is a source package ... OK
* checking if there is a namespace ... OK
* checking for hidden files and directories ... OK
* checking for portable file names ... OK
* checking for sufficient/correct file permissions ... OK
* checking whether package ‘PCAtools’ can be installed ... OK
* checking installed package size ... NOTE
  installed size is  5.1Mb
  sub-directories of 1Mb or more:
    libs   4.9Mb
* checking package directory ... OK
* checking ‘build’ directory ... OK
* checking DESCRIPTION meta-information ... OK
* checking top-level files ... OK
* checking for left-over files ... OK
* checking index information ... OK
* checking package subdirectories ... OK
* checking R files for non-ASCII characters ... OK
* checking R files for syntax errors ... OK
* checking whether the package can be loaded ... OK
* checking whether the package can be loaded with stated dependencies ... OK
* checking whether the package can be unloaded cleanly ... OK
* checking whether the namespace can be loaded with stated dependencies ... OK
* checking whether the namespace can be unloaded cleanly ... OK
* checking dependencies in R code ... OK
* checking S3 generic/method consistency ... OK
* checking replacement functions ... OK
* checking foreign function calls ... OK
* checking R code for possible problems ... OK
* checking Rd files ... OK
* checking Rd metadata ... OK
* checking Rd cross-references ... OK
* checking for missing documentation entries ... OK
* checking for code/documentation mismatches ... OK
* checking Rd \usage sections ... OK
* checking Rd contents ... OK
* checking for unstated dependencies in examples ... OK
* checking line endings in C/C++/Fortran sources/headers ... OK
* checking compiled code ... NOTE
Note: information on .o files is not available
* checking files in ‘vignettes’ ... OK
* checking examples ... OK
Examples with CPU (user + system) or elapsed time > 5s
     user system elapsed
pca 7.495  0.208   7.703
* checking for unstated dependencies in ‘tests’ ... OK
* checking tests ...
  Running ‘testthat.R’
 OK
* checking for unstated dependencies in vignettes ... OK
* checking package vignettes in ‘inst/doc’ ... OK
* checking running R code from vignettes ... SKIPPED
* checking re-building of vignette outputs ... SKIPPED
* checking PDF version of manual ... OK
* DONE

Status: 2 NOTEs
See
  ‘/home/biocbuild/bbs-3.14-bioc/meat/PCAtools.Rcheck/00check.log’
for details.



Installation output

PCAtools.Rcheck/00install.out

##############################################################################
##############################################################################
###
### Running command:
###
###   /home/biocbuild/bbs-3.14-bioc/R/bin/R CMD INSTALL PCAtools
###
##############################################################################
##############################################################################


* installing to library ‘/home/biocbuild/bbs-3.14-bioc/R/library’
* installing *source* package ‘PCAtools’ ...
** using staged installation
** libs
g++ -std=gnu++11 -I"/home/biocbuild/bbs-3.14-bioc/R/include" -DNDEBUG  -I'/home/biocbuild/bbs-3.14-bioc/R/library/Rcpp/include' -I'/home/biocbuild/bbs-3.14-bioc/R/library/beachmat/include' -I'/home/biocbuild/bbs-3.14-bioc/R/library/BH/include' -I'/home/biocbuild/bbs-3.14-bioc/R/library/dqrng/include' -I/usr/local/include   -fpic  -g -O2  -Wall -c RcppExports.cpp -o RcppExports.o
g++ -std=gnu++11 -I"/home/biocbuild/bbs-3.14-bioc/R/include" -DNDEBUG  -I'/home/biocbuild/bbs-3.14-bioc/R/library/Rcpp/include' -I'/home/biocbuild/bbs-3.14-bioc/R/library/beachmat/include' -I'/home/biocbuild/bbs-3.14-bioc/R/library/BH/include' -I'/home/biocbuild/bbs-3.14-bioc/R/library/dqrng/include' -I/usr/local/include   -fpic  -g -O2  -Wall -c shuffle_matrix.cpp -o shuffle_matrix.o
In file included from /home/biocbuild/bbs-3.14-bioc/R/library/BH/include/boost/mpl/aux_/na_assert.hpp:23,
                 from /home/biocbuild/bbs-3.14-bioc/R/library/BH/include/boost/mpl/arg.hpp:25,
                 from /home/biocbuild/bbs-3.14-bioc/R/library/BH/include/boost/mpl/placeholders.hpp:24,
                 from /home/biocbuild/bbs-3.14-bioc/R/library/BH/include/boost/mpl/apply.hpp:24,
                 from /home/biocbuild/bbs-3.14-bioc/R/library/BH/include/boost/mpl/aux_/iter_apply.hpp:17,
                 from /home/biocbuild/bbs-3.14-bioc/R/library/BH/include/boost/mpl/aux_/find_if_pred.hpp:14,
                 from /home/biocbuild/bbs-3.14-bioc/R/library/BH/include/boost/mpl/find_if.hpp:17,
                 from /home/biocbuild/bbs-3.14-bioc/R/library/BH/include/boost/mpl/find.hpp:17,
                 from /home/biocbuild/bbs-3.14-bioc/R/library/BH/include/boost/mpl/aux_/contains_impl.hpp:20,
                 from /home/biocbuild/bbs-3.14-bioc/R/library/BH/include/boost/mpl/contains.hpp:20,
                 from /home/biocbuild/bbs-3.14-bioc/R/library/BH/include/boost/math/policies/policy.hpp:10,
                 from /home/biocbuild/bbs-3.14-bioc/R/library/BH/include/boost/math/special_functions/math_fwd.hpp:29,
                 from /home/biocbuild/bbs-3.14-bioc/R/library/BH/include/boost/math/special_functions/fpclassify.hpp:19,
                 from /home/biocbuild/bbs-3.14-bioc/R/library/BH/include/boost/random/hyperexponential_distribution.hpp:22,
                 from /home/biocbuild/bbs-3.14-bioc/R/library/BH/include/boost/random.hpp:69,
                 from shuffle_matrix.cpp:4:
/home/biocbuild/bbs-3.14-bioc/R/library/BH/include/boost/mpl/assert.hpp:194:21: warning: unnecessary parentheses in declaration of ‘assert_arg’ [-Wparentheses]
  194 | failed ************ (Pred::************
      |                     ^
/home/biocbuild/bbs-3.14-bioc/R/library/BH/include/boost/mpl/assert.hpp:199:21: warning: unnecessary parentheses in declaration of ‘assert_not_arg’ [-Wparentheses]
  199 | failed ************ (boost::mpl::not_<Pred>::************
      |                     ^
g++ -std=gnu++11 -shared -L/home/biocbuild/bbs-3.14-bioc/R/lib -L/usr/local/lib -o PCAtools.so RcppExports.o shuffle_matrix.o -L/home/biocbuild/bbs-3.14-bioc/R/lib -lR
installing to /home/biocbuild/bbs-3.14-bioc/R/library/00LOCK-PCAtools/00new/PCAtools/libs
** R
** inst
** byte-compile and prepare package for lazy loading
** help
*** installing help indices
** building package indices
** installing vignettes
** testing if installed package can be loaded from temporary location
** checking absolute paths in shared objects and dynamic libraries
** testing if installed package can be loaded from final location
** testing if installed package keeps a record of temporary installation path
* DONE (PCAtools)

Tests output

PCAtools.Rcheck/tests/testthat.Rout


R version 4.1.2 (2021-11-01) -- "Bird Hippie"
Copyright (C) 2021 The R Foundation for Statistical Computing
Platform: x86_64-pc-linux-gnu (64-bit)

R is free software and comes with ABSOLUTELY NO WARRANTY.
You are welcome to redistribute it under certain conditions.
Type 'license()' or 'licence()' for distribution details.

R is a collaborative project with many contributors.
Type 'contributors()' for more information and
'citation()' on how to cite R or R packages in publications.

Type 'demo()' for some demos, 'help()' for on-line help, or
'help.start()' for an HTML browser interface to help.
Type 'q()' to quit R.

> library(testthat)
> library(scran)
Loading required package: SingleCellExperiment
Loading required package: SummarizedExperiment
Loading required package: MatrixGenerics
Loading required package: matrixStats

Attaching package: 'MatrixGenerics'

The following objects are masked from 'package:matrixStats':

    colAlls, colAnyNAs, colAnys, colAvgsPerRowSet, colCollapse,
    colCounts, colCummaxs, colCummins, colCumprods, colCumsums,
    colDiffs, colIQRDiffs, colIQRs, colLogSumExps, colMadDiffs,
    colMads, colMaxs, colMeans2, colMedians, colMins, colOrderStats,
    colProds, colQuantiles, colRanges, colRanks, colSdDiffs, colSds,
    colSums2, colTabulates, colVarDiffs, colVars, colWeightedMads,
    colWeightedMeans, colWeightedMedians, colWeightedSds,
    colWeightedVars, rowAlls, rowAnyNAs, rowAnys, rowAvgsPerColSet,
    rowCollapse, rowCounts, rowCummaxs, rowCummins, rowCumprods,
    rowCumsums, rowDiffs, rowIQRDiffs, rowIQRs, rowLogSumExps,
    rowMadDiffs, rowMads, rowMaxs, rowMeans2, rowMedians, rowMins,
    rowOrderStats, rowProds, rowQuantiles, rowRanges, rowRanks,
    rowSdDiffs, rowSds, rowSums2, rowTabulates, rowVarDiffs, rowVars,
    rowWeightedMads, rowWeightedMeans, rowWeightedMedians,
    rowWeightedSds, rowWeightedVars

Loading required package: GenomicRanges
Loading required package: stats4
Loading required package: BiocGenerics

Attaching package: 'BiocGenerics'

The following objects are masked from 'package:stats':

    IQR, mad, sd, var, xtabs

The following objects are masked from 'package:base':

    Filter, Find, Map, Position, Reduce, anyDuplicated, append,
    as.data.frame, basename, cbind, colnames, dirname, do.call,
    duplicated, eval, evalq, get, grep, grepl, intersect, is.unsorted,
    lapply, mapply, match, mget, order, paste, pmax, pmax.int, pmin,
    pmin.int, rank, rbind, rownames, sapply, setdiff, sort, table,
    tapply, union, unique, unsplit, which.max, which.min

Loading required package: S4Vectors

Attaching package: 'S4Vectors'

The following objects are masked from 'package:base':

    I, expand.grid, unname

Loading required package: IRanges
Loading required package: GenomeInfoDb
Loading required package: Biobase
Welcome to Bioconductor

    Vignettes contain introductory material; view with
    'browseVignettes()'. To cite Bioconductor, see
    'citation("Biobase")', and for packages 'citation("pkgname")'.


Attaching package: 'Biobase'

The following object is masked from 'package:MatrixGenerics':

    rowMedians

The following objects are masked from 'package:matrixStats':

    anyMissing, rowMedians

Loading required package: scuttle
> test_check("PCAtools")
Loading required package: PCAtools
Loading required package: ggplot2
Loading required package: ggrepel

Attaching package: 'PCAtools'

The following object is masked from 'package:scran':

    parallelPCA

The following objects are masked from 'package:stats':

    biplot, screeplot

══ Skipped tests ═══════════════════════════════════════════════════════════════
• missing lots of things (1)

[ FAIL 0 | WARN 2 | SKIP 1 | PASS 45 ]
> 
> proc.time()
   user  system elapsed 
 29.676   1.073  46.614 

Example timings

PCAtools.Rcheck/PCAtools-Ex.timings

nameusersystemelapsed
biplot4.4910.2114.703
chooseGavishDonoho0.1290.0000.129
chooseMarchenkoPastur0.0760.0040.080
eigencorplot0.8450.0520.897
findElbowPoint0.0220.0000.022
getComponents0.3170.0040.320
getLoadings1.1210.1201.241
getVars0.7790.0000.780
pairsplot2.5500.0352.586
parallelPCA2.0450.0252.068
pca7.4950.2087.703
plotloadings1.8390.0191.860
screeplot1.4830.0321.515