Back to Multiple platform build/check report for BioC 3.14
ABCDEFGHIJKLMNO[P]QRSTUVWXYZ

This page was generated on 2022-01-14 13:06:52 -0500 (Fri, 14 Jan 2022).

HostnameOSArch (*)R versionInstalled pkgs
nebbiolo2Linux (Ubuntu 20.04.4 LTS)x86_644.1.2 (2021-11-01) -- "Bird Hippie" 4327
tokay2Windows Server 2012 R2 Standardx644.1.2 (2021-11-01) -- "Bird Hippie" 4076
machv2macOS 10.14.6 Mojavex86_644.1.2 (2021-11-01) -- "Bird Hippie" 4137
Click on any hostname to see more info about the system (e.g. compilers)      (*) as reported by 'uname -p', except on Windows and Mac OS X

BUILD BIN results for PAIRADISE on tokay2


To the developers/maintainers of the PAIRADISE package:
- Please allow up to 24 hours (and sometimes 48 hours) for your latest push to git@git.bioconductor.org:packages/PAIRADISE.git to
reflect on this report. See How and When does the builder pull? When will my changes propagate? here for more information.
- Make sure to use the following settings in order to reproduce any error or warning you see on this page.

raw results

Package 1363/2083HostnameOS / ArchINSTALLBUILDCHECKBUILD BIN
PAIRADISE 1.10.0  (landing page)
Qiang Hu , Levon Demirdjian
Snapshot Date: 2022-01-13 01:55:04 -0500 (Thu, 13 Jan 2022)
git_url: https://git.bioconductor.org/packages/PAIRADISE
git_branch: RELEASE_3_14
git_last_commit: 96ce11a
git_last_commit_date: 2021-10-26 12:48:55 -0500 (Tue, 26 Oct 2021)
nebbiolo2Linux (Ubuntu 20.04.4 LTS) / x86_64  OK    OK    OK  UNNEEDED, same version is already published
tokay2Windows Server 2012 R2 Standard / x64  OK    OK    OK    OK  UNNEEDED, same version is already published
machv2macOS 10.14.6 Mojave / x86_64  OK    OK    OK    OK  UNNEEDED, same version is already published

Summary

Package: PAIRADISE
Version: 1.10.0
Command: rm -rf PAIRADISE.buildbin-libdir && mkdir PAIRADISE.buildbin-libdir && C:\Users\biocbuild\bbs-3.14-bioc\R\bin\R.exe CMD INSTALL --merge-multiarch --build --library=PAIRADISE.buildbin-libdir PAIRADISE_1.10.0.tar.gz
StartedAt: 2022-01-14 06:15:15 -0500 (Fri, 14 Jan 2022)
EndedAt: 2022-01-14 06:15:47 -0500 (Fri, 14 Jan 2022)
EllapsedTime: 31.9 seconds
RetCode: 0
Status:   OK  
PackageFile: PAIRADISE_1.10.0.zip
PackageFileSize: 386.7 KiB

Command output

##############################################################################
##############################################################################
###
### Running command:
###
###   rm -rf PAIRADISE.buildbin-libdir && mkdir PAIRADISE.buildbin-libdir && C:\Users\biocbuild\bbs-3.14-bioc\R\bin\R.exe CMD INSTALL --merge-multiarch --build --library=PAIRADISE.buildbin-libdir PAIRADISE_1.10.0.tar.gz
###
##############################################################################
##############################################################################



install for i386

* installing *source* package 'PAIRADISE' ...
** using staged installation
** R
** data
** inst
** byte-compile and prepare package for lazy loading
** help
*** installing help indices
  converting help for package 'PAIRADISE'
    finding HTML links ... done
    PAIRADISE                               html  
    PDseDataSet                             html  
    PDseDataSetFromMat                      html  
    clean.data                              html  
    counts                                  html  
    load.data                               html  
    logit                                   html  
    loglikelihood                           html  
    optimize1                               html  
    optimize2                               html  
    pairadise-FUN                           html  
REDIRECT:topic	 Previous alias or file overwritten by alias: C:/Users/biocbuild/bbs-3.14-bioc/meat/PAIRADISE.buildbin-libdir/00LOCK-PAIRADISE/00new/PAIRADISE/help/pairadise.html
    results                                 html  
    sample_dataset                          html  
    sigmoid                                 html  
** building package indices
** installing vignettes
** testing if installed package can be loaded from temporary location
** testing if installed package can be loaded from final location
** testing if installed package keeps a record of temporary installation path

install for x64

* installing *source* package 'PAIRADISE' ...
** testing if installed package can be loaded
* MD5 sums
packaged installation of 'PAIRADISE' as PAIRADISE_1.10.0.zip
* DONE (PAIRADISE)