Back to Multiple platform build/check report for BioC 3.14
ABCDEFGHIJKLMNO[P]QRSTUVWXYZ

This page was generated on 2022-01-17 13:06:44 -0500 (Mon, 17 Jan 2022).

HostnameOSArch (*)R versionInstalled pkgs
nebbiolo2Linux (Ubuntu 20.04.4 LTS)x86_644.1.2 (2021-11-01) -- "Bird Hippie" 4328
tokay2Windows Server 2012 R2 Standardx644.1.2 (2021-11-01) -- "Bird Hippie" 4077
machv2macOS 10.14.6 Mojavex86_644.1.2 (2021-11-01) -- "Bird Hippie" 4138
Click on any hostname to see more info about the system (e.g. compilers)      (*) as reported by 'uname -p', except on Windows and Mac OS X

INSTALL results for PADOG on tokay2


To the developers/maintainers of the PADOG package:
- Please allow up to 24 hours (and sometimes 48 hours) for your latest push to git@git.bioconductor.org:packages/PADOG.git to
reflect on this report. See How and When does the builder pull? When will my changes propagate? here for more information.
- Make sure to use the following settings in order to reproduce any error or warning you see on this page.

raw results

Package 1361/2083HostnameOS / ArchINSTALLBUILDCHECKBUILD BIN
PADOG 1.36.0  (landing page)
Adi L. Tarca
Snapshot Date: 2022-01-16 01:55:05 -0500 (Sun, 16 Jan 2022)
git_url: https://git.bioconductor.org/packages/PADOG
git_branch: RELEASE_3_14
git_last_commit: 8cac9c8
git_last_commit_date: 2021-10-26 12:04:03 -0500 (Tue, 26 Oct 2021)
nebbiolo2Linux (Ubuntu 20.04.4 LTS) / x86_64  OK    OK    OK  UNNEEDED, same version is already published
tokay2Windows Server 2012 R2 Standard / x64  OK    OK    OK    OK  UNNEEDED, same version is already published
machv2macOS 10.14.6 Mojave / x86_64  OK    OK    OK    OK  UNNEEDED, same version is already published

Summary

Package: PADOG
Version: 1.36.0
Command: C:\cygwin\bin\curl.exe -O http://155.52.207.166/BBS/3.14/bioc/src/contrib/PADOG_1.36.0.tar.gz && rm -rf PADOG.buildbin-libdir && mkdir PADOG.buildbin-libdir && C:\Users\biocbuild\bbs-3.14-bioc\R\bin\R.exe CMD INSTALL --merge-multiarch --build --library=PADOG.buildbin-libdir PADOG_1.36.0.tar.gz && C:\Users\biocbuild\bbs-3.14-bioc\R\bin\R.exe CMD INSTALL PADOG_1.36.0.zip && rm PADOG_1.36.0.tar.gz PADOG_1.36.0.zip
StartedAt: 2022-01-16 04:58:45 -0500 (Sun, 16 Jan 2022)
EndedAt: 2022-01-16 04:59:33 -0500 (Sun, 16 Jan 2022)
EllapsedTime: 47.9 seconds
RetCode: 0
Status:   OK  

Command output

##############################################################################
##############################################################################
###
### Running command:
###
###   C:\cygwin\bin\curl.exe -O http://155.52.207.166/BBS/3.14/bioc/src/contrib/PADOG_1.36.0.tar.gz && rm -rf PADOG.buildbin-libdir && mkdir PADOG.buildbin-libdir && C:\Users\biocbuild\bbs-3.14-bioc\R\bin\R.exe CMD INSTALL --merge-multiarch --build --library=PADOG.buildbin-libdir PADOG_1.36.0.tar.gz && C:\Users\biocbuild\bbs-3.14-bioc\R\bin\R.exe CMD INSTALL PADOG_1.36.0.zip && rm PADOG_1.36.0.tar.gz PADOG_1.36.0.zip
###
##############################################################################
##############################################################################


  % Total    % Received % Xferd  Average Speed   Time    Time     Time  Current
                                 Dload  Upload   Total   Spent    Left  Speed

  0     0    0     0    0     0      0      0 --:--:-- --:--:-- --:--:--     0
100 37681  100 37681    0     0   446k      0 --:--:-- --:--:-- --:--:--  454k

install for i386

* installing *source* package 'PADOG' ...
** using staged installation
** R
** byte-compile and prepare package for lazy loading
** help
*** installing help indices
  converting help for package 'PADOG'
    finding HTML links ... done
    compPADOG                               html  
    filteranot                              html  
    padog                                   html  
** building package indices
** installing vignettes
** testing if installed package can be loaded from temporary location
** testing if installed package can be loaded from final location
** testing if installed package keeps a record of temporary installation path

install for x64

* installing *source* package 'PADOG' ...
** testing if installed package can be loaded
* MD5 sums
packaged installation of 'PADOG' as PADOG_1.36.0.zip
* DONE (PADOG)
* installing to library 'C:/Users/biocbuild/bbs-3.14-bioc/R/library'
package 'PADOG' successfully unpacked and MD5 sums checked