Back to Multiple platform build/check report for BioC 3.14
ABCDEFGHIJKLMNO[P]QRSTUVWXYZ

This page was generated on 2022-01-26 13:07:03 -0500 (Wed, 26 Jan 2022).

HostnameOSArch (*)R versionInstalled pkgs
nebbiolo2Linux (Ubuntu 20.04.4 LTS)x86_644.1.2 (2021-11-01) -- "Bird Hippie" 4329
tokay2Windows Server 2012 R2 Standardx644.1.2 (2021-11-01) -- "Bird Hippie" 4080
machv2macOS 10.14.6 Mojavex86_644.1.2 (2021-11-01) -- "Bird Hippie" 4141
Click on any hostname to see more info about the system (e.g. compilers)      (*) as reported by 'uname -p', except on Windows and Mac OS X

CHECK results for PADOG on tokay2


To the developers/maintainers of the PADOG package:
- Please allow up to 24 hours (and sometimes 48 hours) for your latest push to git@git.bioconductor.org:packages/PADOG.git to
reflect on this report. See How and When does the builder pull? When will my changes propagate? here for more information.
- Make sure to use the following settings in order to reproduce any error or warning you see on this page.

raw results

Package 1361/2083HostnameOS / ArchINSTALLBUILDCHECKBUILD BIN
PADOG 1.36.0  (landing page)
Adi L. Tarca
Snapshot Date: 2022-01-25 01:55:07 -0500 (Tue, 25 Jan 2022)
git_url: https://git.bioconductor.org/packages/PADOG
git_branch: RELEASE_3_14
git_last_commit: 8cac9c8
git_last_commit_date: 2021-10-26 12:04:03 -0500 (Tue, 26 Oct 2021)
nebbiolo2Linux (Ubuntu 20.04.4 LTS) / x86_64  OK    OK    OK  UNNEEDED, same version is already published
tokay2Windows Server 2012 R2 Standard / x64  OK    OK    OK    OK  UNNEEDED, same version is already published
machv2macOS 10.14.6 Mojave / x86_64  OK    OK    OK    OK  UNNEEDED, same version is already published

Summary

Package: PADOG
Version: 1.36.0
Command: C:\Users\biocbuild\bbs-3.14-bioc\R\bin\R.exe CMD check --force-multiarch --install=check:PADOG.install-out.txt --library=C:\Users\biocbuild\bbs-3.14-bioc\R\library --no-vignettes --timings PADOG_1.36.0.tar.gz
StartedAt: 2022-01-26 00:12:44 -0500 (Wed, 26 Jan 2022)
EndedAt: 2022-01-26 00:20:04 -0500 (Wed, 26 Jan 2022)
EllapsedTime: 439.8 seconds
RetCode: 0
Status:   OK  
CheckDir: PADOG.Rcheck
Warnings: 0

Command output

##############################################################################
##############################################################################
###
### Running command:
###
###   C:\Users\biocbuild\bbs-3.14-bioc\R\bin\R.exe CMD check --force-multiarch --install=check:PADOG.install-out.txt --library=C:\Users\biocbuild\bbs-3.14-bioc\R\library --no-vignettes --timings PADOG_1.36.0.tar.gz
###
##############################################################################
##############################################################################


* using log directory 'C:/Users/biocbuild/bbs-3.14-bioc/meat/PADOG.Rcheck'
* using R version 4.1.2 (2021-11-01)
* using platform: x86_64-w64-mingw32 (64-bit)
* using session charset: ISO8859-1
* using option '--no-vignettes'
* checking for file 'PADOG/DESCRIPTION' ... OK
* this is package 'PADOG' version '1.36.0'
* checking package namespace information ... OK
* checking package dependencies ... OK
* checking if this is a source package ... OK
* checking if there is a namespace ... OK
* checking for hidden files and directories ... OK
* checking for portable file names ... OK
* checking whether package 'PADOG' can be installed ... OK
* checking installed package size ... OK
* checking package directory ... OK
* checking 'build' directory ... OK
* checking DESCRIPTION meta-information ... OK
* checking top-level files ... OK
* checking for left-over files ... OK
* checking index information ... OK
* checking package subdirectories ... OK
* checking R files for non-ASCII characters ... OK
* checking R files for syntax errors ... OK
* loading checks for arch 'i386'
** checking whether the package can be loaded ... OK
** checking whether the package can be loaded with stated dependencies ... OK
** checking whether the package can be unloaded cleanly ... OK
** checking whether the namespace can be loaded with stated dependencies ... OK
** checking whether the namespace can be unloaded cleanly ... OK
* loading checks for arch 'x64'
** checking whether the package can be loaded ... OK
** checking whether the package can be loaded with stated dependencies ... OK
** checking whether the package can be unloaded cleanly ... OK
** checking whether the namespace can be loaded with stated dependencies ... OK
** checking whether the namespace can be unloaded cleanly ... OK
* checking dependencies in R code ... OK
* checking S3 generic/method consistency ... OK
* checking replacement functions ... OK
* checking foreign function calls ... OK
* checking R code for possible problems ... NOTE
compPADOG: no visible global function definition for 'data'
compPADOG : padogF: no visible global function definition for
  'p.adjust'
compPADOG : gsaF: no visible global function definition for 'p.adjust'
compPADOG : <anonymous>: no visible global function definition for
  'complete.cases'
compPADOG : wi: no visible global function definition for 'wilcox.test'
compPADOG: no visible binding for global variable 'median'
compPADOG: no visible global function definition for 'colors'
compPADOG: no visible global function definition for 'par'
compPADOG: no visible global function definition for 'boxplot'
compPADOG: no visible global function definition for 'abline'
filteranot: no visible global function definition for 'model.matrix'
padog: no visible global function definition for 'quantile'
padog: no visible global function definition for 'sd'
padog : combFun: no visible global function definition for 'combn'
padog : gsScoreFun: no visible global function definition for
  'model.matrix'
padog : gsScoreFun : <anonymous>: no visible global function definition
  for 'na.omit'
padog: no visible global function definition for 'par'
padog: no visible global function definition for 'boxplot'
padog: no visible global function definition for 'points'
padog: no visible global function definition for 'abline'
Undefined global functions or variables:
  abline boxplot colors combn complete.cases data median model.matrix
  na.omit p.adjust par points quantile sd wilcox.test
Consider adding
  importFrom("grDevices", "colors")
  importFrom("graphics", "abline", "boxplot", "par", "points")
  importFrom("stats", "complete.cases", "median", "model.matrix",
             "na.omit", "p.adjust", "quantile", "sd", "wilcox.test")
  importFrom("utils", "combn", "data")
to your NAMESPACE file.
* checking Rd files ... OK
* checking Rd metadata ... OK
* checking Rd cross-references ... OK
* checking for missing documentation entries ... OK
* checking for code/documentation mismatches ... OK
* checking Rd \usage sections ... OK
* checking Rd contents ... OK
* checking for unstated dependencies in examples ... OK
* checking files in 'vignettes' ... OK
* checking examples ...
** running examples for arch 'i386' ... OK
Examples with CPU (user + system) or elapsed time > 5s
           user system elapsed
compPADOG 20.09   3.95   97.75
padog     13.14   1.15   32.89
** running examples for arch 'x64' ... OK
Examples with CPU (user + system) or elapsed time > 5s
           user system elapsed
compPADOG 17.75   3.72  126.72
padog     10.50   0.72   27.98
* checking for unstated dependencies in vignettes ... OK
* checking package vignettes in 'inst/doc' ... OK
* checking running R code from vignettes ... SKIPPED
* checking re-building of vignette outputs ... SKIPPED
* checking PDF version of manual ... OK
* DONE

Status: 1 NOTE
See
  'C:/Users/biocbuild/bbs-3.14-bioc/meat/PADOG.Rcheck/00check.log'
for details.



Installation output

PADOG.Rcheck/00install.out

##############################################################################
##############################################################################
###
### Running command:
###
###   C:\cygwin\bin\curl.exe -O http://155.52.207.166/BBS/3.14/bioc/src/contrib/PADOG_1.36.0.tar.gz && rm -rf PADOG.buildbin-libdir && mkdir PADOG.buildbin-libdir && C:\Users\biocbuild\bbs-3.14-bioc\R\bin\R.exe CMD INSTALL --merge-multiarch --build --library=PADOG.buildbin-libdir PADOG_1.36.0.tar.gz && C:\Users\biocbuild\bbs-3.14-bioc\R\bin\R.exe CMD INSTALL PADOG_1.36.0.zip && rm PADOG_1.36.0.tar.gz PADOG_1.36.0.zip
###
##############################################################################
##############################################################################


  % Total    % Received % Xferd  Average Speed   Time    Time     Time  Current
                                 Dload  Upload   Total   Spent    Left  Speed

  0     0    0     0    0     0      0      0 --:--:-- --:--:-- --:--:--     0
100 37681  100 37681    0     0   257k      0 --:--:-- --:--:-- --:--:--  259k

install for i386

* installing *source* package 'PADOG' ...
** using staged installation
** R
** byte-compile and prepare package for lazy loading
** help
*** installing help indices
  converting help for package 'PADOG'
    finding HTML links ... done
    compPADOG                               html  
    filteranot                              html  
    padog                                   html  
** building package indices
** installing vignettes
** testing if installed package can be loaded from temporary location
** testing if installed package can be loaded from final location
** testing if installed package keeps a record of temporary installation path

install for x64

* installing *source* package 'PADOG' ...
** testing if installed package can be loaded
* MD5 sums
packaged installation of 'PADOG' as PADOG_1.36.0.zip
* DONE (PADOG)
* installing to library 'C:/Users/biocbuild/bbs-3.14-bioc/R/library'
package 'PADOG' successfully unpacked and MD5 sums checked

Tests output


Example timings

PADOG.Rcheck/examples_i386/PADOG-Ex.timings

nameusersystemelapsed
compPADOG20.09 3.9597.75
filteranot2.260.072.39
padog13.14 1.1532.89

PADOG.Rcheck/examples_x64/PADOG-Ex.timings

nameusersystemelapsed
compPADOG 17.75 3.72126.72
filteranot1.650.181.83
padog10.50 0.7227.98