Back to Multiple platform build/check report for BioC 3.14
ABCDEFGHIJKLMN[O]PQRSTUVWXYZ

This page was generated on 2022-01-17 13:06:43 -0500 (Mon, 17 Jan 2022).

HostnameOSArch (*)R versionInstalled pkgs
nebbiolo2Linux (Ubuntu 20.04.4 LTS)x86_644.1.2 (2021-11-01) -- "Bird Hippie" 4328
tokay2Windows Server 2012 R2 Standardx644.1.2 (2021-11-01) -- "Bird Hippie" 4077
machv2macOS 10.14.6 Mojavex86_644.1.2 (2021-11-01) -- "Bird Hippie" 4138
Click on any hostname to see more info about the system (e.g. compilers)      (*) as reported by 'uname -p', except on Windows and Mac OS X

INSTALL results for Organism.dplyr on tokay2


To the developers/maintainers of the Organism.dplyr package:
- Please allow up to 24 hours (and sometimes 48 hours) for your latest push to git@git.bioconductor.org:packages/Organism.dplyr.git to
reflect on this report. See How and When does the builder pull? When will my changes propagate? here for more information.
- Make sure to use the following settings in order to reproduce any error or warning you see on this page.

raw results

Package 1350/2083HostnameOS / ArchINSTALLBUILDCHECKBUILD BIN
Organism.dplyr 1.22.1  (landing page)
Martin Morgan
Snapshot Date: 2022-01-16 01:55:05 -0500 (Sun, 16 Jan 2022)
git_url: https://git.bioconductor.org/packages/Organism.dplyr
git_branch: RELEASE_3_14
git_last_commit: f324c0f
git_last_commit_date: 2021-10-28 16:47:22 -0500 (Thu, 28 Oct 2021)
nebbiolo2Linux (Ubuntu 20.04.4 LTS) / x86_64  OK    OK    OK  UNNEEDED, same version is already published
tokay2Windows Server 2012 R2 Standard / x64  OK    OK    OK    OK  UNNEEDED, same version is already published
machv2macOS 10.14.6 Mojave / x86_64  OK    OK    OK    OK  UNNEEDED, same version is already published

Summary

Package: Organism.dplyr
Version: 1.22.1
Command: C:\cygwin\bin\curl.exe -O http://155.52.207.166/BBS/3.14/bioc/src/contrib/Organism.dplyr_1.22.1.tar.gz && rm -rf Organism.dplyr.buildbin-libdir && mkdir Organism.dplyr.buildbin-libdir && C:\Users\biocbuild\bbs-3.14-bioc\R\bin\R.exe CMD INSTALL --merge-multiarch --build --library=Organism.dplyr.buildbin-libdir Organism.dplyr_1.22.1.tar.gz && C:\Users\biocbuild\bbs-3.14-bioc\R\bin\R.exe CMD INSTALL Organism.dplyr_1.22.1.zip && rm Organism.dplyr_1.22.1.tar.gz Organism.dplyr_1.22.1.zip
StartedAt: 2022-01-16 06:15:19 -0500 (Sun, 16 Jan 2022)
EndedAt: 2022-01-16 06:16:38 -0500 (Sun, 16 Jan 2022)
EllapsedTime: 78.5 seconds
RetCode: 0
Status:   OK  

Command output

##############################################################################
##############################################################################
###
### Running command:
###
###   C:\cygwin\bin\curl.exe -O http://155.52.207.166/BBS/3.14/bioc/src/contrib/Organism.dplyr_1.22.1.tar.gz && rm -rf Organism.dplyr.buildbin-libdir && mkdir Organism.dplyr.buildbin-libdir && C:\Users\biocbuild\bbs-3.14-bioc\R\bin\R.exe CMD INSTALL --merge-multiarch --build --library=Organism.dplyr.buildbin-libdir Organism.dplyr_1.22.1.tar.gz && C:\Users\biocbuild\bbs-3.14-bioc\R\bin\R.exe CMD INSTALL Organism.dplyr_1.22.1.zip && rm Organism.dplyr_1.22.1.tar.gz Organism.dplyr_1.22.1.zip
###
##############################################################################
##############################################################################


  % Total    % Received % Xferd  Average Speed   Time    Time     Time  Current
                                 Dload  Upload   Total   Spent    Left  Speed

  0     0    0     0    0     0      0      0 --:--:-- --:--:-- --:--:--     0
100  207k  100  207k    0     0  1299k      0 --:--:-- --:--:-- --:--:-- 1307k

install for i386

* installing *source* package 'Organism.dplyr' ...
** using staged installation
** R
** inst
** byte-compile and prepare package for lazy loading
** help
*** installing help indices
  converting help for package 'Organism.dplyr'
    finding HTML links ... done
    Genomic-Extractors                      html  
    finding level-2 HTML links ... done

    filter                                  html  
    select                                  html  
    src                                     html  
    utils                                   html  
** building package indices
** installing vignettes
** testing if installed package can be loaded from temporary location
** testing if installed package can be loaded from final location
** testing if installed package keeps a record of temporary installation path

install for x64

* installing *source* package 'Organism.dplyr' ...
** testing if installed package can be loaded
* MD5 sums
packaged installation of 'Organism.dplyr' as Organism.dplyr_1.22.1.zip
* DONE (Organism.dplyr)
* installing to library 'C:/Users/biocbuild/bbs-3.14-bioc/R/library'
package 'Organism.dplyr' successfully unpacked and MD5 sums checked