Back to Multiple platform build/check report for BioC 3.14
ABCDEFGHIJKLMN[O]PQRSTUVWXYZ

This page was generated on 2021-11-24 15:05:09 -0500 (Wed, 24 Nov 2021).

INSTALL results for Organism.dplyr on nebbiolo2

To the developers/maintainers of the Organism.dplyr package:
- Please allow up to 24 hours (and sometimes 48 hours) for your latest push to git@git.bioconductor.org:packages/Organism.dplyr.git to
reflect on this report. See How and When does the builder pull? When will my changes propagate? here for more information.
- Make sure to use the following settings in order to reproduce any error or warning you see on this page.

raw results

Package 1350/2083HostnameOS / ArchINSTALLBUILDCHECKBUILD BIN
Organism.dplyr 1.22.1  (landing page)
Martin Morgan
Snapshot Date: 2021-11-23 04:15:06 -0500 (Tue, 23 Nov 2021)
git_url: https://git.bioconductor.org/packages/Organism.dplyr
git_branch: RELEASE_3_14
git_last_commit: f324c0f
git_last_commit_date: 2021-10-28 16:47:22 -0500 (Thu, 28 Oct 2021)
nebbiolo2Linux (Ubuntu 20.04.3 LTS) / x86_64  OK    OK    OK  UNNEEDED, same version is already published
tokay2Windows Server 2012 R2 Standard / x64  OK    OK    OK    OK  UNNEEDED, same version is already published
machv2macOS 10.14.6 Mojave / x86_64  OK    OK    OK    OK  UNNEEDED, same version is already published

Summary

Package: Organism.dplyr
Version: 1.22.1
Command: /home/biocbuild/bbs-3.14-bioc/R/bin/R CMD INSTALL Organism.dplyr
StartedAt: 2021-11-23 05:27:25 -0500 (Tue, 23 Nov 2021)
EndedAt: 2021-11-23 05:28:00 -0500 (Tue, 23 Nov 2021)
EllapsedTime: 34.9 seconds
RetCode: 0
Status:   OK  

Command output

##############################################################################
##############################################################################
###
### Running command:
###
###   /home/biocbuild/bbs-3.14-bioc/R/bin/R CMD INSTALL Organism.dplyr
###
##############################################################################
##############################################################################


* installing to library ‘/home/biocbuild/bbs-3.14-bioc/R/library’
* installing *source* package ‘Organism.dplyr’ ...
** using staged installation
** R
** inst
** byte-compile and prepare package for lazy loading
** help
*** installing help indices
** building package indices
** installing vignettes
** testing if installed package can be loaded from temporary location
** testing if installed package can be loaded from final location
** testing if installed package keeps a record of temporary installation path
* DONE (Organism.dplyr)