Back to Multiple platform build/check report for BioC 3.14
ABCDEFGHIJKLMN[O]PQRSTUVWXYZ

This page was generated on 2021-11-24 15:06:13 -0500 (Wed, 24 Nov 2021).

BUILD BIN results for Organism.dplyr on machv2

To the developers/maintainers of the Organism.dplyr package:
- Please allow up to 24 hours (and sometimes 48 hours) for your latest push to git@git.bioconductor.org:packages/Organism.dplyr.git to
reflect on this report. See How and When does the builder pull? When will my changes propagate? here for more information.
- Make sure to use the following settings in order to reproduce any error or warning you see on this page.

raw results

Package 1350/2083HostnameOS / ArchINSTALLBUILDCHECKBUILD BIN
Organism.dplyr 1.22.1  (landing page)
Martin Morgan
Snapshot Date: 2021-11-23 04:15:06 -0500 (Tue, 23 Nov 2021)
git_url: https://git.bioconductor.org/packages/Organism.dplyr
git_branch: RELEASE_3_14
git_last_commit: f324c0f
git_last_commit_date: 2021-10-28 16:47:22 -0500 (Thu, 28 Oct 2021)
nebbiolo2Linux (Ubuntu 20.04.3 LTS) / x86_64  OK    OK    OK  UNNEEDED, same version is already published
tokay2Windows Server 2012 R2 Standard / x64  OK    OK    OK    OK  UNNEEDED, same version is already published
machv2macOS 10.14.6 Mojave / x86_64  OK    OK    OK    OK  UNNEEDED, same version is already published

Summary

Package: Organism.dplyr
Version: 1.22.1
Command: rm -rf Organism.dplyr.buildbin-libdir && mkdir Organism.dplyr.buildbin-libdir && /Users/biocbuild/BBS/utils/build-universal.sh Organism.dplyr_1.22.1.tar.gz /Library/Frameworks/R.framework/Resources/bin/R Organism.dplyr.buildbin-libdir
StartedAt: 2021-11-24 01:23:42 -0500 (Wed, 24 Nov 2021)
EndedAt: 2021-11-24 01:24:40 -0500 (Wed, 24 Nov 2021)
EllapsedTime: 58.4 seconds
RetCode: 0
Status:   OK  
PackageFile: Organism.dplyr_1.22.1.tgz
PackageFileSize: 820 KiB

Command output

##############################################################################
##############################################################################
###
### Running command:
###
###   rm -rf Organism.dplyr.buildbin-libdir && mkdir Organism.dplyr.buildbin-libdir && /Users/biocbuild/BBS/utils/build-universal.sh Organism.dplyr_1.22.1.tar.gz /Library/Frameworks/R.framework/Resources/bin/R Organism.dplyr.buildbin-libdir
###
##############################################################################
##############################################################################


>>>>>>> 
>>>>>>> INSTALLATION WITH 'R CMD INSTALL --preclean --no-multiarch --library=Organism.dplyr.buildbin-libdir Organism.dplyr_1.22.1.tar.gz'
>>>>>>> 

* installing *source* package ‘Organism.dplyr’ ...
** using staged installation
** R
** inst
** byte-compile and prepare package for lazy loading
** help
*** installing help indices
** building package indices
** installing vignettes
** testing if installed package can be loaded from temporary location
** testing if installed package can be loaded from final location
** testing if installed package keeps a record of temporary installation path
* DONE (Organism.dplyr)