Back to Multiple platform build/check report for BioC 3.14
ABCDEFGHIJKLMN[O]PQRSTUVWXYZ

This page was generated on 2022-01-14 13:06:51 -0500 (Fri, 14 Jan 2022).

HostnameOSArch (*)R versionInstalled pkgs
nebbiolo2Linux (Ubuntu 20.04.4 LTS)x86_644.1.2 (2021-11-01) -- "Bird Hippie" 4327
tokay2Windows Server 2012 R2 Standardx644.1.2 (2021-11-01) -- "Bird Hippie" 4076
machv2macOS 10.14.6 Mojavex86_644.1.2 (2021-11-01) -- "Bird Hippie" 4137
Click on any hostname to see more info about the system (e.g. compilers)      (*) as reported by 'uname -p', except on Windows and Mac OS X

INSTALL results for OmicsLonDA on tokay2


To the developers/maintainers of the OmicsLonDA package:
- Please allow up to 24 hours (and sometimes 48 hours) for your latest push to git@git.bioconductor.org:packages/OmicsLonDA.git to
reflect on this report. See How and When does the builder pull? When will my changes propagate? here for more information.
- Make sure to use the following settings in order to reproduce any error or warning you see on this page.

raw results

Package 1326/2083HostnameOS / ArchINSTALLBUILDCHECKBUILD BIN
OmicsLonDA 1.10.0  (landing page)
Ahmed A. Metwally
Snapshot Date: 2022-01-13 01:55:04 -0500 (Thu, 13 Jan 2022)
git_url: https://git.bioconductor.org/packages/OmicsLonDA
git_branch: RELEASE_3_14
git_last_commit: a145163
git_last_commit_date: 2021-10-26 12:51:17 -0500 (Tue, 26 Oct 2021)
nebbiolo2Linux (Ubuntu 20.04.4 LTS) / x86_64  OK    OK    OK  UNNEEDED, same version is already published
tokay2Windows Server 2012 R2 Standard / x64  OK    OK    OK    OK  UNNEEDED, same version is already published
machv2macOS 10.14.6 Mojave / x86_64  OK    OK    OK    OK  UNNEEDED, same version is already published

Summary

Package: OmicsLonDA
Version: 1.10.0
Command: C:\cygwin\bin\curl.exe -O http://155.52.207.166/BBS/3.14/bioc/src/contrib/OmicsLonDA_1.10.0.tar.gz && rm -rf OmicsLonDA.buildbin-libdir && mkdir OmicsLonDA.buildbin-libdir && C:\Users\biocbuild\bbs-3.14-bioc\R\bin\R.exe CMD INSTALL --merge-multiarch --build --library=OmicsLonDA.buildbin-libdir OmicsLonDA_1.10.0.tar.gz && C:\Users\biocbuild\bbs-3.14-bioc\R\bin\R.exe CMD INSTALL OmicsLonDA_1.10.0.zip && rm OmicsLonDA_1.10.0.tar.gz OmicsLonDA_1.10.0.zip
StartedAt: 2022-01-13 05:25:37 -0500 (Thu, 13 Jan 2022)
EndedAt: 2022-01-13 05:26:34 -0500 (Thu, 13 Jan 2022)
EllapsedTime: 57.8 seconds
RetCode: 0
Status:   OK  

Command output

##############################################################################
##############################################################################
###
### Running command:
###
###   C:\cygwin\bin\curl.exe -O http://155.52.207.166/BBS/3.14/bioc/src/contrib/OmicsLonDA_1.10.0.tar.gz && rm -rf OmicsLonDA.buildbin-libdir && mkdir OmicsLonDA.buildbin-libdir && C:\Users\biocbuild\bbs-3.14-bioc\R\bin\R.exe CMD INSTALL --merge-multiarch --build --library=OmicsLonDA.buildbin-libdir OmicsLonDA_1.10.0.tar.gz && C:\Users\biocbuild\bbs-3.14-bioc\R\bin\R.exe CMD INSTALL OmicsLonDA_1.10.0.zip && rm OmicsLonDA_1.10.0.tar.gz OmicsLonDA_1.10.0.zip
###
##############################################################################
##############################################################################


  % Total    % Received % Xferd  Average Speed   Time    Time     Time  Current
                                 Dload  Upload   Total   Spent    Left  Speed

  0     0    0     0    0     0      0      0 --:--:-- --:--:-- --:--:--     0
 44 4558k   44 2040k    0     0  2959k      0  0:00:01 --:--:--  0:00:01 2957k
100 4558k  100 4558k    0     0  3667k      0  0:00:01  0:00:01 --:--:-- 3670k

install for i386

* installing *source* package 'OmicsLonDA' ...
** using staged installation
** R
** data
*** moving datasets to lazyload DB
** byte-compile and prepare package for lazy loading
** help
*** installing help indices
  converting help for package 'OmicsLonDA'
    finding HTML links ... done
    adjustBaseline                          html  
    curveFitting                            html  
    findSigInterval                         html  
    omicslonda                              html  
    omicslonda_data_example                 html  
    permutationMC                           html  
    testStat                                html  
    testStatPermutation                     html  
    visualizeArea                           html  
    visualizeFeature                        html  
    visualizeFeatureSpline                  html  
    visualizeTestStatHistogram              html  
** building package indices
** installing vignettes
** testing if installed package can be loaded from temporary location
** testing if installed package can be loaded from final location
** testing if installed package keeps a record of temporary installation path

install for x64

* installing *source* package 'OmicsLonDA' ...
** testing if installed package can be loaded
* MD5 sums
packaged installation of 'OmicsLonDA' as OmicsLonDA_1.10.0.zip
* DONE (OmicsLonDA)
* installing to library 'C:/Users/biocbuild/bbs-3.14-bioc/R/library'
package 'OmicsLonDA' successfully unpacked and MD5 sums checked