Back to Multiple platform build/check report for BioC 3.14
ABCDEFGHIJKLMN[O]PQRSTUVWXYZ

This page was generated on 2021-12-03 13:04:56 -0500 (Fri, 03 Dec 2021).

BUILD results for OmicsLonDA on nebbiolo2

To the developers/maintainers of the OmicsLonDA package:
- Please allow up to 24 hours (and sometimes 48 hours) for your latest push to git@git.bioconductor.org:packages/OmicsLonDA.git to
reflect on this report. See How and When does the builder pull? When will my changes propagate? here for more information.
- Make sure to use the following settings in order to reproduce any error or warning you see on this page.

raw results

Package 1326/2083HostnameOS / ArchINSTALLBUILDCHECKBUILD BIN
OmicsLonDA 1.10.0  (landing page)
Ahmed A. Metwally
Snapshot Date: 2021-12-02 01:55:06 -0500 (Thu, 02 Dec 2021)
git_url: https://git.bioconductor.org/packages/OmicsLonDA
git_branch: RELEASE_3_14
git_last_commit: a145163
git_last_commit_date: 2021-10-26 12:51:17 -0500 (Tue, 26 Oct 2021)
nebbiolo2Linux (Ubuntu 20.04.3 LTS) / x86_64  OK    OK    OK  UNNEEDED, same version is already published
tokay2Windows Server 2012 R2 Standard / x64  OK    OK    OK    OK  UNNEEDED, same version is already published
machv2macOS 10.14.6 Mojave / x86_64  OK    OK    OK    OK  UNNEEDED, same version is already published

Summary

Package: OmicsLonDA
Version: 1.10.0
Command: /home/biocbuild/bbs-3.14-bioc/R/bin/R CMD build --keep-empty-dirs --no-resave-data OmicsLonDA
StartedAt: 2021-12-02 05:04:02 -0500 (Thu, 02 Dec 2021)
EndedAt: 2021-12-02 05:05:15 -0500 (Thu, 02 Dec 2021)
EllapsedTime: 72.7 seconds
RetCode: 0
Status:   OK  
PackageFile: OmicsLonDA_1.10.0.tar.gz
PackageFileSize: 6.728 MiB

Command output

##############################################################################
##############################################################################
###
### Running command:
###
###   /home/biocbuild/bbs-3.14-bioc/R/bin/R CMD build --keep-empty-dirs --no-resave-data OmicsLonDA
###
##############################################################################
##############################################################################


* checking for file ‘OmicsLonDA/DESCRIPTION’ ... OK
* preparing ‘OmicsLonDA’:
* checking DESCRIPTION meta-information ... OK
* installing the package to build vignettes
* creating vignettes ... OK
* checking for LF line-endings in source and make files and shell scripts
* checking for empty or unneeded directories
* building ‘OmicsLonDA_1.10.0.tar.gz’