![]() | Name | Last modified | Size | Description |
---|---|---|---|---|
![]() | Parent Directory | - | ||
![]() | buildsrc-out.txt | 14-Apr-2022 01:05 | 840 | |
![]() | buildsrc-summary.dcf | 14-Apr-2022 01:05 | 422 | |
![]() | checksrc-out.txt | 14-Apr-2022 01:05 | 3.9K | |
![]() | checksrc-summary.dcf | 14-Apr-2022 01:05 | 428 | |
![]() | install-out.txt | 14-Apr-2022 01:05 | 2.0K | |
![]() | install-summary.dcf | 14-Apr-2022 01:05 | 261 | |