Back to Multiple platform build/check report for BioC 3.14
ABCDEFGHIJKLMN[O]PQRSTUVWXYZ

This page was generated on 2021-08-05 12:05:35 -0400 (Thu, 05 Aug 2021).

All results for package OLIN

To the developers/maintainers of the OLIN package:
- Please allow up to 24 hours (and sometimes 48 hours) for your latest push to git@git.bioconductor.org:packages/OLIN.git to
reflect on this report. See How and When does the builder pull? When will my changes propagate? here for more information.
- Make sure to use the following settings in order to reproduce any error or warning you see on this page.

raw results

Package 1278/2015HostnameOS / ArchINSTALLBUILDCHECKBUILD BIN
OLIN 1.71.0  (landing page)
Matthias Futschik
Snapshot Date: 2021-08-04 14:50:10 -0400 (Wed, 04 Aug 2021)
URL: https://git.bioconductor.org/packages/OLIN
Branch: master
Last Commit: 67c8c9d
Last Changed Date: 2021-05-19 11:34:40 -0400 (Wed, 19 May 2021)
nebbiolo2Linux (Ubuntu 20.04.2 LTS) / x86_64  OK    ERROR  skipped
riesling1Windows Server 2019 Standard / x64  OK    ERROR  skippedskipped
merida1macOS 10.14.6 Mojave / x86_64  OK    ERROR  skippedskipped

Results for Bioconductor software packages that depend directly on package OLIN

QUICK STATSOS / ArchINSTALLBUILDCHECKBUILD BIN
nebbiolo2Linux (Ubuntu 20.04.2 LTS) / x86_64
001
001
0001
riesling1Windows Server 2019 Standard / x64
001
001
0001
001
merida1macOS 10.14.6 Mojave / x86_64
001
001
0001
001
Package 1/1HostnameOS / ArchINSTALLBUILDCHECKBUILD BIN
OLINgui 1.67.0  (landing page)
Matthias Futschik
Last Commit: 8fd4a3c
Last Changed Date: 2021-05-19 11:34:57 -0400
nebbiolo2Linux (Ubuntu 20.04.2 LTS) / x86_64  OK    OK    OK  UNNEEDED, same version is already published
riesling1Windows Server 2019 Standard / x64  OK    OK    OK    OK  NO, package depends on 'OLIN' which is not available
merida1macOS 10.14.6 Mojave / x86_64  OK    OK    OK    OK  UNNEEDED, same version is already published