Back to Multiple platform build/check report for BioC 3.14
ABCDEFGHIJKLM[N]OPQRSTUVWXYZ

This page was generated on 2021-12-03 13:04:55 -0500 (Fri, 03 Dec 2021).

CHECK results for NxtIRFcore on nebbiolo2

To the developers/maintainers of the NxtIRFcore package:
- Please allow up to 24 hours (and sometimes 48 hours) for your latest push to git@git.bioconductor.org:packages/NxtIRFcore.git to
reflect on this report. See How and When does the builder pull? When will my changes propagate? here for more information.
- Make sure to use the following settings in order to reproduce any error or warning you see on this page.

raw results

Package 1312/2083HostnameOS / ArchINSTALLBUILDCHECKBUILD BIN
NxtIRFcore 1.0.0  (landing page)
Alex Chit Hei Wong
Snapshot Date: 2021-12-02 01:55:06 -0500 (Thu, 02 Dec 2021)
git_url: https://git.bioconductor.org/packages/NxtIRFcore
git_branch: RELEASE_3_14
git_last_commit: 933ccae
git_last_commit_date: 2021-10-26 13:13:51 -0500 (Tue, 26 Oct 2021)
nebbiolo2Linux (Ubuntu 20.04.3 LTS) / x86_64  OK    OK    OK  UNNEEDED, same version is already published
tokay2Windows Server 2012 R2 Standard / x64  OK    OK    OK    OK  UNNEEDED, same version is already published
machv2macOS 10.14.6 Mojave / x86_64  OK    OK    OK    OK  UNNEEDED, same version is already published

Summary

Package: NxtIRFcore
Version: 1.0.0
Command: /home/biocbuild/bbs-3.14-bioc/R/bin/R CMD check --install=check:NxtIRFcore.install-out.txt --library=/home/biocbuild/bbs-3.14-bioc/R/library --no-vignettes --timings NxtIRFcore_1.0.0.tar.gz
StartedAt: 2021-12-02 08:15:18 -0500 (Thu, 02 Dec 2021)
EndedAt: 2021-12-02 08:21:14 -0500 (Thu, 02 Dec 2021)
EllapsedTime: 355.8 seconds
RetCode: 0
Status:   OK  
CheckDir: NxtIRFcore.Rcheck
Warnings: 0

Command output

##############################################################################
##############################################################################
###
### Running command:
###
###   /home/biocbuild/bbs-3.14-bioc/R/bin/R CMD check --install=check:NxtIRFcore.install-out.txt --library=/home/biocbuild/bbs-3.14-bioc/R/library --no-vignettes --timings NxtIRFcore_1.0.0.tar.gz
###
##############################################################################
##############################################################################


* using log directory ‘/home/biocbuild/bbs-3.14-bioc/meat/NxtIRFcore.Rcheck’
* using R version 4.1.2 (2021-11-01)
* using platform: x86_64-pc-linux-gnu (64-bit)
* using session charset: UTF-8
* using option ‘--no-vignettes’
* checking for file ‘NxtIRFcore/DESCRIPTION’ ... OK
* this is package ‘NxtIRFcore’ version ‘1.0.0’
* package encoding: UTF-8
* checking package namespace information ... OK
* checking package dependencies ... OK
* checking if this is a source package ... OK
* checking if there is a namespace ... OK
* checking for hidden files and directories ... OK
* checking for portable file names ... OK
* checking for sufficient/correct file permissions ... OK
* checking whether package ‘NxtIRFcore’ can be installed ... OK
* checking installed package size ... NOTE
  installed size is 12.8Mb
  sub-directories of 1Mb or more:
    R      1.6Mb
    libs  10.4Mb
* checking package directory ... OK
* checking ‘build’ directory ... OK
* checking DESCRIPTION meta-information ... OK
* checking top-level files ... OK
* checking for left-over files ... OK
* checking index information ... OK
* checking package subdirectories ... OK
* checking R files for non-ASCII characters ... OK
* checking R files for syntax errors ... OK
* checking whether the package can be loaded ... OK
* checking whether the package can be loaded with stated dependencies ... OK
* checking whether the package can be unloaded cleanly ... OK
* checking whether the namespace can be loaded with stated dependencies ... OK
* checking whether the namespace can be unloaded cleanly ... OK
* checking dependencies in R code ... OK
* checking S3 generic/method consistency ... OK
* checking replacement functions ... OK
* checking foreign function calls ... OK
* checking R code for possible problems ... OK
* checking Rd files ... OK
* checking Rd metadata ... OK
* checking Rd cross-references ... OK
* checking for missing documentation entries ... OK
* checking for code/documentation mismatches ... OK
* checking Rd \usage sections ... OK
* checking Rd contents ... OK
* checking for unstated dependencies in examples ... OK
* checking line endings in shell scripts ... OK
* checking line endings in C/C++/Fortran sources/headers ... OK
* checking line endings in Makefiles ... OK
* checking compilation flags in Makevars ... OK
* checking for GNU extensions in Makefiles ... OK
* checking for portable use of $(BLAS_LIBS) and $(LAPACK_LIBS) ... OK
* checking use of PKG_*FLAGS in Makefiles ... OK
* checking compiled code ... NOTE
Note: information on .o files is not available
* checking files in ‘vignettes’ ... OK
* checking examples ... OK
Examples with CPU (user + system) or elapsed time > 5s
                 user system elapsed
BuildReference 17.814  0.060  17.831
CollateData    15.141  0.268  15.430
* checking for unstated dependencies in ‘tests’ ... OK
* checking tests ...
  Running ‘testthat.R’
 OK
* checking for unstated dependencies in vignettes ... OK
* checking package vignettes in ‘inst/doc’ ... OK
* checking running R code from vignettes ... SKIPPED
* checking re-building of vignette outputs ... SKIPPED
* checking PDF version of manual ... OK
* DONE

Status: 2 NOTEs
See
  ‘/home/biocbuild/bbs-3.14-bioc/meat/NxtIRFcore.Rcheck/00check.log’
for details.



Installation output

NxtIRFcore.Rcheck/00install.out

##############################################################################
##############################################################################
###
### Running command:
###
###   /home/biocbuild/bbs-3.14-bioc/R/bin/R CMD INSTALL NxtIRFcore
###
##############################################################################
##############################################################################


* installing to library ‘/home/biocbuild/bbs-3.14-bioc/R/library’
* installing *source* package ‘NxtIRFcore’ ...
** using staged installation
** libs
g++ -std=gnu++11 -I"/home/biocbuild/bbs-3.14-bioc/R/include" -DNDEBUG  -I'/home/biocbuild/bbs-3.14-bioc/R/library/Rcpp/include' -I'/home/biocbuild/bbs-3.14-bioc/R/library/zlibbioc/include' -I'/home/biocbuild/bbs-3.14-bioc/R/library/RcppProgress/include' -I/usr/local/include  -fopenmp -DRNXTIRF -fpic  -g -O2  -Wall -c BAM2blocks.cpp -o BAM2blocks.o
g++ -std=gnu++11 -I"/home/biocbuild/bbs-3.14-bioc/R/include" -DNDEBUG  -I'/home/biocbuild/bbs-3.14-bioc/R/library/Rcpp/include' -I'/home/biocbuild/bbs-3.14-bioc/R/library/zlibbioc/include' -I'/home/biocbuild/bbs-3.14-bioc/R/library/RcppProgress/include' -I/usr/local/include  -fopenmp -DRNXTIRF -fpic  -g -O2  -Wall -c FastaReader.cpp -o FastaReader.o
g++ -std=gnu++11 -I"/home/biocbuild/bbs-3.14-bioc/R/include" -DNDEBUG  -I'/home/biocbuild/bbs-3.14-bioc/R/library/Rcpp/include' -I'/home/biocbuild/bbs-3.14-bioc/R/library/zlibbioc/include' -I'/home/biocbuild/bbs-3.14-bioc/R/library/RcppProgress/include' -I/usr/local/include  -fopenmp -DRNXTIRF -fpic  -g -O2  -Wall -c FragmentBlocks.cpp -o FragmentBlocks.o
g++ -std=gnu++11 -I"/home/biocbuild/bbs-3.14-bioc/R/include" -DNDEBUG  -I'/home/biocbuild/bbs-3.14-bioc/R/library/Rcpp/include' -I'/home/biocbuild/bbs-3.14-bioc/R/library/zlibbioc/include' -I'/home/biocbuild/bbs-3.14-bioc/R/library/RcppProgress/include' -I/usr/local/include  -fopenmp -DRNXTIRF -fpic  -g -O2  -Wall -c GZTools.cpp -o GZTools.o
g++ -std=gnu++11 -I"/home/biocbuild/bbs-3.14-bioc/R/include" -DNDEBUG  -I'/home/biocbuild/bbs-3.14-bioc/R/library/Rcpp/include' -I'/home/biocbuild/bbs-3.14-bioc/R/library/zlibbioc/include' -I'/home/biocbuild/bbs-3.14-bioc/R/library/RcppProgress/include' -I/usr/local/include  -fopenmp -DRNXTIRF -fpic  -g -O2  -Wall -c IRFinder.cpp -o IRFinder.o
g++ -std=gnu++11 -I"/home/biocbuild/bbs-3.14-bioc/R/include" -DNDEBUG  -I'/home/biocbuild/bbs-3.14-bioc/R/library/Rcpp/include' -I'/home/biocbuild/bbs-3.14-bioc/R/library/zlibbioc/include' -I'/home/biocbuild/bbs-3.14-bioc/R/library/RcppProgress/include' -I/usr/local/include  -fopenmp -DRNXTIRF -fpic  -g -O2  -Wall -c RcppExports.cpp -o RcppExports.o
g++ -std=gnu++11 -I"/home/biocbuild/bbs-3.14-bioc/R/include" -DNDEBUG  -I'/home/biocbuild/bbs-3.14-bioc/R/library/Rcpp/include' -I'/home/biocbuild/bbs-3.14-bioc/R/library/zlibbioc/include' -I'/home/biocbuild/bbs-3.14-bioc/R/library/RcppProgress/include' -I/usr/local/include  -fopenmp -DRNXTIRF -fpic  -g -O2  -Wall -c ReadBlockProcessor.cpp -o ReadBlockProcessor.o
g++ -std=gnu++11 -I"/home/biocbuild/bbs-3.14-bioc/R/include" -DNDEBUG  -I'/home/biocbuild/bbs-3.14-bioc/R/library/Rcpp/include' -I'/home/biocbuild/bbs-3.14-bioc/R/library/zlibbioc/include' -I'/home/biocbuild/bbs-3.14-bioc/R/library/RcppProgress/include' -I/usr/local/include  -fopenmp -DRNXTIRF -fpic  -g -O2  -Wall -c ReadBlockProcessor_CoverageBlocks.cpp -o ReadBlockProcessor_CoverageBlocks.o
g++ -std=gnu++11 -I"/home/biocbuild/bbs-3.14-bioc/R/include" -DNDEBUG  -I'/home/biocbuild/bbs-3.14-bioc/R/library/Rcpp/include' -I'/home/biocbuild/bbs-3.14-bioc/R/library/zlibbioc/include' -I'/home/biocbuild/bbs-3.14-bioc/R/library/RcppProgress/include' -I/usr/local/include  -fopenmp -DRNXTIRF -fpic  -g -O2  -Wall -c covTools.cpp -o covTools.o
g++ -std=gnu++11 -shared -L/home/biocbuild/bbs-3.14-bioc/R/lib -L/usr/local/lib -o NxtIRFcore.so BAM2blocks.o FastaReader.o FragmentBlocks.o GZTools.o IRFinder.o RcppExports.o ReadBlockProcessor.o ReadBlockProcessor_CoverageBlocks.o covTools.o -fopenmp -DRNXTIRF -L/home/biocbuild/bbs-3.14-bioc/R/lib -lR
installing to /home/biocbuild/bbs-3.14-bioc/R/library/00LOCK-NxtIRFcore/00new/NxtIRFcore/libs
** R
** inst
** byte-compile and prepare package for lazy loading
** help
*** installing help indices
** building package indices
** installing vignettes
** testing if installed package can be loaded from temporary location
** checking absolute paths in shared objects and dynamic libraries
** testing if installed package can be loaded from final location
** testing if installed package keeps a record of temporary installation path
* DONE (NxtIRFcore)

Tests output

NxtIRFcore.Rcheck/tests/testthat.Rout


R version 4.1.2 (2021-11-01) -- "Bird Hippie"
Copyright (C) 2021 The R Foundation for Statistical Computing
Platform: x86_64-pc-linux-gnu (64-bit)

R is free software and comes with ABSOLUTELY NO WARRANTY.
You are welcome to redistribute it under certain conditions.
Type 'license()' or 'licence()' for distribution details.

R is a collaborative project with many contributors.
Type 'contributors()' for more information and
'citation()' on how to cite R or R packages in publications.

Type 'demo()' for some demos, 'help()' for on-line help, or
'help.start()' for an HTML browser interface to help.
Type 'q()' to quit R.

> library(testthat)
> library(NxtIRFcore)
Loading required package: NxtIRFdata
> 
> test_check("NxtIRFcore")
Dec 02 08:20:36 Reference generated without non-polyA reference
Dec 02 08:20:36 Reference generated without Mappability reference
Dec 02 08:20:36 Reference generated without Blacklist exclusion
Dec 02 08:20:36 Converting FASTA to local TwoBitFile...done
Dec 02 08:20:38 Connecting to genome TwoBitFile...done
Dec 02 08:20:38 Making local copy of GTF file...done
Dec 02 08:20:38 Reading source GTF file...done
Dec 02 08:20:38 Processing gtf file...
...genes
...transcripts
...CDS
...exons
done
Dec 02 08:20:41 Processing introns...
...data
...basic annotations
...splice motifs
...other info
...defining flanking exon islands
done
Dec 02 08:20:46 Generating IRFinder reference
...prepping data
...determining measurable introns (directional)
...determining measurable introns (non-directional)
...writing ref-cover.bed
...writing ref-ROI.bed
...writing ref-read-continues.ref
...writing ref-sj.ref
IRFinder reference generation completed
Dec 02 08:20:53 Predicting NMD transcripts from genome sequence
...exonic transcripts
...retained introns

  |                                                                            
  |                                                                      |   0%
  |                                                                            
  |======================================================================| 100%
done
Dec 02 08:20:54 Annotating Splice Events
Annotating Mutually-Exclusive-Exon Splice Events...done
Annotating Skipped-Exon Splice Events...done
Annotating Alternate 5' / 3' Splice Site Splice Events...done
Annotating Alternate First / Last Exon Splice Events...done
Annotating known retained introns...done
Dec 02 08:20:55 Splice Annotations Filtered
Dec 02 08:20:55 Translating Alternate Splice Peptides...done
Dec 02 08:20:56 Splice Annotations finished

Reference build finished
Dec 02 08:20:56 Running IRFinder
Reading reference file
Running IRFinder with OpenMP using 1 threads
/tmp/RtmpAILkS9/02H003.bam processed
/tmp/RtmpAILkS9/02H025.bam processed
/tmp/RtmpAILkS9/02H026.bam processed
/tmp/RtmpAILkS9/02H033.bam processed
/tmp/RtmpAILkS9/02H043.bam processed
/tmp/RtmpAILkS9/02H046.bam processed
Dec 02 08:20:59 Validating Experiment; checking COV files...
Dec 02 08:20:59 Using MulticoreParam 1 threads
Dec 02 08:20:59 Compiling Sample Stats
Dec 02 08:20:59 Compiling Junction List...merging...done
Dec 02 08:21:00 Compiling Intron Retention List...done
Dec 02 08:21:01 Tidying up splice junctions and intron retentions...
...annotating splice junctions
...grouping splice junctions
...grouping introns
...loading splice events
...saving annotations
...compiling rowEvents
done

Dec 02 08:21:04 Generating NxtIRF assays
Dec 02 08:21:04 Using MulticoreParam 1 threads

  |                                                                            
  |                                                                      |   0%
  |                                                                            
  |============                                                          |  17%
  |                                                                            
  |=======================                                               |  33%
  |                                                                            
  |===================================                                   |  50%
  |                                                                            
  |===============================================                       |  67%
  |                                                                            
  |==========================================================            |  83%
  |                                                                            
  |======================================================================| 100%

Building Final SummarizedExperiment Object

  |                                                                            
  |                                                                      |   0%
  |                                                                            
  |============                                                          |  17%
  |                                                                            
  |=======================                                               |  33%
  |                                                                            
  |===================================                                   |  50%
  |                                                                            
  |===============================================                       |  67%
  |                                                                            
  |==========================================================            |  83%
  |                                                                            
  |======================================================================| 100%
NxtIRF Collation Finished
Dec 02 08:21:08 Loading NxtSE object from file...done

Dec 02 08:21:09 Removing overlapping introns...
Dec 02 08:21:09 Iterating through IR events to determine introns of main isoforms
Dec 02 08:21:09 Iteration 1
Dec 02 08:21:09 Iteration 2
Dec 02 08:21:10 Running IRFinder
Reading reference file
Running IRFinder with OpenMP using 1 threads
Processing BAM file /tmp/RtmpAILkS9/02H003.bam
0%   10   20   30   40   50   60   70   80   90   100%
[----|----|----|----|----|----|----|----|----|----|
**************************************************|
Performing final sort of fragment maps
Writing COV file
**************************************************|
0%   10   20   30   40   50   60   70   80   90   100%
[----|----|----|----|----|----|----|----|----|----|
**************************************************|
Writing output file
/tmp/RtmpAILkS9/02H003.bam processed
Dec 02 08:21:10 Running IRFinder
Reading reference file
Running IRFinder with OpenMP using 2 threads
Processing BAM file /tmp/RtmpAILkS9/02H003.bam
0%   10   20   30   40   50   60   70   80   90   100%
[----|----|----|----|----|----|----|----|----|----|
**************************************************|
Compiling data from threads
Performing final sort of fragment maps
Writing COV file
**************************************************|
0%   10   20   30   40   50   60   70   80   90   100%
[----|----|----|----|----|----|----|----|----|----|
**************************************************|
Writing output file
/tmp/RtmpAILkS9/02H003.bam processed
[ FAIL 0 | WARN 0 | SKIP 0 | PASS 18 ]
> 
> # bump to trigger r cmd check
> 
> proc.time()
   user  system elapsed 
 50.693   2.959  53.496 

Example timings

NxtIRFcore.Rcheck/NxtIRFcore-Ex.timings

nameusersystemelapsed
ASE-methods0.5810.0960.678
BuildReference17.814 0.06017.831
CollateData15.141 0.26815.430
CoordToGR0.0210.0000.021
Coverage0.8790.0120.878
Find_Samples0.0050.0000.004
IRFinder2.2610.2072.466
IsCOV0.0090.0000.011
MakeSE1.4280.0471.490
Mappability-methods0.0360.0000.036
NxtFilter-class0.0450.0000.045
NxtSE-class2.5860.0992.683
Plot_Coverage4.0080.0163.889
Run_NxtIRF_Filters0.1370.0040.140
STAR-methods0.0020.0000.003
example-NxtIRF-data0.0090.0000.008
make_plot_data0.0520.0000.052
theme_white0.1080.0000.108