Back to Multiple platform build/check report for BioC 3.14
ABCDEFGHIJKLM[N]OPQRSTUVWXYZ

This page was generated on 2021-11-29 15:05:02 -0500 (Mon, 29 Nov 2021).

BUILD results for NxtIRFcore on nebbiolo2

To the developers/maintainers of the NxtIRFcore package:
- Please allow up to 24 hours (and sometimes 48 hours) for your latest push to git@git.bioconductor.org:packages/NxtIRFcore.git to
reflect on this report. See How and When does the builder pull? When will my changes propagate? here for more information.
- Make sure to use the following settings in order to reproduce any error or warning you see on this page.

raw results

Package 1312/2083HostnameOS / ArchINSTALLBUILDCHECKBUILD BIN
NxtIRFcore 1.0.0  (landing page)
Alex Chit Hei Wong
Snapshot Date: 2021-11-28 04:15:06 -0500 (Sun, 28 Nov 2021)
git_url: https://git.bioconductor.org/packages/NxtIRFcore
git_branch: RELEASE_3_14
git_last_commit: 933ccae
git_last_commit_date: 2021-10-26 13:13:51 -0500 (Tue, 26 Oct 2021)
nebbiolo2Linux (Ubuntu 20.04.3 LTS) / x86_64  OK    OK    OK  UNNEEDED, same version is already published
tokay2Windows Server 2012 R2 Standard / x64  OK    OK    OK    OK  UNNEEDED, same version is already published
machv2macOS 10.14.6 Mojave / x86_64  OK    OK    OK    OK  UNNEEDED, same version is already published

Summary

Package: NxtIRFcore
Version: 1.0.0
Command: /home/biocbuild/bbs-3.14-bioc/R/bin/R CMD build --keep-empty-dirs --no-resave-data NxtIRFcore
StartedAt: 2021-11-28 06:59:37 -0500 (Sun, 28 Nov 2021)
EndedAt: 2021-11-28 07:04:39 -0500 (Sun, 28 Nov 2021)
EllapsedTime: 301.8 seconds
RetCode: 0
Status:   OK  
PackageFile: NxtIRFcore_1.0.0.tar.gz
PackageFileSize: 2.111 MiB

Command output

##############################################################################
##############################################################################
###
### Running command:
###
###   /home/biocbuild/bbs-3.14-bioc/R/bin/R CMD build --keep-empty-dirs --no-resave-data NxtIRFcore
###
##############################################################################
##############################################################################


* checking for file ‘NxtIRFcore/DESCRIPTION’ ... OK
* preparing ‘NxtIRFcore’:
* checking DESCRIPTION meta-information ... OK
* cleaning src
* running ‘cleanup’
* installing the package to process help pages
* saving partial Rd database
* creating vignettes ... OK
* cleaning src
* running ‘cleanup’
* checking for LF line-endings in source and make files and shell scripts
* checking for empty or unneeded directories
  NB: this package now depends on R (>= 3.5.0)
  WARNING: Added dependency on R >= 3.5.0 because serialized objects in
  serialize/load version 3 cannot be read in older versions of R.
  File(s) containing such objects:
    ‘NxtIRFcore/inst/extdata/example_NxtSE.Rds’
* building ‘NxtIRFcore_1.0.0.tar.gz’