Back to Multiple platform build/check report for BioC 3.14
ABCDEFGHIJKLM[N]OPQRSTUVWXYZ

This page was generated on 2022-01-26 13:08:25 -0500 (Wed, 26 Jan 2022).

HostnameOSArch (*)R versionInstalled pkgs
nebbiolo2Linux (Ubuntu 20.04.4 LTS)x86_644.1.2 (2021-11-01) -- "Bird Hippie" 4329
tokay2Windows Server 2012 R2 Standardx644.1.2 (2021-11-01) -- "Bird Hippie" 4080
machv2macOS 10.14.6 Mojavex86_644.1.2 (2021-11-01) -- "Bird Hippie" 4141
Click on any hostname to see more info about the system (e.g. compilers)      (*) as reported by 'uname -p', except on Windows and Mac OS X

CHECK results for NanoMethViz on machv2


To the developers/maintainers of the NanoMethViz package:
- Please allow up to 24 hours (and sometimes 48 hours) for your latest push to git@git.bioconductor.org:packages/NanoMethViz.git to
reflect on this report. See How and When does the builder pull? When will my changes propagate? here for more information.
- Make sure to use the following settings in order to reproduce any error or warning you see on this page.

raw results

Package 1264/2083HostnameOS / ArchINSTALLBUILDCHECKBUILD BIN
NanoMethViz 2.0.0  (landing page)
Shian Su
Snapshot Date: 2022-01-25 01:55:07 -0500 (Tue, 25 Jan 2022)
git_url: https://git.bioconductor.org/packages/NanoMethViz
git_branch: RELEASE_3_14
git_last_commit: ea1692c
git_last_commit_date: 2021-10-26 13:04:32 -0500 (Tue, 26 Oct 2021)
nebbiolo2Linux (Ubuntu 20.04.4 LTS) / x86_64  OK    OK    OK  UNNEEDED, same version is already published
tokay2Windows Server 2012 R2 Standard / x64  OK    OK    OK    OK  UNNEEDED, same version is already published
machv2macOS 10.14.6 Mojave / x86_64  OK    OK    OK    OK  UNNEEDED, same version is already published

Summary

Package: NanoMethViz
Version: 2.0.0
Command: /Library/Frameworks/R.framework/Resources/bin/R CMD check --install=check:NanoMethViz.install-out.txt --library=/Library/Frameworks/R.framework/Resources/library --no-vignettes --timings NanoMethViz_2.0.0.tar.gz
StartedAt: 2022-01-25 15:41:39 -0500 (Tue, 25 Jan 2022)
EndedAt: 2022-01-25 15:50:55 -0500 (Tue, 25 Jan 2022)
EllapsedTime: 555.4 seconds
RetCode: 0
Status:   OK  
CheckDir: NanoMethViz.Rcheck
Warnings: 0

Command output

##############################################################################
##############################################################################
###
### Running command:
###
###   /Library/Frameworks/R.framework/Resources/bin/R CMD check --install=check:NanoMethViz.install-out.txt --library=/Library/Frameworks/R.framework/Resources/library --no-vignettes --timings NanoMethViz_2.0.0.tar.gz
###
##############################################################################
##############################################################################


* using log directory ‘/Users/biocbuild/bbs-3.14-bioc/meat/NanoMethViz.Rcheck’
* using R version 4.1.2 (2021-11-01)
* using platform: x86_64-apple-darwin17.0 (64-bit)
* using session charset: UTF-8
* using option ‘--no-vignettes’
* checking for file ‘NanoMethViz/DESCRIPTION’ ... OK
* checking extension type ... Package
* this is package ‘NanoMethViz’ version ‘2.0.0’
* package encoding: UTF-8
* checking package namespace information ... OK
* checking package dependencies ... OK
* checking if this is a source package ... OK
* checking if there is a namespace ... OK
* checking for hidden files and directories ... OK
* checking for portable file names ... OK
* checking for sufficient/correct file permissions ... OK
* checking whether package ‘NanoMethViz’ can be installed ... OK
* checking installed package size ... OK
* checking package directory ... OK
* checking ‘build’ directory ... OK
* checking DESCRIPTION meta-information ... OK
* checking top-level files ... OK
* checking for left-over files ... OK
* checking index information ... OK
* checking package subdirectories ... OK
* checking R files for non-ASCII characters ... OK
* checking R files for syntax errors ... OK
* checking whether the package can be loaded ... OK
* checking whether the package can be loaded with stated dependencies ... OK
* checking whether the package can be unloaded cleanly ... OK
* checking whether the namespace can be loaded with stated dependencies ... OK
* checking whether the namespace can be unloaded cleanly ... OK
* checking dependencies in R code ... NOTE
'library' or 'require' calls in package code:
  ‘Homo.sapiens’ ‘Mus.musculus’
  Please use :: or requireNamespace() instead.
  See section 'Suggested packages' in the 'Writing R Extensions' manual.
Namespace in Imports field not imported from: ‘ggthemes’
  All declared Imports should be used.
* checking S3 generic/method consistency ... OK
* checking replacement functions ... OK
* checking foreign function calls ... OK
* checking R code for possible problems ... NOTE
karyogram: no visible global function definition for ‘binMeans’
karyogram: no visible binding for global variable ‘pos’
karyogram: no visible binding for global variable ‘methy_prop’
karyogram: no visible global function definition for ‘geom_tile’
karyogram: no visible global function definition for ‘theme’
karyogram: no visible global function definition for ‘margin’
karyogram: no visible global function definition for ‘ggtitle’
Undefined global functions or variables:
  binMeans geom_tile ggtitle margin methy_prop pos theme
* checking Rd files ... OK
* checking Rd metadata ... OK
* checking Rd cross-references ... OK
* checking for missing documentation entries ... OK
* checking for code/documentation mismatches ... OK
* checking Rd \usage sections ... OK
* checking Rd contents ... OK
* checking for unstated dependencies in examples ... OK
* checking line endings in C/C++/Fortran sources/headers ... OK
* checking use of PKG_*FLAGS in Makefiles ... OK
* checking compiled code ... NOTE
Note: information on .o files is not available
* checking files in ‘vignettes’ ... OK
* checking examples ... OK
Examples with CPU (user + system) or elapsed time > 5s
                         user system elapsed
get_exons_homo_sapiens 24.837  1.355  26.208
get_exons_mus_musculus 21.161  0.793  21.977
plot_agg_regions        9.236  0.116   9.376
plot_gene_heatmap       8.204  0.113   8.325
plot_region_heatmap     8.121  0.084   8.211
NanoMethResult-class    6.933  0.683   7.632
* checking for unstated dependencies in ‘tests’ ... OK
* checking tests ...
  Running ‘testthat.R’
 OK
* checking for unstated dependencies in vignettes ... OK
* checking package vignettes in ‘inst/doc’ ... OK
* checking running R code from vignettes ... SKIPPED
* checking re-building of vignette outputs ... SKIPPED
* checking PDF version of manual ... OK
* DONE

Status: 3 NOTEs
See
  ‘/Users/biocbuild/bbs-3.14-bioc/meat/NanoMethViz.Rcheck/00check.log’
for details.



Installation output

NanoMethViz.Rcheck/00install.out

##############################################################################
##############################################################################
###
### Running command:
###
###   /Library/Frameworks/R.framework/Resources/bin/R CMD INSTALL NanoMethViz
###
##############################################################################
##############################################################################


* installing to library ‘/Library/Frameworks/R.framework/Versions/4.1/Resources/library’
* installing *source* package ‘NanoMethViz’ ...
** using staged installation
** libs
clang++ -mmacosx-version-min=10.13 -std=gnu++11 -I"/Library/Frameworks/R.framework/Resources/include" -DNDEBUG  -I'/Library/Frameworks/R.framework/Versions/4.1/Resources/library/Rcpp/include' -I/usr/local/include   -fPIC  -Wall -g -O2  -c RcppExports.cpp -o RcppExports.o
clang++ -mmacosx-version-min=10.13 -std=gnu++11 -I"/Library/Frameworks/R.framework/Resources/include" -DNDEBUG  -I'/Library/Frameworks/R.framework/Versions/4.1/Resources/library/Rcpp/include' -I/usr/local/include   -fPIC  -Wall -g -O2  -c convert_methy_to_dss.cpp -o convert_methy_to_dss.o
clang++ -mmacosx-version-min=10.13 -std=gnu++11 -I"/Library/Frameworks/R.framework/Resources/include" -DNDEBUG  -I'/Library/Frameworks/R.framework/Versions/4.1/Resources/library/Rcpp/include' -I/usr/local/include   -fPIC  -Wall -g -O2  -c utils.cpp -o utils.o
clang++ -mmacosx-version-min=10.13 -std=gnu++11 -dynamiclib -Wl,-headerpad_max_install_names -undefined dynamic_lookup -single_module -multiply_defined suppress -L/Library/Frameworks/R.framework/Resources/lib -L/usr/local/lib -o NanoMethViz.so RcppExports.o convert_methy_to_dss.o utils.o -F/Library/Frameworks/R.framework/.. -framework R -Wl,-framework -Wl,CoreFoundation
installing to /Library/Frameworks/R.framework/Versions/4.1/Resources/library/00LOCK-NanoMethViz/00new/NanoMethViz/libs
** R
** inst
** byte-compile and prepare package for lazy loading
** help
*** installing help indices
** building package indices
** installing vignettes
** testing if installed package can be loaded from temporary location
** checking absolute paths in shared objects and dynamic libraries
** testing if installed package can be loaded from final location
** testing if installed package keeps a record of temporary installation path
* DONE (NanoMethViz)

Tests output

NanoMethViz.Rcheck/tests/testthat.Rout


R version 4.1.2 (2021-11-01) -- "Bird Hippie"
Copyright (C) 2021 The R Foundation for Statistical Computing
Platform: x86_64-apple-darwin17.0 (64-bit)

R is free software and comes with ABSOLUTELY NO WARRANTY.
You are welcome to redistribute it under certain conditions.
Type 'license()' or 'licence()' for distribution details.

R is a collaborative project with many contributors.
Type 'contributors()' for more information and
'citation()' on how to cite R or R packages in publications.

Type 'demo()' for some demos, 'help()' for on-line help, or
'help.start()' for an HTML browser interface to help.
Type 'q()' to quit R.

> library(testthat)
> library(NanoMethViz)
Loading required package: ggplot2
> 
> test_check("NanoMethViz")
Loading required package: Mus.musculus
Loading required package: AnnotationDbi
Loading required package: stats4
Loading required package: BiocGenerics

Attaching package: 'BiocGenerics'

The following objects are masked from 'package:stats':

    IQR, mad, sd, var, xtabs

The following objects are masked from 'package:base':

    Filter, Find, Map, Position, Reduce, anyDuplicated, append,
    as.data.frame, basename, cbind, colnames, dirname, do.call,
    duplicated, eval, evalq, get, grep, grepl, intersect, is.unsorted,
    lapply, mapply, match, mget, order, paste, pmax, pmax.int, pmin,
    pmin.int, rank, rbind, rownames, sapply, setdiff, sort, table,
    tapply, union, unique, unsplit, which.max, which.min

Loading required package: Biobase
Welcome to Bioconductor

    Vignettes contain introductory material; view with
    'browseVignettes()'. To cite Bioconductor, see
    'citation("Biobase")', and for packages 'citation("pkgname")'.


Attaching package: 'Biobase'

The following object is masked from 'package:NanoMethViz':

    samples

Loading required package: IRanges
Loading required package: S4Vectors

Attaching package: 'S4Vectors'

The following objects are masked from 'package:base':

    I, expand.grid, unname

Loading required package: OrganismDbi
Loading required package: GenomicFeatures
Loading required package: GenomeInfoDb
Loading required package: GenomicRanges

Attaching package: 'GenomicFeatures'

The following object is masked from 'package:NanoMethViz':

    exons

Loading required package: GO.db

Loading required package: org.Mm.eg.db

Loading required package: TxDb.Mmusculus.UCSC.mm10.knownGene
[2022-01-25 15:50:04] creating intermediate files...
[2022-01-25 15:50:04] parsing chr11...
[2022-01-25 15:50:04] parsing chr12...
[2022-01-25 15:50:04] parsing chr18...
[2022-01-25 15:50:04] parsing chr5...
[2022-01-25 15:50:04] parsing chr7...
[2022-01-25 15:50:05] parsing chrX...
[2022-01-25 15:50:05] samples found: B6Cast_Prom_3_cast B6Cast_Prom_2_bl6 B6Cast_Prom_3_bl6 B6Cast_Prom_1_cast B6Cast_Prom_2_cast B6Cast_Prom_1_bl6 
[2022-01-25 15:50:05] creating bsseq object...
[2022-01-25 15:50:05] reading in parsed data...
[2022-01-25 15:50:05] constructing matrices...
[2022-01-25 15:50:05] done
[2022-01-25 15:50:05] creating intermediate files...
[2022-01-25 15:50:05] parsing chr11...
[2022-01-25 15:50:06] parsing chr12...
[2022-01-25 15:50:06] parsing chr18...
[2022-01-25 15:50:06] parsing chr5...
[2022-01-25 15:50:06] parsing chr7...
[2022-01-25 15:50:06] parsing chrX...
[2022-01-25 15:50:06] samples found: B6Cast_Prom_3_cast B6Cast_Prom_2_bl6 B6Cast_Prom_3_bl6 B6Cast_Prom_1_cast B6Cast_Prom_2_cast B6Cast_Prom_1_bl6 
[2022-01-25 15:50:06] creating bsseq object...
[2022-01-25 15:50:06] reading in parsed data...
[2022-01-25 15:50:06] constructing matrices...
[2022-01-25 15:50:07] done
[2022-01-25 15:50:07] creating intermediate files...
[2022-01-25 15:50:07] parsing chr11...
[2022-01-25 15:50:08] parsing chr12...
[2022-01-25 15:50:08] parsing chr18...
[2022-01-25 15:50:08] parsing chr5...
[2022-01-25 15:50:08] parsing chr7...
[2022-01-25 15:50:08] parsing chrX...
[2022-01-25 15:50:08] samples found: B6Cast_Prom_3_cast B6Cast_Prom_2_bl6 B6Cast_Prom_3_bl6 B6Cast_Prom_1_cast B6Cast_Prom_2_cast B6Cast_Prom_1_bl6 
[2022-01-25 15:50:08] creating bsseq object...
[2022-01-25 15:50:08] reading in parsed data...
[2022-01-25 15:50:08] constructing matrices...
[2022-01-25 15:50:10] done
processing /Library/Frameworks/R.framework/Versions/4.1/Resources/library/NanoMethViz/sample1_nanopolish.tsv.gz...
guessing file is produced by nanopolish...
processing /Library/Frameworks/R.framework/Versions/4.1/Resources/library/NanoMethViz/sample2_nanopolish.tsv.gz...
guessing file is produced by nanopolish...
[2022-01-25 15:50:43] sorting methylation table
[2022-01-25 15:50:43] compressing methylation table to tabix with index
[2022-01-25 15:50:43] creating intermediate files...
[2022-01-25 15:50:43] parsing chr1...
[2022-01-25 15:50:43] parsing chr2...
[2022-01-25 15:50:43] parsing chr3...
[2022-01-25 15:50:43] parsing chr4...
[2022-01-25 15:50:43] parsing chr5...
[2022-01-25 15:50:43] parsing chr6...
[2022-01-25 15:50:43] parsing chr7...
[2022-01-25 15:50:43] parsing chr8...
[2022-01-25 15:50:43] parsing chr9...
[2022-01-25 15:50:43] parsing chr10...
[2022-01-25 15:50:43] parsing chr11...
[2022-01-25 15:50:43] parsing chr12...
[2022-01-25 15:50:43] parsing chr13...
[2022-01-25 15:50:43] parsing chr14...
[2022-01-25 15:50:43] parsing chr15...
[2022-01-25 15:50:43] parsing chr16...
[2022-01-25 15:50:43] parsing chr17...
[2022-01-25 15:50:43] parsing chr18...
[2022-01-25 15:50:43] parsing chr19...
[2022-01-25 15:50:43] parsing chrM...
[2022-01-25 15:50:43] parsing chrX...
[2022-01-25 15:50:43] parsing chrY...
[2022-01-25 15:50:43] samples found: B6Cast_Prom_3_cast B6Cast_Prom_2_bl6 B6Cast_Prom_3_bl6 B6Cast_Prom_1_cast B6Cast_Prom_2_cast B6Cast_Prom_1_bl6 sample1_nanopolish.tsv sample2_nanopolish.tsv 
[2022-01-25 15:50:43] creating bsseq object...
[2022-01-25 15:50:43] reading in parsed data...
[2022-01-25 15:50:43] constructing matrices...
[2022-01-25 15:50:44] done
processing /Library/Frameworks/R.framework/Versions/4.1/Resources/library/NanoMethViz/megalodon_calls.txt.gz...
guessing file is produced by megalodon...
[2022-01-25 15:50:44] sorting methylation table
[2022-01-25 15:50:44] compressing methylation table to tabix with index
[ FAIL 0 | WARN 0 | SKIP 0 | PASS 43 ]
> 
> proc.time()
   user  system elapsed 
 65.948   2.331  67.994 

Example timings

NanoMethViz.Rcheck/NanoMethViz-Ex.timings

nameusersystemelapsed
NanoMethResult-class6.9330.6837.632
bsseq_to_edger1.6900.0721.719
bsseq_to_log_methy_ratio3.6110.0863.613
create_tabix_file0.2450.0250.271
exons0.0030.0000.004
exons_to_genes0.9150.0500.967
get_example_exons_mus_musculus0.7290.0600.791
get_exons_homo_sapiens24.837 1.35526.208
get_exons_mus_musculus21.161 0.79321.977
load_example_nanomethresult0.8290.0250.853
methy0.0000.0000.001
methy_col_names0.0000.0000.001
methy_to_bsseq3.4050.2843.568
plot_agg_regions9.2360.1169.376
plot_gene3.4940.0743.575
plot_gene_heatmap8.2040.1138.325
plot_grange2.3970.0462.446
plot_grange_heatmap4.4380.0564.497
plot_mds2.9710.0892.915
plot_pca2.9140.0872.834
plot_region3.6980.0543.754
plot_region_heatmap8.1210.0848.211
query_methy1.0700.0221.094
samples0.0010.0000.001