Back to Multiple platform build/check report for BioC 3.14
ABCDEFGHIJKLM[N]OPQRSTUVWXYZ

This page was generated on 2022-01-14 13:08:14 -0500 (Fri, 14 Jan 2022).

HostnameOSArch (*)R versionInstalled pkgs
nebbiolo2Linux (Ubuntu 20.04.4 LTS)x86_644.1.2 (2021-11-01) -- "Bird Hippie" 4327
tokay2Windows Server 2012 R2 Standardx644.1.2 (2021-11-01) -- "Bird Hippie" 4076
machv2macOS 10.14.6 Mojavex86_644.1.2 (2021-11-01) -- "Bird Hippie" 4137
Click on any hostname to see more info about the system (e.g. compilers)      (*) as reported by 'uname -p', except on Windows and Mac OS X

BUILD BIN results for NanoMethViz on machv2


To the developers/maintainers of the NanoMethViz package:
- Please allow up to 24 hours (and sometimes 48 hours) for your latest push to git@git.bioconductor.org:packages/NanoMethViz.git to
reflect on this report. See How and When does the builder pull? When will my changes propagate? here for more information.
- Make sure to use the following settings in order to reproduce any error or warning you see on this page.

raw results

Package 1264/2083HostnameOS / ArchINSTALLBUILDCHECKBUILD BIN
NanoMethViz 2.0.0  (landing page)
Shian Su
Snapshot Date: 2022-01-13 01:55:04 -0500 (Thu, 13 Jan 2022)
git_url: https://git.bioconductor.org/packages/NanoMethViz
git_branch: RELEASE_3_14
git_last_commit: ea1692c
git_last_commit_date: 2021-10-26 13:04:32 -0500 (Tue, 26 Oct 2021)
nebbiolo2Linux (Ubuntu 20.04.4 LTS) / x86_64  OK    OK    OK  UNNEEDED, same version is already published
tokay2Windows Server 2012 R2 Standard / x64  OK    OK    OK    OK  UNNEEDED, same version is already published
machv2macOS 10.14.6 Mojave / x86_64  OK    OK    OK    OK  UNNEEDED, same version is already published

Summary

Package: NanoMethViz
Version: 2.0.0
Command: rm -rf NanoMethViz.buildbin-libdir && mkdir NanoMethViz.buildbin-libdir && /Users/biocbuild/BBS/utils/build-universal.sh NanoMethViz_2.0.0.tar.gz /Library/Frameworks/R.framework/Resources/bin/R NanoMethViz.buildbin-libdir
StartedAt: 2022-01-13 20:39:18 -0500 (Thu, 13 Jan 2022)
EndedAt: 2022-01-13 20:40:55 -0500 (Thu, 13 Jan 2022)
EllapsedTime: 97.1 seconds
RetCode: 0
Status:   OK  
PackageFile: NanoMethViz_2.0.0.tgz
PackageFileSize: 3.877 MiB

Command output

##############################################################################
##############################################################################
###
### Running command:
###
###   rm -rf NanoMethViz.buildbin-libdir && mkdir NanoMethViz.buildbin-libdir && /Users/biocbuild/BBS/utils/build-universal.sh NanoMethViz_2.0.0.tar.gz /Library/Frameworks/R.framework/Resources/bin/R NanoMethViz.buildbin-libdir
###
##############################################################################
##############################################################################


>>>>>>> 
>>>>>>> INSTALLATION WITH 'R CMD INSTALL --preclean --no-multiarch --library=NanoMethViz.buildbin-libdir NanoMethViz_2.0.0.tar.gz'
>>>>>>> 

* installing *source* package ‘NanoMethViz’ ...
** using staged installation
** libs
clang++ -mmacosx-version-min=10.13 -std=gnu++11 -I"/Library/Frameworks/R.framework/Resources/include" -DNDEBUG  -I'/Library/Frameworks/R.framework/Versions/4.1/Resources/library/Rcpp/include' -I/usr/local/include   -fPIC  -Wall -g -O2  -c RcppExports.cpp -o RcppExports.o
clang++ -mmacosx-version-min=10.13 -std=gnu++11 -I"/Library/Frameworks/R.framework/Resources/include" -DNDEBUG  -I'/Library/Frameworks/R.framework/Versions/4.1/Resources/library/Rcpp/include' -I/usr/local/include   -fPIC  -Wall -g -O2  -c convert_methy_to_dss.cpp -o convert_methy_to_dss.o
clang++ -mmacosx-version-min=10.13 -std=gnu++11 -I"/Library/Frameworks/R.framework/Resources/include" -DNDEBUG  -I'/Library/Frameworks/R.framework/Versions/4.1/Resources/library/Rcpp/include' -I/usr/local/include   -fPIC  -Wall -g -O2  -c utils.cpp -o utils.o
clang++ -mmacosx-version-min=10.13 -std=gnu++11 -dynamiclib -Wl,-headerpad_max_install_names -undefined dynamic_lookup -single_module -multiply_defined suppress -L/Library/Frameworks/R.framework/Resources/lib -L/usr/local/lib -o NanoMethViz.so RcppExports.o convert_methy_to_dss.o utils.o -F/Library/Frameworks/R.framework/.. -framework R -Wl,-framework -Wl,CoreFoundation
installing to /Users/biocbuild/bbs-3.14-bioc/meat/NanoMethViz.buildbin-libdir/00LOCK-NanoMethViz/00new/NanoMethViz/libs
** R
** inst
** byte-compile and prepare package for lazy loading
** help
*** installing help indices
** building package indices
** installing vignettes
** testing if installed package can be loaded from temporary location
** checking absolute paths in shared objects and dynamic libraries
** testing if installed package can be loaded from final location
** testing if installed package keeps a record of temporary installation path
* DONE (NanoMethViz)


>>>>>>> 
>>>>>>> FIXING LINKS FOR NanoMethViz.buildbin-libdir/NanoMethViz/libs/NanoMethViz.so
>>>>>>> 

install_name_tool -change "/usr/local/lib/libgcc_s.1.dylib" "/Library/Frameworks/R.framework/Versions/4.1/Resources/lib/libgcc_s.1.dylib" "NanoMethViz.buildbin-libdir/NanoMethViz/libs/NanoMethViz.so"
install_name_tool -change "/usr/local/lib/libgfortran.5.dylib" "/Library/Frameworks/R.framework/Versions/4.1/Resources/lib/libgfortran.5.dylib" "NanoMethViz.buildbin-libdir/NanoMethViz/libs/NanoMethViz.so"
install_name_tool -change "/usr/local/lib/libquadmath.0.dylib" "/Library/Frameworks/R.framework/Versions/4.1/Resources/lib/libquadmath.0.dylib" "NanoMethViz.buildbin-libdir/NanoMethViz/libs/NanoMethViz.so"