![]() | Name | Last modified | Size | Description |
---|---|---|---|---|
![]() | Parent Directory | - | ||
![]() | install-out.txt | 14-Apr-2022 01:07 | 2.4K | |
![]() | install-summary.dcf | 14-Apr-2022 01:07 | 616 | |
![]() | buildsrc-out.txt | 14-Apr-2022 01:07 | 834 | |
![]() | buildsrc-summary.dcf | 14-Apr-2022 01:07 | 449 | |
![]() | checksrc-out.txt | 14-Apr-2022 01:07 | 4.0K | |
![]() | checksrc-summary.dcf | 14-Apr-2022 01:07 | 451 | |
![]() | buildbin-out.txt | 14-Apr-2022 01:07 | 1.7K | |
![]() | buildbin-summary.dcf | 14-Apr-2022 01:07 | 523 | |