Back to Multiple platform build/check report for BioC 3.14
ABCDEFGHIJKLM[N]OPQRSTUVWXYZ

This page was generated on 2021-12-03 13:04:55 -0500 (Fri, 03 Dec 2021).

INSTALL results for NPARC on nebbiolo2

To the developers/maintainers of the NPARC package:
- Please allow up to 24 hours (and sometimes 48 hours) for your latest push to git@git.bioconductor.org:packages/NPARC.git to
reflect on this report. See How and When does the builder pull? When will my changes propagate? here for more information.
- Make sure to use the following settings in order to reproduce any error or warning you see on this page.

raw results

Package 1304/2083HostnameOS / ArchINSTALLBUILDCHECKBUILD BIN
NPARC 1.6.0  (landing page)
Nils Kurzawa
Snapshot Date: 2021-12-02 01:55:06 -0500 (Thu, 02 Dec 2021)
git_url: https://git.bioconductor.org/packages/NPARC
git_branch: RELEASE_3_14
git_last_commit: 59fa586
git_last_commit_date: 2021-10-26 12:56:28 -0500 (Tue, 26 Oct 2021)
nebbiolo2Linux (Ubuntu 20.04.3 LTS) / x86_64  OK    OK    OK  UNNEEDED, same version is already published
tokay2Windows Server 2012 R2 Standard / x64  OK    OK    OK    OK  UNNEEDED, same version is already published
machv2macOS 10.14.6 Mojave / x86_64  OK    OK    OK    OK  UNNEEDED, same version is already published

Summary

Package: NPARC
Version: 1.6.0
Command: /home/biocbuild/bbs-3.14-bioc/R/bin/R CMD INSTALL NPARC
StartedAt: 2021-12-02 03:25:41 -0500 (Thu, 02 Dec 2021)
EndedAt: 2021-12-02 03:25:46 -0500 (Thu, 02 Dec 2021)
EllapsedTime: 4.9 seconds
RetCode: 0
Status:   OK  

Command output

##############################################################################
##############################################################################
###
### Running command:
###
###   /home/biocbuild/bbs-3.14-bioc/R/bin/R CMD INSTALL NPARC
###
##############################################################################
##############################################################################


* installing to library ‘/home/biocbuild/bbs-3.14-bioc/R/library’
* installing *source* package ‘NPARC’ ...
** using staged installation
** R
** data
*** moving datasets to lazyload DB
** inst
** byte-compile and prepare package for lazy loading
** help
*** installing help indices
** building package indices
** installing vignettes
** testing if installed package can be loaded from temporary location
** testing if installed package can be loaded from final location
** testing if installed package keeps a record of temporary installation path
* DONE (NPARC)