Back to Multiple platform build/check report for BioC 3.14
ABCDEFGHIJKLM[N]OPQRSTUVWXYZ

This page was generated on 2022-01-21 13:06:45 -0500 (Fri, 21 Jan 2022).

HostnameOSArch (*)R versionInstalled pkgs
nebbiolo2Linux (Ubuntu 20.04.4 LTS)x86_644.1.2 (2021-11-01) -- "Bird Hippie" 4329
tokay2Windows Server 2012 R2 Standardx644.1.2 (2021-11-01) -- "Bird Hippie" 4079
machv2macOS 10.14.6 Mojavex86_644.1.2 (2021-11-01) -- "Bird Hippie" 4140
Click on any hostname to see more info about the system (e.g. compilers)      (*) as reported by 'uname -p', except on Windows and Mac OS X

INSTALL results for NBSplice on tokay2


To the developers/maintainers of the NBSplice package:
- Please allow up to 24 hours (and sometimes 48 hours) for your latest push to git@git.bioconductor.org:packages/NBSplice.git to
reflect on this report. See How and When does the builder pull? When will my changes propagate? here for more information.
- Make sure to use the following settings in order to reproduce any error or warning you see on this page.

raw results

Package 1271/2083HostnameOS / ArchINSTALLBUILDCHECKBUILD BIN
NBSplice 1.12.0  (landing page)
Gabriela Merino
Snapshot Date: 2022-01-20 01:55:04 -0500 (Thu, 20 Jan 2022)
git_url: https://git.bioconductor.org/packages/NBSplice
git_branch: RELEASE_3_14
git_last_commit: 9f992af
git_last_commit_date: 2021-10-26 12:45:43 -0500 (Tue, 26 Oct 2021)
nebbiolo2Linux (Ubuntu 20.04.4 LTS) / x86_64  OK    OK    OK  UNNEEDED, same version is already published
tokay2Windows Server 2012 R2 Standard / x64  OK    OK    OK    OK  UNNEEDED, same version is already published
machv2macOS 10.14.6 Mojave / x86_64  OK    OK    OK    OK  UNNEEDED, same version is already published

Summary

Package: NBSplice
Version: 1.12.0
Command: C:\cygwin\bin\curl.exe -O http://155.52.207.166/BBS/3.14/bioc/src/contrib/NBSplice_1.12.0.tar.gz && rm -rf NBSplice.buildbin-libdir && mkdir NBSplice.buildbin-libdir && C:\Users\biocbuild\bbs-3.14-bioc\R\bin\R.exe CMD INSTALL --merge-multiarch --build --library=NBSplice.buildbin-libdir NBSplice_1.12.0.tar.gz && C:\Users\biocbuild\bbs-3.14-bioc\R\bin\R.exe CMD INSTALL NBSplice_1.12.0.zip && rm NBSplice_1.12.0.tar.gz NBSplice_1.12.0.zip
StartedAt: 2022-01-20 06:19:54 -0500 (Thu, 20 Jan 2022)
EndedAt: 2022-01-20 06:21:34 -0500 (Thu, 20 Jan 2022)
EllapsedTime: 100.2 seconds
RetCode: 0
Status:   OK  

Command output

##############################################################################
##############################################################################
###
### Running command:
###
###   C:\cygwin\bin\curl.exe -O http://155.52.207.166/BBS/3.14/bioc/src/contrib/NBSplice_1.12.0.tar.gz && rm -rf NBSplice.buildbin-libdir && mkdir NBSplice.buildbin-libdir && C:\Users\biocbuild\bbs-3.14-bioc\R\bin\R.exe CMD INSTALL --merge-multiarch --build --library=NBSplice.buildbin-libdir NBSplice_1.12.0.tar.gz && C:\Users\biocbuild\bbs-3.14-bioc\R\bin\R.exe CMD INSTALL NBSplice_1.12.0.zip && rm NBSplice_1.12.0.tar.gz NBSplice_1.12.0.zip
###
##############################################################################
##############################################################################


  % Total    % Received % Xferd  Average Speed   Time    Time     Time  Current
                                 Dload  Upload   Total   Spent    Left  Speed

  0     0    0     0    0     0      0      0 --:--:-- --:--:-- --:--:--     0
  1  917k    1 15989    0     0   135k      0  0:00:06 --:--:--  0:00:06  135k
100  917k  100  917k    0     0  1913k      0 --:--:-- --:--:-- --:--:-- 1912k

install for i386

* installing *source* package 'NBSplice' ...
** using staged installation
** R
** data
** inst
** byte-compile and prepare package for lazy loading
** help
*** installing help indices
  converting help for package 'NBSplice'
    finding HTML links ... done
    IsoDataSet-NBTest                       html  
    IsoDataSet-buildLowExpIdx               html  
    IsoDataSet-class                        html  
    IsoDataSet-constructor                  html  
    IsoDataSet-core                         html  
    IsoDataSet-getters                      html  
    IsoDataSet-initialize                   html  
    IsoDataSet-print                        html  
    IsoDataSet-show                         html  
    NBSplice-package                        html  
    NBSpliceRes-GetDSGenes                  html  
    NBSpliceRes-GetDSResults                html  
    NBSpliceRes-GetGeneResults              html  
    NBSpliceRes-class                       html  
    NBSpliceRes-constructor                 html  
    NBSpliceRes-getters                     html  
    NBSpliceRes-initialize                  html  
    NBSpliceRes-plotGeneResults             html  
    NBSpliceRes-plotRatiosDisp              html  
    NBSpliceRes-plotVolcano                 html  
    NBSpliceRes-print                       html  
    NBSpliceRes-show                        html  
    designMatrix                            html  
    geneIso                                 html  
    isoCountsData                           html  
    myDSResults                             html  
    myIsoDataSet                            html  
    totalGeneCounts                         html  
** building package indices
** installing vignettes
** testing if installed package can be loaded from temporary location
** testing if installed package can be loaded from final location
** testing if installed package keeps a record of temporary installation path

install for x64

* installing *source* package 'NBSplice' ...
** testing if installed package can be loaded
* MD5 sums
packaged installation of 'NBSplice' as NBSplice_1.12.0.zip
* DONE (NBSplice)
* installing to library 'C:/Users/biocbuild/bbs-3.14-bioc/R/library'
package 'NBSplice' successfully unpacked and MD5 sums checked