Back to Multiple platform build/check report for BioC 3.14
ABCDEFGHIJKLM[N]OPQRSTUVWXYZ

This page was generated on 2022-01-14 13:06:48 -0500 (Fri, 14 Jan 2022).

HostnameOSArch (*)R versionInstalled pkgs
nebbiolo2Linux (Ubuntu 20.04.4 LTS)x86_644.1.2 (2021-11-01) -- "Bird Hippie" 4327
tokay2Windows Server 2012 R2 Standardx644.1.2 (2021-11-01) -- "Bird Hippie" 4076
machv2macOS 10.14.6 Mojavex86_644.1.2 (2021-11-01) -- "Bird Hippie" 4137
Click on any hostname to see more info about the system (e.g. compilers)      (*) as reported by 'uname -p', except on Windows and Mac OS X

INSTALL results for NBAMSeq on tokay2


To the developers/maintainers of the NBAMSeq package:
- Please allow up to 24 hours (and sometimes 48 hours) for your latest push to git@git.bioconductor.org:packages/NBAMSeq.git to
reflect on this report. See How and When does the builder pull? When will my changes propagate? here for more information.
- Make sure to use the following settings in order to reproduce any error or warning you see on this page.

raw results

Package 1270/2083HostnameOS / ArchINSTALLBUILDCHECKBUILD BIN
NBAMSeq 1.10.0  (landing page)
Xu Ren
Snapshot Date: 2022-01-13 01:55:04 -0500 (Thu, 13 Jan 2022)
git_url: https://git.bioconductor.org/packages/NBAMSeq
git_branch: RELEASE_3_14
git_last_commit: 68cc51c
git_last_commit_date: 2021-10-26 12:50:51 -0500 (Tue, 26 Oct 2021)
nebbiolo2Linux (Ubuntu 20.04.4 LTS) / x86_64  OK    OK    OK  UNNEEDED, same version is already published
tokay2Windows Server 2012 R2 Standard / x64  OK    OK    OK    OK  UNNEEDED, same version is already published
machv2macOS 10.14.6 Mojave / x86_64  OK    OK    OK    OK  UNNEEDED, same version is already published

Summary

Package: NBAMSeq
Version: 1.10.0
Command: C:\cygwin\bin\curl.exe -O http://155.52.207.166/BBS/3.14/bioc/src/contrib/NBAMSeq_1.10.0.tar.gz && rm -rf NBAMSeq.buildbin-libdir && mkdir NBAMSeq.buildbin-libdir && C:\Users\biocbuild\bbs-3.14-bioc\R\bin\R.exe CMD INSTALL --merge-multiarch --build --library=NBAMSeq.buildbin-libdir NBAMSeq_1.10.0.tar.gz && C:\Users\biocbuild\bbs-3.14-bioc\R\bin\R.exe CMD INSTALL NBAMSeq_1.10.0.zip && rm NBAMSeq_1.10.0.tar.gz NBAMSeq_1.10.0.zip
StartedAt: 2022-01-13 05:51:37 -0500 (Thu, 13 Jan 2022)
EndedAt: 2022-01-13 05:52:37 -0500 (Thu, 13 Jan 2022)
EllapsedTime: 60.3 seconds
RetCode: 0
Status:   OK  

Command output

##############################################################################
##############################################################################
###
### Running command:
###
###   C:\cygwin\bin\curl.exe -O http://155.52.207.166/BBS/3.14/bioc/src/contrib/NBAMSeq_1.10.0.tar.gz && rm -rf NBAMSeq.buildbin-libdir && mkdir NBAMSeq.buildbin-libdir && C:\Users\biocbuild\bbs-3.14-bioc\R\bin\R.exe CMD INSTALL --merge-multiarch --build --library=NBAMSeq.buildbin-libdir NBAMSeq_1.10.0.tar.gz && C:\Users\biocbuild\bbs-3.14-bioc\R\bin\R.exe CMD INSTALL NBAMSeq_1.10.0.zip && rm NBAMSeq_1.10.0.tar.gz NBAMSeq_1.10.0.zip
###
##############################################################################
##############################################################################


  % Total    % Received % Xferd  Average Speed   Time    Time     Time  Current
                                 Dload  Upload   Total   Spent    Left  Speed

  0     0    0     0    0     0      0      0 --:--:-- --:--:-- --:--:--     0
100 20347  100 20347    0     0   243k      0 --:--:-- --:--:-- --:--:--  245k

install for i386

* installing *source* package 'NBAMSeq' ...
** using staged installation
** R
** inst
** byte-compile and prepare package for lazy loading
** help
*** installing help indices
  converting help for package 'NBAMSeq'
    finding HTML links ... done
    NBAMSeq-methods                         html  
    NBAMSeq                                 html  
    finding level-2 HTML links ... done

    NBAMSeqDataSet-class                    html  
    NBAMSeqDataSet                          html  
    makeExample                             html  
    makeplot                                html  
    results                                 html  
** building package indices
** installing vignettes
** testing if installed package can be loaded from temporary location
** testing if installed package can be loaded from final location
** testing if installed package keeps a record of temporary installation path

install for x64

* installing *source* package 'NBAMSeq' ...
** testing if installed package can be loaded
* MD5 sums
packaged installation of 'NBAMSeq' as NBAMSeq_1.10.0.zip
* DONE (NBAMSeq)
* installing to library 'C:/Users/biocbuild/bbs-3.14-bioc/R/library'
package 'NBAMSeq' successfully unpacked and MD5 sums checked