Back to Multiple platform build/check report for BioC 3.14
ABCDEFGHIJKLM[N]OPQRSTUVWXYZ

This page was generated on 2021-12-06 13:05:05 -0500 (Mon, 06 Dec 2021).

BUILD results for NBAMSeq on nebbiolo2

To the developers/maintainers of the NBAMSeq package:
- Please allow up to 24 hours (and sometimes 48 hours) for your latest push to git@git.bioconductor.org:packages/NBAMSeq.git to
reflect on this report. See How and When does the builder pull? When will my changes propagate? here for more information.
- Make sure to use the following settings in order to reproduce any error or warning you see on this page.

raw results

Package 1270/2083HostnameOS / ArchINSTALLBUILDCHECKBUILD BIN
NBAMSeq 1.10.0  (landing page)
Xu Ren
Snapshot Date: 2021-12-05 01:55:05 -0500 (Sun, 05 Dec 2021)
git_url: https://git.bioconductor.org/packages/NBAMSeq
git_branch: RELEASE_3_14
git_last_commit: 68cc51c
git_last_commit_date: 2021-10-26 12:50:51 -0500 (Tue, 26 Oct 2021)
nebbiolo2Linux (Ubuntu 20.04.3 LTS) / x86_64  OK    OK    OK  UNNEEDED, same version is already published
tokay2Windows Server 2012 R2 Standard / x64  OK    OK    OK    OK  UNNEEDED, same version is already published
machv2macOS 10.14.6 Mojave / x86_64  OK    OK    OK    OK  UNNEEDED, same version is already published

Summary

Package: NBAMSeq
Version: 1.10.0
Command: /home/biocbuild/bbs-3.14-bioc/R/bin/R CMD build --keep-empty-dirs --no-resave-data NBAMSeq
StartedAt: 2021-12-05 05:06:56 -0500 (Sun, 05 Dec 2021)
EndedAt: 2021-12-05 05:07:44 -0500 (Sun, 05 Dec 2021)
EllapsedTime: 47.9 seconds
RetCode: 0
Status:   OK  
PackageFile: NBAMSeq_1.10.0.tar.gz
PackageFileSize: 281.4 KiB

Command output

##############################################################################
##############################################################################
###
### Running command:
###
###   /home/biocbuild/bbs-3.14-bioc/R/bin/R CMD build --keep-empty-dirs --no-resave-data NBAMSeq
###
##############################################################################
##############################################################################


* checking for file ‘NBAMSeq/DESCRIPTION’ ... OK
* preparing ‘NBAMSeq’:
* checking DESCRIPTION meta-information ... OK
* installing the package to build vignettes
* creating vignettes ... OK
* checking for LF line-endings in source and make files and shell scripts
* checking for empty or unneeded directories
* building ‘NBAMSeq_1.10.0.tar.gz’