Back to Multiple platform build/check report for BioC 3.14
ABCDEFGHIJKL[M]NOPQRSTUVWXYZ

This page was generated on 2022-01-19 13:06:58 -0500 (Wed, 19 Jan 2022).

HostnameOSArch (*)R versionInstalled pkgs
nebbiolo2Linux (Ubuntu 20.04.4 LTS)x86_644.1.2 (2021-11-01) -- "Bird Hippie" 4328
tokay2Windows Server 2012 R2 Standardx644.1.2 (2021-11-01) -- "Bird Hippie" 4077
machv2macOS 10.14.6 Mojavex86_644.1.2 (2021-11-01) -- "Bird Hippie" 4138
Click on any hostname to see more info about the system (e.g. compilers)      (*) as reported by 'uname -p', except on Windows and Mac OS X

INSTALL results for MsBackendRawFileReader on tokay2


To the developers/maintainers of the MsBackendRawFileReader package:
- Please allow up to 24 hours (and sometimes 48 hours) for your latest push to git@git.bioconductor.org:packages/MsBackendRawFileReader.git to
reflect on this report. See How and When does the builder pull? When will my changes propagate? here for more information.
- Make sure to use the following settings in order to reproduce any error or warning you see on this page.

raw results

Package 1213/2083HostnameOS / ArchINSTALLBUILDCHECKBUILD BIN
MsBackendRawFileReader 1.0.0  (landing page)
Christian Panse
Snapshot Date: 2022-01-18 01:55:07 -0500 (Tue, 18 Jan 2022)
git_url: https://git.bioconductor.org/packages/MsBackendRawFileReader
git_branch: RELEASE_3_14
git_last_commit: a1aa867
git_last_commit_date: 2021-10-26 13:13:18 -0500 (Tue, 26 Oct 2021)
nebbiolo2Linux (Ubuntu 20.04.4 LTS) / x86_64  OK    OK    OK  UNNEEDED, same version is already published
tokay2Windows Server 2012 R2 Standard / x64  OK    OK    OK    OK  UNNEEDED, same version is already published
machv2macOS 10.14.6 Mojave / x86_64  OK    OK    OK    OK  UNNEEDED, same version is already published

Summary

Package: MsBackendRawFileReader
Version: 1.0.0
Command: C:\cygwin\bin\curl.exe -O http://155.52.207.166/BBS/3.14/bioc/src/contrib/MsBackendRawFileReader_1.0.0.tar.gz && rm -rf MsBackendRawFileReader.buildbin-libdir && mkdir MsBackendRawFileReader.buildbin-libdir && C:\Users\biocbuild\bbs-3.14-bioc\R\bin\R.exe CMD INSTALL --merge-multiarch --build --library=MsBackendRawFileReader.buildbin-libdir MsBackendRawFileReader_1.0.0.tar.gz && C:\Users\biocbuild\bbs-3.14-bioc\R\bin\R.exe CMD INSTALL MsBackendRawFileReader_1.0.0.zip && rm MsBackendRawFileReader_1.0.0.tar.gz MsBackendRawFileReader_1.0.0.zip
StartedAt: 2022-01-18 04:28:11 -0500 (Tue, 18 Jan 2022)
EndedAt: 2022-01-18 04:28:59 -0500 (Tue, 18 Jan 2022)
EllapsedTime: 47.6 seconds
RetCode: 0
Status:   OK  

Command output

##############################################################################
##############################################################################
###
### Running command:
###
###   C:\cygwin\bin\curl.exe -O http://155.52.207.166/BBS/3.14/bioc/src/contrib/MsBackendRawFileReader_1.0.0.tar.gz && rm -rf MsBackendRawFileReader.buildbin-libdir && mkdir MsBackendRawFileReader.buildbin-libdir && C:\Users\biocbuild\bbs-3.14-bioc\R\bin\R.exe CMD INSTALL --merge-multiarch --build --library=MsBackendRawFileReader.buildbin-libdir MsBackendRawFileReader_1.0.0.tar.gz && C:\Users\biocbuild\bbs-3.14-bioc\R\bin\R.exe CMD INSTALL MsBackendRawFileReader_1.0.0.zip && rm MsBackendRawFileReader_1.0.0.tar.gz MsBackendRawFileReader_1.0.0.zip
###
##############################################################################
##############################################################################


  % Total    % Received % Xferd  Average Speed   Time    Time     Time  Current
                                 Dload  Upload   Total   Spent    Left  Speed

  0     0    0     0    0     0      0      0 --:--:-- --:--:-- --:--:--     0
 10  422k   10 44577    0     0   405k      0  0:00:01 --:--:--  0:00:01  406k
100  422k  100  422k    0     0  1779k      0 --:--:-- --:--:-- --:--:-- 1782k

install for i386

* installing *source* package 'MsBackendRawFileReader' ...
** using staged installation
** R
** inst
** byte-compile and prepare package for lazy loading
** help
*** installing help indices
  converting help for package 'MsBackendRawFileReader'
    finding HTML links ... done
    MsBackendRawFileReader-class            html  
    MsBackendRawFileReader                  html  
    hidden_aliases                          html  
    ioBenchmark                             html  
** building package indices
** installing vignettes
** testing if installed package can be loaded from temporary location
** testing if installed package can be loaded from final location
** testing if installed package keeps a record of temporary installation path

install for x64

* installing *source* package 'MsBackendRawFileReader' ...
** testing if installed package can be loaded
* MD5 sums
packaged installation of 'MsBackendRawFileReader' as MsBackendRawFileReader_1.0.0.zip
* DONE (MsBackendRawFileReader)
* installing to library 'C:/Users/biocbuild/bbs-3.14-bioc/R/library'
package 'MsBackendRawFileReader' successfully unpacked and MD5 sums checked