Back to Multiple platform build/check report for BioC 3.14
ABCDEFGHIJKL[M]NOPQRSTUVWXYZ

This page was generated on 2022-01-26 13:06:57 -0500 (Wed, 26 Jan 2022).

HostnameOSArch (*)R versionInstalled pkgs
nebbiolo2Linux (Ubuntu 20.04.4 LTS)x86_644.1.2 (2021-11-01) -- "Bird Hippie" 4329
tokay2Windows Server 2012 R2 Standardx644.1.2 (2021-11-01) -- "Bird Hippie" 4080
machv2macOS 10.14.6 Mojavex86_644.1.2 (2021-11-01) -- "Bird Hippie" 4141
Click on any hostname to see more info about the system (e.g. compilers)      (*) as reported by 'uname -p', except on Windows and Mac OS X

BUILD BIN results for MsBackendMassbank on tokay2


To the developers/maintainers of the MsBackendMassbank package:
- Please allow up to 24 hours (and sometimes 48 hours) for your latest push to git@git.bioconductor.org:packages/MsBackendMassbank.git to
reflect on this report. See How and When does the builder pull? When will my changes propagate? here for more information.
- Make sure to use the following settings in order to reproduce any error or warning you see on this page.

raw results

Package 1211/2083HostnameOS / ArchINSTALLBUILDCHECKBUILD BIN
MsBackendMassbank 1.2.0  (landing page)
RforMassSpectrometry Package Maintainer
Snapshot Date: 2022-01-25 01:55:07 -0500 (Tue, 25 Jan 2022)
git_url: https://git.bioconductor.org/packages/MsBackendMassbank
git_branch: RELEASE_3_14
git_last_commit: 83d84a5
git_last_commit_date: 2021-10-26 13:07:15 -0500 (Tue, 26 Oct 2021)
nebbiolo2Linux (Ubuntu 20.04.4 LTS) / x86_64  OK    OK    OK  UNNEEDED, same version is already published
tokay2Windows Server 2012 R2 Standard / x64  OK    OK    OK    OK  UNNEEDED, same version is already published
machv2macOS 10.14.6 Mojave / x86_64  OK    OK    OK    OK  UNNEEDED, same version is already published

Summary

Package: MsBackendMassbank
Version: 1.2.0
Command: rm -rf MsBackendMassbank.buildbin-libdir && mkdir MsBackendMassbank.buildbin-libdir && C:\Users\biocbuild\bbs-3.14-bioc\R\bin\R.exe CMD INSTALL --merge-multiarch --build --library=MsBackendMassbank.buildbin-libdir MsBackendMassbank_1.2.0.tar.gz
StartedAt: 2022-01-26 06:36:08 -0500 (Wed, 26 Jan 2022)
EndedAt: 2022-01-26 06:36:45 -0500 (Wed, 26 Jan 2022)
EllapsedTime: 37.2 seconds
RetCode: 0
Status:   OK  
PackageFile: MsBackendMassbank_1.2.0.zip
PackageFileSize: 673.3 KiB

Command output

##############################################################################
##############################################################################
###
### Running command:
###
###   rm -rf MsBackendMassbank.buildbin-libdir && mkdir MsBackendMassbank.buildbin-libdir && C:\Users\biocbuild\bbs-3.14-bioc\R\bin\R.exe CMD INSTALL --merge-multiarch --build --library=MsBackendMassbank.buildbin-libdir MsBackendMassbank_1.2.0.tar.gz
###
##############################################################################
##############################################################################



install for i386

* installing *source* package 'MsBackendMassbank' ...
** using staged installation
** R
** inst
** byte-compile and prepare package for lazy loading
** help
*** installing help indices
  converting help for package 'MsBackendMassbank'
    finding HTML links ... done
    MsBackendMassbank                       html  
    finding level-2 HTML links ... done

    MsBackendMassbankSql                    html  
    hidden_aliases                          html  
    metaDataBlocks                          html  
** building package indices
** installing vignettes
** testing if installed package can be loaded from temporary location
** testing if installed package can be loaded from final location
** testing if installed package keeps a record of temporary installation path

install for x64

* installing *source* package 'MsBackendMassbank' ...
** testing if installed package can be loaded
* MD5 sums
packaged installation of 'MsBackendMassbank' as MsBackendMassbank_1.2.0.zip
* DONE (MsBackendMassbank)