Back to Multiple platform build/check report for BioC 3.14
ABCDEFGHIJKL[M]NOPQRSTUVWXYZ

This page was generated on 2021-12-01 17:17:30 -0500 (Wed, 01 Dec 2021).

BUILD results for MsBackendMassbank on nebbiolo2

To the developers/maintainers of the MsBackendMassbank package:
- Please allow up to 24 hours (and sometimes 48 hours) for your latest push to git@git.bioconductor.org:packages/MsBackendMassbank.git to
reflect on this report. See How and When does the builder pull? When will my changes propagate? here for more information.
- Make sure to use the following settings in order to reproduce any error or warning you see on this page.

raw results

Package 1211/2083HostnameOS / ArchINSTALLBUILDCHECKBUILD BIN
MsBackendMassbank 1.2.0  (landing page)
RforMassSpectrometry Package Maintainer
Snapshot Date: 2021-11-30 04:15:05 -0500 (Tue, 30 Nov 2021)
git_url: https://git.bioconductor.org/packages/MsBackendMassbank
git_branch: RELEASE_3_14
git_last_commit: 83d84a5
git_last_commit_date: 2021-10-26 13:07:15 -0500 (Tue, 26 Oct 2021)
nebbiolo2Linux (Ubuntu 20.04.3 LTS) / x86_64  OK    OK    OK  UNNEEDED, same version is already published
tokay2Windows Server 2012 R2 Standard / x64  OK    OK    OK    OK  UNNEEDED, same version is already published
machv2macOS 10.14.6 Mojave / x86_64  OK    OK    OK    OK  UNNEEDED, same version is already published

Summary

Package: MsBackendMassbank
Version: 1.2.0
Command: /home/biocbuild/bbs-3.14-bioc/R/bin/R CMD build --keep-empty-dirs --no-resave-data MsBackendMassbank
StartedAt: 2021-11-30 06:53:01 -0500 (Tue, 30 Nov 2021)
EndedAt: 2021-11-30 06:53:21 -0500 (Tue, 30 Nov 2021)
EllapsedTime: 20.5 seconds
RetCode: 0
Status:   OK  
PackageFile: MsBackendMassbank_1.2.0.tar.gz
PackageFileSize: 394.3 KiB

Command output

##############################################################################
##############################################################################
###
### Running command:
###
###   /home/biocbuild/bbs-3.14-bioc/R/bin/R CMD build --keep-empty-dirs --no-resave-data MsBackendMassbank
###
##############################################################################
##############################################################################


* checking for file ‘MsBackendMassbank/DESCRIPTION’ ... OK
* preparing ‘MsBackendMassbank’:
* checking DESCRIPTION meta-information ... OK
* installing the package to build vignettes
* creating vignettes ... OK
* checking for LF line-endings in source and make files and shell scripts
* checking for empty or unneeded directories
Omitted ‘LazyData’ from DESCRIPTION
* building ‘MsBackendMassbank_1.2.0.tar.gz’