Back to Multiple platform build/check report for BioC 3.14
ABCDEFGHIJKL[M]NOPQRSTUVWXYZ

This page was generated on 2021-09-25 12:05:37 -0400 (Sat, 25 Sep 2021).

BUILD results for MoonlightR on riesling1

To the developers/maintainers of the MoonlightR package:
- Please allow up to 24 hours (and sometimes 48 hours) for your latest push to git@git.bioconductor.org:packages/MoonlightR.git to
reflect on this report. See How and When does the builder pull? When will my changes propagate? here for more information.
- Make sure to use the following settings in order to reproduce any error or warning you see on this page.

raw results

Package 1170/2034HostnameOS / ArchINSTALLBUILDCHECKBUILD BIN
MoonlightR 1.19.0  (landing page)
Antonio Colaprico
Snapshot Date: 2021-09-24 14:50:08 -0400 (Fri, 24 Sep 2021)
git_url: https://git.bioconductor.org/packages/MoonlightR
git_branch: master
git_last_commit: 0af3ca9
git_last_commit_date: 2021-05-19 12:23:48 -0400 (Wed, 19 May 2021)
nebbiolo2Linux (Ubuntu 20.04.2 LTS) / x86_64  OK    OK    OK  UNNEEDED, same version is already published
riesling1Windows Server 2019 Standard / x64  OK    OK    OK    OK  UNNEEDED, same version is already published
merida1macOS 10.14.6 Mojave / x86_64  OK    OK    OK    OK  UNNEEDED, same version is already published

Summary

Package: MoonlightR
Version: 1.19.0
Command: chmod a+r MoonlightR -R && D:\biocbuild\bbs-3.14-bioc\R\bin\R.exe CMD build --keep-empty-dirs --no-resave-data MoonlightR
StartedAt: 2021-09-24 21:57:03 -0400 (Fri, 24 Sep 2021)
EndedAt: 2021-09-24 22:02:00 -0400 (Fri, 24 Sep 2021)
EllapsedTime: 296.6 seconds
RetCode: 0
Status:   OK  
PackageFile: MoonlightR_1.19.0.tar.gz
PackageFileSize: 14.3 MiB

Command output

##############################################################################
##############################################################################
###
### Running command:
###
###   chmod a+r MoonlightR -R && D:\biocbuild\bbs-3.14-bioc\R\bin\R.exe CMD build --keep-empty-dirs --no-resave-data MoonlightR
###
##############################################################################
##############################################################################


* checking for file 'MoonlightR/DESCRIPTION' ... OK
* preparing 'MoonlightR':
* checking DESCRIPTION meta-information ... OK
* installing the package to build vignettes
* creating vignettes ... OK
* checking for LF line-endings in source and make files and shell scripts
* checking for empty or unneeded directories
* building 'MoonlightR_1.19.0.tar.gz'