Back to Multiple platform build/check report for BioC 3.14
ABCDEFGHIJKL[M]NOPQRSTUVWXYZ

This page was generated on 2022-01-26 13:06:55 -0500 (Wed, 26 Jan 2022).

HostnameOSArch (*)R versionInstalled pkgs
nebbiolo2Linux (Ubuntu 20.04.4 LTS)x86_644.1.2 (2021-11-01) -- "Bird Hippie" 4329
tokay2Windows Server 2012 R2 Standardx644.1.2 (2021-11-01) -- "Bird Hippie" 4080
machv2macOS 10.14.6 Mojavex86_644.1.2 (2021-11-01) -- "Bird Hippie" 4141
Click on any hostname to see more info about the system (e.g. compilers)      (*) as reported by 'uname -p', except on Windows and Mac OS X

INSTALL results for MineICA on tokay2


To the developers/maintainers of the MineICA package:
- Please allow up to 24 hours (and sometimes 48 hours) for your latest push to git@git.bioconductor.org:packages/MineICA.git to
reflect on this report. See How and When does the builder pull? When will my changes propagate? here for more information.
- Make sure to use the following settings in order to reproduce any error or warning you see on this page.

raw results

Package 1154/2083HostnameOS / ArchINSTALLBUILDCHECKBUILD BIN
MineICA 1.34.0  (landing page)
Anne Biton
Snapshot Date: 2022-01-25 01:55:07 -0500 (Tue, 25 Jan 2022)
git_url: https://git.bioconductor.org/packages/MineICA
git_branch: RELEASE_3_14
git_last_commit: 602994d
git_last_commit_date: 2021-10-26 12:06:44 -0500 (Tue, 26 Oct 2021)
nebbiolo2Linux (Ubuntu 20.04.4 LTS) / x86_64  OK    OK    ERROR  
tokay2Windows Server 2012 R2 Standard / x64  OK    OK    WARNINGS    OK  UNNEEDED, same version is already published
machv2macOS 10.14.6 Mojave / x86_64  OK    OK    WARNINGS    OK  UNNEEDED, same version is already published

Summary

Package: MineICA
Version: 1.34.0
Command: C:\cygwin\bin\curl.exe -O http://155.52.207.166/BBS/3.14/bioc/src/contrib/MineICA_1.34.0.tar.gz && rm -rf MineICA.buildbin-libdir && mkdir MineICA.buildbin-libdir && C:\Users\biocbuild\bbs-3.14-bioc\R\bin\R.exe CMD INSTALL --merge-multiarch --build --library=MineICA.buildbin-libdir MineICA_1.34.0.tar.gz && C:\Users\biocbuild\bbs-3.14-bioc\R\bin\R.exe CMD INSTALL MineICA_1.34.0.zip && rm MineICA_1.34.0.tar.gz MineICA_1.34.0.zip
StartedAt: 2022-01-25 07:39:17 -0500 (Tue, 25 Jan 2022)
EndedAt: 2022-01-25 07:42:29 -0500 (Tue, 25 Jan 2022)
EllapsedTime: 191.8 seconds
RetCode: 0
Status:   OK  

Command output

##############################################################################
##############################################################################
###
### Running command:
###
###   C:\cygwin\bin\curl.exe -O http://155.52.207.166/BBS/3.14/bioc/src/contrib/MineICA_1.34.0.tar.gz && rm -rf MineICA.buildbin-libdir && mkdir MineICA.buildbin-libdir && C:\Users\biocbuild\bbs-3.14-bioc\R\bin\R.exe CMD INSTALL --merge-multiarch --build --library=MineICA.buildbin-libdir MineICA_1.34.0.tar.gz && C:\Users\biocbuild\bbs-3.14-bioc\R\bin\R.exe CMD INSTALL MineICA_1.34.0.zip && rm MineICA_1.34.0.tar.gz MineICA_1.34.0.zip
###
##############################################################################
##############################################################################


  % Total    % Received % Xferd  Average Speed   Time    Time     Time  Current
                                 Dload  Upload   Total   Spent    Left  Speed

  0     0    0     0    0     0      0      0 --:--:-- --:--:-- --:--:--     0
100  721k  100  721k    0     0  1741k      0 --:--:-- --:--:-- --:--:-- 1746k

install for i386

* installing *source* package 'MineICA' ...
** using staged installation
** R
** data
** byte-compile and prepare package for lazy loading
Creating a new generic function for 'sampleNames<-' in package 'MineICA'
** help
*** installing help indices
  converting help for package 'MineICA'
    finding HTML links ... done
    A                                       html  
    Alist                                   html  
    finding level-2 HTML links ... done

Rd warning: C:/Users/biocbuild/bbs-3.14-bioc/tmpdir/RtmpETdP9b/R.INSTALL25b824415d2f/MineICA/man/Alist.Rd:26: missing link 'class-IcaSet'
    Slist                                   html  
Rd warning: C:/Users/biocbuild/bbs-3.14-bioc/tmpdir/RtmpETdP9b/R.INSTALL25b824415d2f/MineICA/man/Slist.Rd:28: missing link 'class-IcaSet'
    addGenesToGoReport                      html  
    annot2Color                             html  
    annotCarbayo                            html  
    annotFeatures                           html  
    annotFeaturesComp                       html  
    annotFeaturesWithBiomaRt                html  
    annotInGene                             html  
    annotReciprocal                         html  
    buildIcaSet                             html  
    buildMineICAParams                      html  
    build_sortHeatmap                       html  
    class-IcaSet                            html  
Rd warning: C:/Users/biocbuild/bbs-3.14-bioc/tmpdir/RtmpETdP9b/R.INSTALL25b824415d2f/MineICA/man/class-IcaSet.Rd:321: missing link 'class-IcaSet'
    class-MineICAParams                     html  
    clusVarAnalysis                         html  
    clusterFastICARuns                      html  
    clusterSamplesByComp                    html  
    clusterSamplesByComp_multiple           html  
    compareAn                               html  
    compareAn2graphfile                     html  
    compareGenes                            html  
    cor2An                                  html  
    correl2Comp                             html  
    dat                                     html  
    dataCarbayo                             html  
    doEnrichment                            html  
    getComp                                 html  
Rd warning: C:/Users/biocbuild/bbs-3.14-bioc/tmpdir/RtmpETdP9b/R.INSTALL25b824415d2f/MineICA/man/getComp.Rd:33: missing link 'class-IcaSet'
    getProj                                 html  
    getSdExpr                               html  
    hgOver                                  html  
    hypergeoAn                              html  
    icaSetCarbayo                           html  
    icaSetKim                               html  
    icaSetRiester                           html  
    icaSetStransky                          html  
    indComp                                 html  
    mergeGostatsResults                     html  
    nbOccByGeneInComp                       html  
    nbOccInComp                             html  
    nbOccInComp_simple                      html  
    nodeAttrs                               html  
    plotAllMix                              html  
    plotCorGraph                            html  
    plotDens2classInComp_plotOnly           html  
    plotDensAllAnnotInAllComp               html  
    plotDensOneAnnotInAllComp               html  
    plotMclust                              html  
    plotMix                                 html  
    plotPosAnnotInComp                      html  
    plotPosOneAnnotInComp_ggplot            html  
    plotPosOneAnnotLevInComp_ggplot         html  
    plotPosSamplesInComp                    html  
    plot_heatmapsOnSel                      html  
    qualVarAnalysis                         html  
    quantVarAnalysis                        html  
    readA                                   html  
    readS                                   html  
    relativePath                            html  
    runAn                                   html  
    runCompareIcaSets                       html  
    runEnrich                               html  
    runICA                                  html  
    selectContrib                           html  
    selectFeatures_IQR                      html  
    selectWitnessGenes                      html  
    wilcoxOrKruskalOnA                      html  
    writeGenes                              html  
    writeGostatsHtmltable                   html  
    writeHtmlResTestsByAnnot                html  
    writeProjByComp                         html  
    writeRnkFiles                           html  
** building package indices
** installing vignettes
** testing if installed package can be loaded from temporary location
** testing if installed package can be loaded from final location
** testing if installed package keeps a record of temporary installation path

install for x64

* installing *source* package 'MineICA' ...
** testing if installed package can be loaded
* MD5 sums
packaged installation of 'MineICA' as MineICA_1.34.0.zip
* DONE (MineICA)
* installing to library 'C:/Users/biocbuild/bbs-3.14-bioc/R/library'
package 'MineICA' successfully unpacked and MD5 sums checked