Back to Multiple platform build/check report for BioC 3.14
ABCDEFGHIJKL[M]NOPQRSTUVWXYZ

This page was generated on 2022-01-21 13:06:43 -0500 (Fri, 21 Jan 2022).

HostnameOSArch (*)R versionInstalled pkgs
nebbiolo2Linux (Ubuntu 20.04.4 LTS)x86_644.1.2 (2021-11-01) -- "Bird Hippie" 4329
tokay2Windows Server 2012 R2 Standardx644.1.2 (2021-11-01) -- "Bird Hippie" 4079
machv2macOS 10.14.6 Mojavex86_644.1.2 (2021-11-01) -- "Bird Hippie" 4140
Click on any hostname to see more info about the system (e.g. compilers)      (*) as reported by 'uname -p', except on Windows and Mac OS X

BUILD BIN results for MSstatsSampleSize on tokay2


To the developers/maintainers of the MSstatsSampleSize package:
- Please allow up to 24 hours (and sometimes 48 hours) for your latest push to git@git.bioconductor.org:packages/MSstatsSampleSize.git to
reflect on this report. See How and When does the builder pull? When will my changes propagate? here for more information.
- Make sure to use the following settings in order to reproduce any error or warning you see on this page.

raw results

Package 1234/2083HostnameOS / ArchINSTALLBUILDCHECKBUILD BIN
MSstatsSampleSize 1.8.0  (landing page)
Ting Huang
Snapshot Date: 2022-01-20 01:55:04 -0500 (Thu, 20 Jan 2022)
git_url: https://git.bioconductor.org/packages/MSstatsSampleSize
git_branch: RELEASE_3_14
git_last_commit: 15829c4
git_last_commit_date: 2021-10-26 12:54:51 -0500 (Tue, 26 Oct 2021)
nebbiolo2Linux (Ubuntu 20.04.4 LTS) / x86_64  OK    OK    WARNINGS  UNNEEDED, same version is already published
tokay2Windows Server 2012 R2 Standard / x64  OK    OK    WARNINGS    OK  UNNEEDED, same version is already published
machv2macOS 10.14.6 Mojave / x86_64  OK    OK    WARNINGS    OK  UNNEEDED, same version is already published

Summary

Package: MSstatsSampleSize
Version: 1.8.0
Command: rm -rf MSstatsSampleSize.buildbin-libdir && mkdir MSstatsSampleSize.buildbin-libdir && C:\Users\biocbuild\bbs-3.14-bioc\R\bin\R.exe CMD INSTALL --merge-multiarch --build --library=MSstatsSampleSize.buildbin-libdir MSstatsSampleSize_1.8.0.tar.gz
StartedAt: 2022-01-21 06:36:55 -0500 (Fri, 21 Jan 2022)
EndedAt: 2022-01-21 06:37:28 -0500 (Fri, 21 Jan 2022)
EllapsedTime: 33.1 seconds
RetCode: 0
Status:   OK  
PackageFile: MSstatsSampleSize_1.8.0.zip
PackageFileSize: 3.227 MiB

Command output

##############################################################################
##############################################################################
###
### Running command:
###
###   rm -rf MSstatsSampleSize.buildbin-libdir && mkdir MSstatsSampleSize.buildbin-libdir && C:\Users\biocbuild\bbs-3.14-bioc\R\bin\R.exe CMD INSTALL --merge-multiarch --build --library=MSstatsSampleSize.buildbin-libdir MSstatsSampleSize_1.8.0.tar.gz
###
##############################################################################
##############################################################################



install for i386

* installing *source* package 'MSstatsSampleSize' ...
** using staged installation
** R
** data
*** moving datasets to lazyload DB
** inst
** byte-compile and prepare package for lazy loading
** help
*** installing help indices
  converting help for package 'MSstatsSampleSize'
    finding HTML links ... done
    MSstatsSampleSize                       html  
    OV_SRM_train                            html  
    OV_SRM_train_annotation                 html  
    classification_results                  html  
    designSampleSizeClassification          html  
    designSampleSizeClassificationPlots     html  
    designSampleSizeHypothesisTestingPlot   html  
    designSampleSizePCAplot                 html  
    dot-classification                      html  
    dot-classificationModel                 html  
    dot-classificationPerformance           html  
    dot-logGeneration                       html  
    dot-randomImputation                    html  
    dot-sampleSimulation                    html  
    estimateVar                             html  
    meanSDplot                              html  
    simulateDataset                         html  
    simulated_datasets                      html  
    variance_estimation                     html  
** building package indices
** installing vignettes
** testing if installed package can be loaded from temporary location
** testing if installed package can be loaded from final location
** testing if installed package keeps a record of temporary installation path

install for x64

* installing *source* package 'MSstatsSampleSize' ...
** testing if installed package can be loaded
* MD5 sums
packaged installation of 'MSstatsSampleSize' as MSstatsSampleSize_1.8.0.zip
* DONE (MSstatsSampleSize)