Back to Multiple platform build/check report for BioC 3.14
ABCDEFGHIJKL[M]NOPQRSTUVWXYZ

This page was generated on 2022-01-21 13:06:42 -0500 (Fri, 21 Jan 2022).

HostnameOSArch (*)R versionInstalled pkgs
nebbiolo2Linux (Ubuntu 20.04.4 LTS)x86_644.1.2 (2021-11-01) -- "Bird Hippie" 4329
tokay2Windows Server 2012 R2 Standardx644.1.2 (2021-11-01) -- "Bird Hippie" 4079
machv2macOS 10.14.6 Mojavex86_644.1.2 (2021-11-01) -- "Bird Hippie" 4140
Click on any hostname to see more info about the system (e.g. compilers)      (*) as reported by 'uname -p', except on Windows and Mac OS X

BUILD results for MSnbase on tokay2


To the developers/maintainers of the MSnbase package:
- Please allow up to 24 hours (and sometimes 48 hours) for your latest push to git@git.bioconductor.org:packages/MSnbase.git to
reflect on this report. See How and When does the builder pull? When will my changes propagate? here for more information.
- Make sure to use the following settings in order to reproduce any error or warning you see on this page.

raw results

Package 1222/2083HostnameOS / ArchINSTALLBUILDCHECKBUILD BIN
MSnbase 2.20.4  (landing page)
Laurent Gatto
Snapshot Date: 2022-01-20 01:55:04 -0500 (Thu, 20 Jan 2022)
git_url: https://git.bioconductor.org/packages/MSnbase
git_branch: RELEASE_3_14
git_last_commit: c86ac8b
git_last_commit_date: 2022-01-13 12:09:21 -0500 (Thu, 13 Jan 2022)
nebbiolo2Linux (Ubuntu 20.04.4 LTS) / x86_64  OK    OK    OK  UNNEEDED, same version is already published
tokay2Windows Server 2012 R2 Standard / x64  OK    OK    ERROR    OK  
machv2macOS 10.14.6 Mojave / x86_64  OK    OK    ERROR    OK  

Summary

Package: MSnbase
Version: 2.20.4
Command: chmod a+r MSnbase -R && C:\Users\biocbuild\bbs-3.14-bioc\R\bin\R.exe CMD build --keep-empty-dirs --no-resave-data MSnbase
StartedAt: 2022-01-20 12:29:48 -0500 (Thu, 20 Jan 2022)
EndedAt: 2022-01-20 12:36:23 -0500 (Thu, 20 Jan 2022)
EllapsedTime: 394.5 seconds
RetCode: 0
Status:   OK  
PackageFile: MSnbase_2.20.4.tar.gz
PackageFileSize: 3.91 MiB

Command output

##############################################################################
##############################################################################
###
### Running command:
###
###   chmod a+r MSnbase -R && C:\Users\biocbuild\bbs-3.14-bioc\R\bin\R.exe CMD build --keep-empty-dirs --no-resave-data MSnbase
###
##############################################################################
##############################################################################


* checking for file 'MSnbase/DESCRIPTION' ... OK
* preparing 'MSnbase':
* checking DESCRIPTION meta-information ... OK
* cleaning src
* installing the package to build vignettes
* creating vignettes ... OK
* cleaning src
* checking for LF line-endings in source and make files and shell scripts
* checking for empty or unneeded directories
* building 'MSnbase_2.20.4.tar.gz'