Back to Multiple platform build/check report for BioC 3.14
ABCDEFGHIJKL[M]NOPQRSTUVWXYZ

This page was generated on 2022-01-21 13:08:07 -0500 (Fri, 21 Jan 2022).

HostnameOSArch (*)R versionInstalled pkgs
nebbiolo2Linux (Ubuntu 20.04.4 LTS)x86_644.1.2 (2021-11-01) -- "Bird Hippie" 4329
tokay2Windows Server 2012 R2 Standardx644.1.2 (2021-11-01) -- "Bird Hippie" 4079
machv2macOS 10.14.6 Mojavex86_644.1.2 (2021-11-01) -- "Bird Hippie" 4140
Click on any hostname to see more info about the system (e.g. compilers)      (*) as reported by 'uname -p', except on Windows and Mac OS X

CHECK results for MSnbase on machv2


To the developers/maintainers of the MSnbase package:
- Please allow up to 24 hours (and sometimes 48 hours) for your latest push to git@git.bioconductor.org:packages/MSnbase.git to
reflect on this report. See How and When does the builder pull? When will my changes propagate? here for more information.
- Make sure to use the following settings in order to reproduce any error or warning you see on this page.

raw results

Package 1222/2083HostnameOS / ArchINSTALLBUILDCHECKBUILD BIN
MSnbase 2.20.4  (landing page)
Laurent Gatto
Snapshot Date: 2022-01-20 01:55:04 -0500 (Thu, 20 Jan 2022)
git_url: https://git.bioconductor.org/packages/MSnbase
git_branch: RELEASE_3_14
git_last_commit: c86ac8b
git_last_commit_date: 2022-01-13 12:09:21 -0500 (Thu, 13 Jan 2022)
nebbiolo2Linux (Ubuntu 20.04.4 LTS) / x86_64  OK    OK    OK  UNNEEDED, same version is already published
tokay2Windows Server 2012 R2 Standard / x64  OK    OK    ERROR    OK  
machv2macOS 10.14.6 Mojave / x86_64  OK    OK    ERROR    OK  

Summary

Package: MSnbase
Version: 2.20.4
Command: /Library/Frameworks/R.framework/Resources/bin/R CMD check --install=check:MSnbase.install-out.txt --library=/Library/Frameworks/R.framework/Resources/library --no-vignettes --timings MSnbase_2.20.4.tar.gz
StartedAt: 2022-01-20 15:28:02 -0500 (Thu, 20 Jan 2022)
EndedAt: 2022-01-20 15:46:19 -0500 (Thu, 20 Jan 2022)
EllapsedTime: 1097.0 seconds
RetCode: 1
Status:   ERROR  
CheckDir: MSnbase.Rcheck
Warnings: NA

Command output

##############################################################################
##############################################################################
###
### Running command:
###
###   /Library/Frameworks/R.framework/Resources/bin/R CMD check --install=check:MSnbase.install-out.txt --library=/Library/Frameworks/R.framework/Resources/library --no-vignettes --timings MSnbase_2.20.4.tar.gz
###
##############################################################################
##############################################################################


* using log directory ‘/Users/biocbuild/bbs-3.14-bioc/meat/MSnbase.Rcheck’
* using R version 4.1.2 (2021-11-01)
* using platform: x86_64-apple-darwin17.0 (64-bit)
* using session charset: UTF-8
* using option ‘--no-vignettes’
* checking for file ‘MSnbase/DESCRIPTION’ ... OK
* this is package ‘MSnbase’ version ‘2.20.4’
* package encoding: UTF-8
* checking package namespace information ... OK
* checking package dependencies ... OK
* checking if this is a source package ... OK
* checking if there is a namespace ... OK
* checking for hidden files and directories ... OK
* checking for portable file names ... OK
* checking for sufficient/correct file permissions ... OK
* checking whether package ‘MSnbase’ can be installed ... OK
* checking installed package size ... NOTE
  installed size is  5.4Mb
  sub-directories of 1Mb or more:
    R      2.0Mb
    data   1.9Mb
* checking package directory ... OK
* checking ‘build’ directory ... OK
* checking DESCRIPTION meta-information ... NOTE
Authors@R field gives more than one person with maintainer role:
  Laurent Gatto <laurent.gatto@uclouvain.be> [aut, cre] (<https://orcid.org/0000-0002-1520-2268>)
  Johannes Rainer <Johannes.Rainer@eurac.edu> [aut, cre] (<https://orcid.org/0000-0002-6977-7147>)
  Sebastian Gibb <mail@sebastiangibb.de> [aut, cre]
* checking top-level files ... OK
* checking for left-over files ... OK
* checking index information ... OK
* checking package subdirectories ... OK
* checking R files for non-ASCII characters ... OK
* checking R files for syntax errors ... OK
* checking whether the package can be loaded ... OK
* checking whether the package can be loaded with stated dependencies ... OK
* checking whether the package can be unloaded cleanly ... OK
* checking whether the namespace can be loaded with stated dependencies ... OK
* checking whether the namespace can be unloaded cleanly ... OK
* checking dependencies in R code ... NOTE
':::' calls which should be '::':
  ‘S4Vectors:::makeClassinfoRowForCompactPrinting’
  ‘S4Vectors:::makePrettyMatrixForCompactPrinting’
  See the note in ?`:::` about the use of this operator.
Unexported objects imported by ':::' calls:
  ‘Biobase:::.showAnnotatedDataFrame’ ‘MALDIquant:::.estimateNoise’
  ‘MALDIquant:::.localMaxima’ ‘MALDIquant:::.movingAverage’
  ‘MALDIquant:::.savitzkyGolay’ ‘mzR:::.hasChromatograms’
  ‘mzR:::.hasSpectra’
  See the note in ?`:::` about the use of this operator.
* checking S3 generic/method consistency ... OK
* checking replacement functions ... OK
* checking foreign function calls ... OK
* checking R code for possible problems ... OK
* checking Rd files ... OK
* checking Rd metadata ... OK
* checking Rd cross-references ... OK
* checking for missing documentation entries ... OK
* checking for code/documentation mismatches ... OK
* checking Rd \usage sections ... OK
* checking Rd contents ... OK
* checking for unstated dependencies in examples ... OK
* checking contents of ‘data’ directory ... OK
* checking data for non-ASCII characters ... OK
* checking LazyData ... OK
* checking data for ASCII and uncompressed saves ... OK
* checking line endings in C/C++/Fortran sources/headers ... OK
* checking compiled code ... NOTE
Note: information on .o files is not available
* checking files in ‘vignettes’ ... OK
* checking examples ... OK
Examples with CPU (user + system) or elapsed time > 5s
                             user system elapsed
chromatogram-MSnExp-method 14.627  0.246  14.968
MSnSet-class               11.685  0.365  12.065
OnDiskMSnExp-class         10.792  0.254  11.094
averageMSnSet               8.088  0.221   8.343
aggvar                      8.066  0.075   8.149
estimateMzResolution        7.199  0.415   7.645
combineSpectra              5.603  0.117   5.736
MzTab-class                 0.810  0.049   6.883
* checking for unstated dependencies in ‘tests’ ... OK
* checking tests ...
  Running ‘testthat.R’
 ERROR
Running the tests in ‘tests/testthat.R’ failed.
Last 13 lines of output:
  ══ Failed tests ════════════════════════════════════════════════════════════════
  ── Error (test_MSmap.R:8:1): (code run outside of `test_that()`) ───────────────
  Error: Can not open file /Users/biocbuild/Library/Caches/org.R-project.R/R/rpx/fe872d9f90f7_TMT_Erwinia_1uLSike_Top10HCD_isol2_45stepped_60min_01-20141210.mzML! Original error was: Error in pwizModule$open(filename): [SpectrumList_mzML::create()] Bad istream.
  
  Backtrace:
      █
   1. └─mzR::openMSfile(f) test_MSmap.R:8:0
   2.   └─base::tryCatch(...)
   3.     └─base:::tryCatchList(expr, classes, parentenv, handlers)
   4.       └─base:::tryCatchOne(expr, names, parentenv, handlers[[1L]])
   5.         └─value[[3L]](cond)
  
  [ FAIL 1 | WARN 1092 | SKIP 12 | PASS 2362 ]
  Error: Test failures
  Execution halted
* checking for unstated dependencies in vignettes ... OK
* checking package vignettes in ‘inst/doc’ ... OK
* checking running R code from vignettes ... SKIPPED
* checking re-building of vignette outputs ... SKIPPED
* checking PDF version of manual ... OK
* DONE

Status: 1 ERROR, 4 NOTEs
See
  ‘/Users/biocbuild/bbs-3.14-bioc/meat/MSnbase.Rcheck/00check.log’
for details.


Installation output

MSnbase.Rcheck/00install.out

##############################################################################
##############################################################################
###
### Running command:
###
###   /Library/Frameworks/R.framework/Resources/bin/R CMD INSTALL MSnbase
###
##############################################################################
##############################################################################


* installing to library ‘/Library/Frameworks/R.framework/Versions/4.1/Resources/library’
* installing *source* package ‘MSnbase’ ...
** using staged installation
** libs
clang++ -mmacosx-version-min=10.13 -std=gnu++14 -I"/Library/Frameworks/R.framework/Resources/include" -DNDEBUG  -I'/Library/Frameworks/R.framework/Versions/4.1/Resources/library/Rcpp/include' -I/usr/local/include   -fPIC  -Wall -g -O2  -c RcppExports.cpp -o RcppExports.o
clang -mmacosx-version-min=10.13 -I"/Library/Frameworks/R.framework/Resources/include" -DNDEBUG  -I'/Library/Frameworks/R.framework/Versions/4.1/Resources/library/Rcpp/include' -I/usr/local/include   -fPIC  -Wall -g -O2  -c Spectrum1_class.c -o Spectrum1_class.o
Spectrum1_class.c:8:13: warning: unused function '_new_Spectrum1' [-Wunused-function]
static SEXP _new_Spectrum1(SEXP msLevel, SEXP peaksCount, SEXP rt,
            ^
1 warning generated.
clang -mmacosx-version-min=10.13 -I"/Library/Frameworks/R.framework/Resources/include" -DNDEBUG  -I'/Library/Frameworks/R.framework/Versions/4.1/Resources/library/Rcpp/include' -I/usr/local/include   -fPIC  -Wall -g -O2  -c Spectrum2_class.c -o Spectrum2_class.o
Spectrum2_class.c:9:13: warning: unused function '_new_Spectrum2' [-Wunused-function]
static SEXP _new_Spectrum2(SEXP msLevel, SEXP peaksCount, SEXP rt,
            ^
1 warning generated.
clang++ -mmacosx-version-min=10.13 -std=gnu++14 -I"/Library/Frameworks/R.framework/Resources/include" -DNDEBUG  -I'/Library/Frameworks/R.framework/Versions/4.1/Resources/library/Rcpp/include' -I/usr/local/include   -fPIC  -Wall -g -O2  -c imp_neighbour_avg.cpp -o imp_neighbour_avg.o
clang -mmacosx-version-min=10.13 -I"/Library/Frameworks/R.framework/Resources/include" -DNDEBUG  -I'/Library/Frameworks/R.framework/Versions/4.1/Resources/library/Rcpp/include' -I/usr/local/include   -fPIC  -Wall -g -O2  -c utils.c -o utils.o
utils.c:92:15: warning: unused variable 'ret' [-Wunused-variable]
  int i1, i2, ret;
              ^
utils.c:107:15: warning: unused variable 'ret' [-Wunused-variable]
  int i1, i2, ret;
              ^
utils.c:123:18: warning: unused variable 'ret' [-Wunused-variable]
  double d1, d2, ret;
                 ^
utils.c:133:18: warning: unused variable 'ret' [-Wunused-variable]
  double d1, d2, ret;
                 ^
utils.c:121:12: warning: unused function 'compar_double_asc_order' [-Wunused-function]
static int compar_double_asc_order(const void *p1, const void *p2)
           ^
utils.c:131:12: warning: unused function 'compar_double_desc_order' [-Wunused-function]
static int compar_double_desc_order(const void *p1, const void *p2)
           ^
6 warnings generated.
clang++ -mmacosx-version-min=10.13 -std=gnu++14 -dynamiclib -Wl,-headerpad_max_install_names -undefined dynamic_lookup -single_module -multiply_defined suppress -L/Library/Frameworks/R.framework/Resources/lib -L/usr/local/lib -o MSnbase.so RcppExports.o Spectrum1_class.o Spectrum2_class.o imp_neighbour_avg.o utils.o -F/Library/Frameworks/R.framework/.. -framework R -Wl,-framework -Wl,CoreFoundation
installing to /Library/Frameworks/R.framework/Versions/4.1/Resources/library/00LOCK-MSnbase/00new/MSnbase/libs
** R
** data
*** moving datasets to lazyload DB
Creating a new generic function for ‘trimws’ in package ‘MSnbase’
in method for ‘coerce’ with signature ‘"MSnSet","SummarizedExperiment"’: no definition for class “SummarizedExperiment”
in method for ‘coerce’ with signature ‘"SummarizedExperiment","MSnSet"’: no definition for class “SummarizedExperiment”
in method for ‘coerce’ with signature ‘"IBSpectra","MSnSet"’: no definition for class “IBSpectra”
** inst
** byte-compile and prepare package for lazy loading
Creating a new generic function for ‘trimws’ in package ‘MSnbase’
in method for ‘coerce’ with signature ‘"MSnSet","SummarizedExperiment"’: no definition for class “SummarizedExperiment”
in method for ‘coerce’ with signature ‘"SummarizedExperiment","MSnSet"’: no definition for class “SummarizedExperiment”
in method for ‘coerce’ with signature ‘"IBSpectra","MSnSet"’: no definition for class “IBSpectra”
** help
*** installing help indices
** building package indices
** installing vignettes
** testing if installed package can be loaded from temporary location
** checking absolute paths in shared objects and dynamic libraries
** testing if installed package can be loaded from final location
** testing if installed package keeps a record of temporary installation path
* DONE (MSnbase)

Tests output

MSnbase.Rcheck/tests/testthat.Rout.fail


R version 4.1.2 (2021-11-01) -- "Bird Hippie"
Copyright (C) 2021 The R Foundation for Statistical Computing
Platform: x86_64-apple-darwin17.0 (64-bit)

R is free software and comes with ABSOLUTELY NO WARRANTY.
You are welcome to redistribute it under certain conditions.
Type 'license()' or 'licence()' for distribution details.

R is a collaborative project with many contributors.
Type 'contributors()' for more information and
'citation()' on how to cite R or R packages in publications.

Type 'demo()' for some demos, 'help()' for on-line help, or
'help.start()' for an HTML browser interface to help.
Type 'q()' to quit R.

> # setting R_TESTS to empty string because of
> # https://github.com/hadley/testthat/issues/144
> # revert this when that issue in R is fixed.
> Sys.setenv("R_TESTS" = "")
> library("testthat")
> library("MSnbase")
Loading required package: BiocGenerics

Attaching package: 'BiocGenerics'

The following objects are masked from 'package:stats':

    IQR, mad, sd, var, xtabs

The following objects are masked from 'package:base':

    Filter, Find, Map, Position, Reduce, anyDuplicated, append,
    as.data.frame, basename, cbind, colnames, dirname, do.call,
    duplicated, eval, evalq, get, grep, grepl, intersect, is.unsorted,
    lapply, mapply, match, mget, order, paste, pmax, pmax.int, pmin,
    pmin.int, rank, rbind, rownames, sapply, setdiff, sort, table,
    tapply, union, unique, unsplit, which.max, which.min

Loading required package: Biobase
Welcome to Bioconductor

    Vignettes contain introductory material; view with
    'browseVignettes()'. To cite Bioconductor, see
    'citation("Biobase")', and for packages 'citation("pkgname")'.

Loading required package: mzR
Loading required package: Rcpp
Loading required package: S4Vectors
Loading required package: stats4

Attaching package: 'S4Vectors'

The following objects are masked from 'package:base':

    I, expand.grid, unname

Loading required package: ProtGenerics

Attaching package: 'ProtGenerics'

The following object is masked from 'package:stats':

    smooth


This is MSnbase version 2.20.4 
  Visit https://lgatto.github.io/MSnbase/ to get started.


Attaching package: 'MSnbase'

The following object is masked from 'package:base':

    trimws

> setMSnbaseVerbose(FALSE)
> ## register(SerialParam()) ## see issue 205
> 
> ## Erwinia
> f <- msdata::proteomics(full.names = TRUE,
+                         pattern = "TMT_Erwinia_1uLSike_Top10HCD_isol2_45stepped_60min_01.mzML.gz")
> tmt_erwinia_in_mem_ms1 <- readMSData(f, msLevel = 1)
> tmt_erwinia_in_mem_ms2 <- readMSData(f, msLevel = 2)
Error in x$.self$finalize() : attempt to apply non-function
Error in x$.self$finalize() : attempt to apply non-function
> tmt_erwinia_on_disk <- readMSData(f, mode = "onDisk")
> tmt_erwinia_on_disk_ms1 <- readMSData(f, msLevel = 1, mode = "onDisk")
> tmt_erwinia_on_disk_ms2 <- readMSData(f, msLevel = 2, mode = "onDisk")
> ## subset by rt
> tmt_im_ms1_sub <- filterRt(tmt_erwinia_in_mem_ms1, c(1200, 1250))
> tmt_im_ms2_sub <- filterRt(tmt_erwinia_in_mem_ms2, c(1200, 1250))
> tmt_od_sub <- filterRt(tmt_erwinia_on_disk, c(1200, 1250))
> tmt_od_ms1_sub <- filterRt(tmt_erwinia_on_disk_ms1, c(1200, 1250))
> tmt_od_ms2_sub <- filterRt(tmt_erwinia_on_disk_ms2, c(1200, 1250))
> 
> ## microtofq
> f <- c(system.file("microtofq/MM14.mzML", package = "msdata"),
+        system.file("microtofq/MM8.mzML", package = "msdata"))
> microtofq_in_mem_ms1 <- readMSData(f, msLevel = 1)
> microtofq_on_disk_ms1 <- readMSData(f, msLevel = 1, mode = "onDisk")
> microtofq_on_disk <- readMSData(f, mode = "onDisk")
> 
> ## extdata mzML
> f <- dir(system.file(package = "MSnbase", dir = "extdata"),
+          full.name = TRUE, pattern = "mzXML$")
> extdata_mzXML_in_mem_ms2 <- readMSData(f, verbose = FALSE, centroided. = FALSE)
> extdata_mzXML_on_disk <- readMSData(f, centroided. = FALSE, mode = "onDisk")
> extdata_mzXML_on_disk_ms2 <- readMSData(f, msLevel = 2, centroided. = FALSE, mode = "onDisk")
> 
> sf <- dir(system.file("sciex", package = "msdata"), full.names = TRUE)
> sciex <- readMSData(sf, mode = "onDisk")
> 
> test_check("MSnbase")
Experiment data
  Experimenter name: Laurent Gatto 
  Laboratory: Cambridge Centre for Proteomics (CCP) 
  Contact information: Laurent Gatto 
  Contact email: lg390@cam.ac.uk 
  Title: Example 'MSnExp' data set 
  URL:  
  PMIDs:  
  No abstract available.
Instrument : 
  Model: test (1) 
  Manufacturer:  
  Customisations:  
  Use 'msInfo(object)' for more MIAPE-MS information.
Experiment data
  Experimenter name: Laurent Gatto 
  Laboratory: Cambridge Centre for Proteomics (CCP) 
  Contact information: Laurent Gatto 
  Contact email: lg390@cam.ac.uk 
  Title: Example 'MSnExp' data set 
  URL:  
  PMIDs:  
  No abstract available.
  notes:
   Note1:
First note
MIAPE-MS information:
 1. General features:
  Date stamp:  
  Contact: Laurent Gatto 
  Name: Laurent Gatto 
  Laboratory: Cambridge Centre for Proteomics (CCP) 
  Instument model: test 
  Manufacturer:  
  Customisations:  
  Software:  
  Version:  
  Switching:  
  Param file:  
 2. Ion source
  Source:  
  Source details:  
 3. Post-source componentry
  Analyzer:  
  Analyzer details:  
  Collision gas:  
  Pressure:   bars
  Energy:  
  Detector type:  
  Sensitivity:  
Error in x$.self$finalize() : attempt to apply non-function
Error in x$.self$finalize() : attempt to apply non-function
Object of class "MzTab".
 Description: mzTab example file for reporting a summary report of
 quantification data quantified on the protein level
 Mode: Complete 
 Type: Quantification 
 Available data: Proteins  PSMs  
Object of class "MzTab".
 Description:
 Mode: 
 Type: 
 Available data: SmallMolecules  
Object of class "MzTab".
 Description:
 Mode: 
 Type: 
 Available data: SmallMolecules  
Instance of class 'MSnSetList' containig 3 objects.
MSn experiment data ("OnDiskMSnExp")
Object size in memory: 0.26 Mb
- - - Spectra data - - -
 MS level(s): 1 2 
 Number of spectra: 509 
 MSn retention times: 18:28 - 22:03 minutes
- - - Processing information - - -
Data loaded [Thu Jan 20 15:34:43 2022] 
 MSnbase version: 2.20.4 
- - - Meta data  - - -
phenoData
  rowNames:
    TMT_Erwinia_1uLSike_Top10HCD_isol2_45stepped_60min_01.mzML.gz
  varLabels: sampleNames
  varMetadata: labelDescription
Loaded from:
  TMT_Erwinia_1uLSike_Top10HCD_isol2_45stepped_60min_01.mzML.gz 
protocolData: none
featureData
  featureNames: F1.S001 F1.S002 ... F1.S509 (509 total)
  fvarLabels: fileIdx spIdx ... spectrum (35 total)
  fvarMetadata: labelDescription
experimentData: use 'experimentData(object)'
Object of class "ReporterIons"
TMT10HCD: '10-plex TMT HCD' with 10 reporter ions
 - [126] 126.1277 +/- 0.002 (#8DD3C7)
 - [127N] 127.1248 +/- 0.002 (#FFFFB3)
 - [127C] 127.1311 +/- 0.002 (#BEBADA)
 - [128N] 128.1281 +/- 0.002 (#FB8072)
 - [128C] 128.1344 +/- 0.002 (#80B1D3)
 - [129N] 129.1315 +/- 0.002 (#FDB462)
 - [129C] 129.1378 +/- 0.002 (#B3DE69)
 - [130N] 130.1348 +/- 0.002 (#FCCDE5)
 - [130C] 130.1411 +/- 0.002 (#D9D9D9)
 - [131] 131.1382 +/- 0.002 (#BC80BD)
Object of class "Spectrum1"
 Retention time: 0:00 
 MSn level: 1 
 Total ion count: 684 
 Polarity: 1 
MSn experiment data ("MSnExp")
Object size in memory: 0.18 Mb
- - - Spectra data - - -
 MS level(s): 2 
 Number of spectra: 5 
 MSn retention times: 25:01 - 25:02 minutes
- - - Processing information - - -
Data loaded: Thu Jan 20 15:40:25 2022 
 MSnbase version: 2.20.4 
- - - Meta data  - - -
phenoData
  rowNames: dummyiTRAQ.mzXML
  varLabels: sampleNames
  varMetadata: labelDescription
Loaded from:
  dummyiTRAQ.mzXML 
protocolData: none
featureData
  featureNames: F1.S1 F1.S2 ... F1.S5 (5 total)
  fvarLabels: spectrum
  fvarMetadata: labelDescription
experimentData: use 'experimentData(object)'
MSn experiment data ("MSnExp")
Object size in memory: 0.2 Mb
- - - Spectra data - - -
 MS level(s): 2 
 Number of spectra: 5 
 MSn retention times: 25:01 - 25:02 minutes
- - - Processing information - - -
Data loaded: Thu Jan 20 15:40:26 2022 
 MSnbase version: 2.20.4 
- - - Meta data  - - -
phenoData
  rowNames: dummyiTRAQ.mzXML
  varLabels: sampleNames
  varMetadata: labelDescription
Loaded from:
  dummyiTRAQ.mzXML 
protocolData: none
featureData
  featureNames: F1.S1 F1.S2 ... F1.S5 (5 total)
  fvarLabels: spectrum
  fvarMetadata: labelDescription
experimentData: use 'experimentData(object)'
Object of class "FeaturesOfInterest"
 Created on Thu Jan 20 15:40:54 2022 
 Description:
  small foi
 3 features of interest:
   P20353, P53501, Q7KU78
Traceable object of class "FeaturesOfInterest"
 Created on Thu Jan 20 15:40:54 2022 
 Description:
  my description
 10 features of interest:
   P20353, P53501  ...  Q9VCK0, Q9VIU7
A collection of 1 features of interest.
A collection of 10 features of interest.
MSpectra with 3 spectra and 1 metadata column(s):
  msLevel   rtime peaksCount | id
1       2      NA          3 |  1
2       2 1.23245          4 |  2
3       1 1.23245          5 |  3
MSpectra with 3 spectra and 1 metadata column(s):
    msLevel     rtime peaksCount |        id
  <integer> <numeric>  <integer> | <integer>
1         2        NA          3 |         1
2         2   1.23245          4 |         2
3         1   1.23245          5 |         3
MSpectra with 3 spectra and 1 metadata column(s):
      msLevel     rtime peaksCount |        id
    <integer> <numeric>  <integer> | <integer>
  1         2        NA          3 |         1
  2         2   1.23245          4 |         2
  3         1   1.23245          5 |         3
Error in x$.self$finalize() : attempt to apply non-function
Error in x$.self$finalize() : attempt to apply non-function
Error in x$.self$finalize() : attempt to apply non-function
Error in x$.self$finalize() : attempt to apply non-function
reading dummyiTRAQ.mzid... DONE!
══ Skipped tests ═══════════════════════════════════════════════════════════════
• empty test (12)

══ Failed tests ════════════════════════════════════════════════════════════════
── Error (test_MSmap.R:8:1): (code run outside of `test_that()`) ───────────────
Error: Can not open file /Users/biocbuild/Library/Caches/org.R-project.R/R/rpx/fe872d9f90f7_TMT_Erwinia_1uLSike_Top10HCD_isol2_45stepped_60min_01-20141210.mzML! Original error was: Error in pwizModule$open(filename): [SpectrumList_mzML::create()] Bad istream.

Backtrace:
    █
 1. └─mzR::openMSfile(f) test_MSmap.R:8:0
 2.   └─base::tryCatch(...)
 3.     └─base:::tryCatchList(expr, classes, parentenv, handlers)
 4.       └─base:::tryCatchOne(expr, names, parentenv, handlers[[1L]])
 5.         └─value[[3L]](cond)

[ FAIL 1 | WARN 1092 | SKIP 12 | PASS 2362 ]
Error: Test failures
Execution halted

Example timings

MSnbase.Rcheck/MSnbase-Ex.timings

nameusersystemelapsed
Chromatogram-class0.1050.0080.113
FeatComp-class0.3410.0210.364
FeaturesOfInterest-class0.0890.0080.096
MChromatograms-class0.1760.0050.182
MSmap-class0.0010.0010.001
MSnExp-class0.6970.0070.705
MSnProcess-class0.0010.0010.002
MSnSet-class11.685 0.36512.065
MSnSetList-class3.1880.1523.342
MSpectra0.1720.0100.183
MzTab-class0.8100.0496.883
OnDiskMSnExp-class10.792 0.25411.094
ProcessingStep-class0.0020.0000.003
ReporterIons-class0.0180.0010.018
TMT60.0100.0020.013
addIdentificationData-methods0.9640.0100.977
aggvar8.0660.0758.149
averageMSnSet8.0880.2218.343
bin-methods0.5210.0090.531
calculateFragments-methods1.1640.0621.227
chromatogram-MSnExp-method14.627 0.24614.968
clean-methods0.2470.0150.262
combineFeatures1.8570.0301.912
combineSpectra5.6030.1175.736
combineSpectraMovingWindow3.6350.0633.719
commonFeatureNames0.5140.0220.537
compareSpectra-methods0.3280.0060.335
consensusSpectrum0.0540.0020.056
estimateMzResolution7.1990.4157.645
estimateMzScattering1.7090.0321.741
estimateNoise-method0.0160.0010.017
extractPrecSpectra-methods1.1760.0171.194
extractSpectraData2.5580.0882.652
fData-utils0.5840.0080.592
factorsAsStrings0.0200.0040.024
featureCV0.0380.0030.040
fillUp0.0050.0010.006
formatRt0.0000.0000.001
get.amino.acids0.0050.0030.008
get.atomic.mass0.0010.0000.000
getVariableName0.0050.0000.006
hasSpectraOrChromatograms0.4040.0140.422
iPQF0.5030.0040.508
iTRAQ40.0180.0020.019
imageNA24.7450.2034.955
impute0.5760.0410.616
isCentroidedFromFile2.6740.1222.784
itraqdata0.0880.0110.099
listOf0.0010.0000.002
makeCamelCase0.0010.0000.001
makeNaData0.8790.0080.888
meanMzInts0.0470.0020.048
missing-data4.4800.1584.674
mzRident2dfr0.0570.0050.062
nFeatures0.8160.0130.830
nQuants0.2180.0040.222
naplot0.0970.0090.106
navMS2.5860.0562.666
normToReference0.3300.0040.336
normalise-methods0.0240.0030.027
npcv0.0070.0010.007
pSet-class0.0010.0010.002
pickPeaks-method0.6010.0050.607
plot-methods4.6020.1174.724
plot2d-methods0.7670.0090.777
plotDensity-methods0.7770.0060.814
plotMzDelta-methods1.1510.0451.200
plotNA-methods0.4970.0060.505
plotSpectrumSpectrum-methods1.6350.0401.676
precSelection0.0130.0020.015
purityCorrect-methods0.0300.0060.036
quantify-methods4.0400.0264.068
readMSData2.1480.0312.183
readMSnSet0.1180.0070.125
readMgfData2.7950.0502.847
readMzIdData1.3221.0062.422
readMzTabData1.3320.0302.251
readMzTabData_v0.90.1890.0060.863
readSRMData1.6880.0341.724
reduce-data.frame-method0.0210.0020.022
removeNoId-methods1.3830.0191.403
removePeaks-methods1.0190.0171.036
removeReporters-methods0.6350.0040.640
selectFeatureData1.2710.0321.305
smooth-methods0.3660.0040.370
trimMz-methods0.2600.0030.263
writeMgfData-methods2.6200.0462.671