Back to Multiple platform build/check report for BioC 3.14
ABCDEFGHIJKL[M]NOPQRSTUVWXYZ

This page was generated on 2021-12-03 13:04:30 -0500 (Fri, 03 Dec 2021).

All results for package MSnbase

To the developers/maintainers of the MSnbase package:
- Please allow up to 24 hours (and sometimes 48 hours) for your latest push to git@git.bioconductor.org:packages/MSnbase.git to
reflect on this report. See How and When does the builder pull? When will my changes propagate? here for more information.
- Make sure to use the following settings in order to reproduce any error or warning you see on this page.

raw results

Package 1222/2083HostnameOS / ArchINSTALLBUILDCHECKBUILD BIN
MSnbase 2.20.3  (landing page)
Laurent Gatto
Snapshot Date: 2021-12-02 01:55:06 -0500 (Thu, 02 Dec 2021)
git_url: https://git.bioconductor.org/packages/MSnbase
git_branch: RELEASE_3_14
git_last_commit: 760b1bb
git_last_commit_date: 2021-11-24 12:36:33 -0500 (Wed, 24 Nov 2021)
nebbiolo2Linux (Ubuntu 20.04.3 LTS) / x86_64  OK    OK    ERROR  
tokay2Windows Server 2012 R2 Standard / x64  OK    OK    ERROR    OK  
machv2macOS 10.14.6 Mojave / x86_64  OK    OK    ERROR    OK  

Results for Bioconductor software packages that depend directly on package MSnbase

QUICK STATSOS / ArchINSTALLBUILDCHECKBUILD BIN
nebbiolo2Linux (Ubuntu 20.04.3 LTS) / x86_64
0022
0418
00414
tokay2Windows Server 2012 R2 Standard / x64
0022
0319
00415
0019
machv2macOS 10.14.6 Mojave / x86_64
0022
0220
00416
0020
Package 1/22HostnameOS / ArchINSTALLBUILDCHECKBUILD BIN
Autotuner 1.8.0  (landing page)
Craig McLean
git_last_commit: 64c9943
git_last_commit_date: 2021-10-26 12:53:11 -0500
nebbiolo2Linux (Ubuntu 20.04.3 LTS) / x86_64  OK    ERROR  skipped
tokay2Windows Server 2012 R2 Standard / x64  OK    ERROR  skippedskipped
machv2macOS 10.14.6 Mojave / x86_64  OK    ERROR  skippedskipped
Package 2/22HostnameOS / ArchINSTALLBUILDCHECKBUILD BIN
cliqueMS 1.8.0  (landing page)
Oriol Senan Campos
git_last_commit: d840675
git_last_commit_date: 2021-10-26 12:56:10 -0500
nebbiolo2Linux (Ubuntu 20.04.3 LTS) / x86_64  OK    OK    OK  UNNEEDED, same version is already published
tokay2Windows Server 2012 R2 Standard / x64  OK    OK    OK    OK  UNNEEDED, same version is already published
machv2macOS 10.14.6 Mojave / x86_64  OK    OK    OK    OK  UNNEEDED, same version is already published
Package 3/22HostnameOS / ArchINSTALLBUILDCHECKBUILD BIN
CluMSID 1.10.0  (landing page)
Tobias Depke
git_last_commit: 75609ff
git_last_commit_date: 2021-10-26 12:48:48 -0500
nebbiolo2Linux (Ubuntu 20.04.3 LTS) / x86_64  OK    OK    OK  UNNEEDED, same version is already published
tokay2Windows Server 2012 R2 Standard / x64  OK    OK    OK    OK  UNNEEDED, same version is already published
machv2macOS 10.14.6 Mojave / x86_64  OK    OK    OK    OK  UNNEEDED, same version is already published
Package 4/22HostnameOS / ArchINSTALLBUILDCHECKBUILD BIN
DAPAR 1.26.1  (landing page)
Samuel Wieczorek
git_last_commit: 9232810
git_last_commit_date: 2021-11-22 00:55:42 -0500
nebbiolo2Linux (Ubuntu 20.04.3 LTS) / x86_64  OK    OK    OK  UNNEEDED, same version is already published
tokay2Windows Server 2012 R2 Standard / x64  OK    OK    OK    OK  UNNEEDED, same version is already published
machv2macOS 10.14.6 Mojave / x86_64  OK    OK    OK    OK  UNNEEDED, same version is already published
Package 5/22HostnameOS / ArchINSTALLBUILDCHECKBUILD BIN
DEP 1.16.0  (landing page)
Arne Smits
git_last_commit: ce28ade
git_last_commit_date: 2021-10-26 12:37:08 -0500
nebbiolo2Linux (Ubuntu 20.04.3 LTS) / x86_64  OK    OK    WARNINGS  UNNEEDED, same version is already published
tokay2Windows Server 2012 R2 Standard / x64  OK    OK    WARNINGS    OK  UNNEEDED, same version is already published
machv2macOS 10.14.6 Mojave / x86_64  OK    OK    WARNINGS    OK  UNNEEDED, same version is already published
Package 6/22HostnameOS / ArchINSTALLBUILDCHECKBUILD BIN
MetCirc 1.24.0  (landing page)
Thomas Naake
git_last_commit: 6909c65
git_last_commit_date: 2021-10-26 12:28:32 -0500
nebbiolo2Linux (Ubuntu 20.04.3 LTS) / x86_64  OK    OK    OK  UNNEEDED, same version is already published
tokay2Windows Server 2012 R2 Standard / x64  OK    OK    OK    OK  UNNEEDED, same version is already published
machv2macOS 10.14.6 Mojave / x86_64  OK    OK    OK    OK  UNNEEDED, same version is already published
Package 7/22HostnameOS / ArchINSTALLBUILDCHECKBUILD BIN
msmsEDA 1.32.0  (landing page)
Josep Gregori
git_last_commit: d560187
git_last_commit_date: 2021-10-26 12:09:04 -0500
nebbiolo2Linux (Ubuntu 20.04.3 LTS) / x86_64  OK    OK    OK  UNNEEDED, same version is already published
tokay2Windows Server 2012 R2 Standard / x64  OK    OK    OK    OK  UNNEEDED, same version is already published
machv2macOS 10.14.6 Mojave / x86_64  OK    OK    OK    OK  UNNEEDED, same version is already published
Package 8/22HostnameOS / ArchINSTALLBUILDCHECKBUILD BIN
msmsTests 1.32.0  (landing page)
Josep Gregori i Font
git_last_commit: 04b6de9
git_last_commit_date: 2021-10-26 12:09:09 -0500
nebbiolo2Linux (Ubuntu 20.04.3 LTS) / x86_64  OK    OK    OK  UNNEEDED, same version is already published
tokay2Windows Server 2012 R2 Standard / x64  OK    OK    OK    OK  UNNEEDED, same version is already published
machv2macOS 10.14.6 Mojave / x86_64  OK    OK    OK    OK  UNNEEDED, same version is already published
Package 9/22HostnameOS / ArchINSTALLBUILDCHECKBUILD BIN
MSnID 1.28.0  (landing page)
Vlad Petyuk
git_last_commit: 0e6de89
git_last_commit_date: 2021-10-26 12:16:01 -0500
nebbiolo2Linux (Ubuntu 20.04.3 LTS) / x86_64  OK    OK    OK  UNNEEDED, same version is already published
tokay2Windows Server 2012 R2 Standard / x64  OK    OK    OK    OK  UNNEEDED, same version is already published
machv2macOS 10.14.6 Mojave / x86_64  OK    OK    OK    OK  UNNEEDED, same version is already published
Package 10/22HostnameOS / ArchINSTALLBUILDCHECKBUILD BIN
MSstatsQC 2.12.0  (landing page)
Eralp Dogu
git_last_commit: db3d95c
git_last_commit_date: 2021-10-26 12:38:21 -0500
nebbiolo2Linux (Ubuntu 20.04.3 LTS) / x86_64  OK    OK    OK  UNNEEDED, same version is already published
tokay2Windows Server 2012 R2 Standard / x64  OK    OK    OK    OK  UNNEEDED, same version is already published
machv2macOS 10.14.6 Mojave / x86_64  OK    OK    OK    OK  UNNEEDED, same version is already published
Package 11/22HostnameOS / ArchINSTALLBUILDCHECKBUILD BIN
peakPantheR 1.8.0  (landing page)
Arnaud Wolfer
git_last_commit: eb2c999
git_last_commit_date: 2021-10-26 12:54:33 -0500
nebbiolo2Linux (Ubuntu 20.04.3 LTS) / x86_64  OK    OK    OK  UNNEEDED, same version is already published
tokay2Windows Server 2012 R2 Standard / x64  OK    OK    OK    OK  UNNEEDED, same version is already published
machv2macOS 10.14.6 Mojave / x86_64  OK    OK    OK    OK  UNNEEDED, same version is already published
Package 12/22HostnameOS / ArchINSTALLBUILDCHECKBUILD BIN
POMA 1.4.0  (landing page)
Pol Castellano-Escuder
git_last_commit: c549d40
git_last_commit_date: 2021-10-26 13:01:27 -0500
nebbiolo2Linux (Ubuntu 20.04.3 LTS) / x86_64  OK    OK    OK  UNNEEDED, same version is already published
tokay2Windows Server 2012 R2 Standard / x64  OK    OK    OK    OK  UNNEEDED, same version is already published
machv2macOS 10.14.6 Mojave / x86_64  OK    OK    OK    OK  UNNEEDED, same version is already published
Package 13/22HostnameOS / ArchINSTALLBUILDCHECKBUILD BIN
PrInCE 1.10.0  (landing page)
Michael Skinnider
git_last_commit: d2e07dc
git_last_commit_date: 2021-10-26 12:49:58 -0500
nebbiolo2Linux (Ubuntu 20.04.3 LTS) / x86_64  OK    OK    WARNINGS  UNNEEDED, same version is already published
tokay2Windows Server 2012 R2 Standard / x64  OK    OK    WARNINGS    OK  UNNEEDED, same version is already published
machv2macOS 10.14.6 Mojave / x86_64  OK    OK    WARNINGS    OK  UNNEEDED, same version is already published
Package 14/22HostnameOS / ArchINSTALLBUILDCHECKBUILD BIN
pRoloc 1.34.0  (landing page)
Laurent Gatto
git_last_commit: 5c4ca0d
git_last_commit_date: 2021-10-26 12:05:36 -0500
nebbiolo2Linux (Ubuntu 20.04.3 LTS) / x86_64  OK    ERROR  skipped
tokay2Windows Server 2012 R2 Standard / x64  OK    ERROR  skippedskipped
machv2macOS 10.14.6 Mojave / x86_64  OK    OK    OK    OK  UNNEEDED, same version is already published
Package 15/22HostnameOS / ArchINSTALLBUILDCHECKBUILD BIN
pRolocGUI 2.4.0  (landing page)
Laurent Gatto
git_last_commit: f76cfed
git_last_commit_date: 2021-10-26 12:14:29 -0500
nebbiolo2Linux (Ubuntu 20.04.3 LTS) / x86_64  OK    OK    WARNINGS  UNNEEDED, same version is already published
tokay2Windows Server 2012 R2 Standard / x64  OK    OK    WARNINGS    OK  UNNEEDED, same version is already published
machv2macOS 10.14.6 Mojave / x86_64  OK    OK    WARNINGS    OK  UNNEEDED, same version is already published
Package 16/22HostnameOS / ArchINSTALLBUILDCHECKBUILD BIN
ProteomicsAnnotationHubData 1.24.0  (landing page)
Laurent Gatto
git_last_commit: b8e3a6d
git_last_commit_date: 2021-10-26 12:22:30 -0500
nebbiolo2Linux (Ubuntu 20.04.3 LTS) / x86_64  OK    ERROR  skipped
tokay2Windows Server 2012 R2 Standard / x64  OK    ERROR  skippedskipped
machv2macOS 10.14.6 Mojave / x86_64  OK    ERROR  skippedskipped
Package 17/22HostnameOS / ArchINSTALLBUILDCHECKBUILD BIN
ptairMS 1.2.0  (landing page)
camille Roquencourt
git_last_commit: 0f1883b
git_last_commit_date: 2021-10-26 13:08:34 -0500
nebbiolo2Linux (Ubuntu 20.04.3 LTS) / x86_64  OK    OK    OK  UNNEEDED, same version is already published
tokay2Windows Server 2012 R2 Standard / x64  OK    OK    OK    OK  UNNEEDED, same version is already published
machv2macOS 10.14.6 Mojave / x86_64  OK    OK    OK    OK  UNNEEDED, same version is already published
Package 18/22HostnameOS / ArchINSTALLBUILDCHECKBUILD BIN
qPLEXanalyzer 1.12.0  (landing page)
Ashley Sawle
git_last_commit: e6db927
git_last_commit_date: 2021-10-26 12:45:29 -0500
nebbiolo2Linux (Ubuntu 20.04.3 LTS) / x86_64  OK    OK    OK  UNNEEDED, same version is already published
tokay2Windows Server 2012 R2 Standard / x64  OK    OK    OK    OK  UNNEEDED, same version is already published
machv2macOS 10.14.6 Mojave / x86_64  OK    OK    OK    OK  UNNEEDED, same version is already published
Package 19/22HostnameOS / ArchINSTALLBUILDCHECKBUILD BIN
RMassBank 3.4.0  (landing page)
RMassBank at Eawag
git_last_commit: 78bf126
git_last_commit_date: 2021-10-26 12:04:06 -0500
nebbiolo2Linux (Ubuntu 20.04.3 LTS) / x86_64  OK    OK    WARNINGS  UNNEEDED, same version is already published
tokay2Windows Server 2012 R2 Standard / x64  OK    OK    WARNINGS    OK  UNNEEDED, same version is already published
machv2macOS 10.14.6 Mojave / x86_64  OK    OK    WARNINGS    OK  UNNEEDED, same version is already published
Package 20/22HostnameOS / ArchINSTALLBUILDCHECKBUILD BIN
synapter 2.18.0  (landing page)
Laurent Gatto
git_last_commit: 1ee8f37
git_last_commit_date: 2021-10-26 12:03:45 -0500
nebbiolo2Linux (Ubuntu 20.04.3 LTS) / x86_64  OK    ERROR  skipped
tokay2Windows Server 2012 R2 Standard / x64  OK    OK    OK    OK  UNNEEDED, same version is already published
machv2macOS 10.14.6 Mojave / x86_64  OK    OK    OK    OK  UNNEEDED, same version is already published
Package 21/22HostnameOS / ArchINSTALLBUILDCHECKBUILD BIN
topdownr 1.16.0  (landing page)
Sebastian Gibb
git_last_commit: 449221d
git_last_commit_date: 2021-10-26 12:39:20 -0500
nebbiolo2Linux (Ubuntu 20.04.3 LTS) / x86_64  OK    OK    OK  UNNEEDED, same version is already published
tokay2Windows Server 2012 R2 Standard / x64  OK    OK    OK    OK  UNNEEDED, same version is already published
machv2macOS 10.14.6 Mojave / x86_64  OK    OK    OK    OK  UNNEEDED, same version is already published
Package 22/22HostnameOS / ArchINSTALLBUILDCHECKBUILD BIN
xcms 3.16.1  (landing page)
Steffen Neumann
git_last_commit: ed02588
git_last_commit_date: 2021-11-19 10:10:20 -0500
nebbiolo2Linux (Ubuntu 20.04.3 LTS) / x86_64  OK    OK    OK  UNNEEDED, same version is already published
tokay2Windows Server 2012 R2 Standard / x64  OK    OK    OK    OK  UNNEEDED, same version is already published
machv2macOS 10.14.6 Mojave / x86_64  OK    OK    OK    OK  UNNEEDED, same version is already published