Back to Multiple platform build/check report for BioC 3.14
ABCDEFGHIJKL[M]NOPQRSTUVWXYZ

This page was generated on 2022-01-26 13:06:57 -0500 (Wed, 26 Jan 2022).

HostnameOSArch (*)R versionInstalled pkgs
nebbiolo2Linux (Ubuntu 20.04.4 LTS)x86_644.1.2 (2021-11-01) -- "Bird Hippie" 4329
tokay2Windows Server 2012 R2 Standardx644.1.2 (2021-11-01) -- "Bird Hippie" 4080
machv2macOS 10.14.6 Mojavex86_644.1.2 (2021-11-01) -- "Bird Hippie" 4141
Click on any hostname to see more info about the system (e.g. compilers)      (*) as reported by 'uname -p', except on Windows and Mac OS X

BUILD results for MPRAnalyze on tokay2


To the developers/maintainers of the MPRAnalyze package:
- Please allow up to 24 hours (and sometimes 48 hours) for your latest push to git@git.bioconductor.org:packages/MPRAnalyze.git to
reflect on this report. See How and When does the builder pull? When will my changes propagate? here for more information.
- Make sure to use the following settings in order to reproduce any error or warning you see on this page.

raw results

Package 1208/2083HostnameOS / ArchINSTALLBUILDCHECKBUILD BIN
MPRAnalyze 1.12.0  (landing page)
Tal Ashuach
Snapshot Date: 2022-01-25 01:55:07 -0500 (Tue, 25 Jan 2022)
git_url: https://git.bioconductor.org/packages/MPRAnalyze
git_branch: RELEASE_3_14
git_last_commit: 490525a
git_last_commit_date: 2021-10-26 12:47:13 -0500 (Tue, 26 Oct 2021)
nebbiolo2Linux (Ubuntu 20.04.4 LTS) / x86_64  OK    OK    OK  UNNEEDED, same version is already published
tokay2Windows Server 2012 R2 Standard / x64  OK    OK    OK    OK  UNNEEDED, same version is already published
machv2macOS 10.14.6 Mojave / x86_64  OK    OK    OK    OK  UNNEEDED, same version is already published

Summary

Package: MPRAnalyze
Version: 1.12.0
Command: chmod a+r MPRAnalyze -R && C:\Users\biocbuild\bbs-3.14-bioc\R\bin\R.exe CMD build --keep-empty-dirs --no-resave-data MPRAnalyze
StartedAt: 2022-01-25 12:17:35 -0500 (Tue, 25 Jan 2022)
EndedAt: 2022-01-25 12:19:07 -0500 (Tue, 25 Jan 2022)
EllapsedTime: 91.8 seconds
RetCode: 0
Status:   OK  
PackageFile: MPRAnalyze_1.12.0.tar.gz
PackageFileSize: 331.3 KiB

Command output

##############################################################################
##############################################################################
###
### Running command:
###
###   chmod a+r MPRAnalyze -R && C:\Users\biocbuild\bbs-3.14-bioc\R\bin\R.exe CMD build --keep-empty-dirs --no-resave-data MPRAnalyze
###
##############################################################################
##############################################################################


* checking for file 'MPRAnalyze/DESCRIPTION' ... OK
* preparing 'MPRAnalyze':
* checking DESCRIPTION meta-information ... OK
* installing the package to build vignettes
* creating vignettes ... OK
* checking for LF line-endings in source and make files and shell scripts
* checking for empty or unneeded directories
* looking to see if a 'data/datalist' file should be added
* building 'MPRAnalyze_1.12.0.tar.gz'