Index of /checkResults/3.14/bioc-LATEST/MPRAnalyze/raw-results/nebbiolo2

[ICO]NameLast modifiedSizeDescription

[DIR]Parent Directory  -  
[   ]install-summary.dcf14-Apr-2022 01:05 265  
[TXT]install-out.txt14-Apr-2022 01:05 964  
[   ]checksrc-summary.dcf14-Apr-2022 01:05 436  
[TXT]checksrc-out.txt14-Apr-2022 01:05 3.2K 
[   ]buildsrc-summary.dcf14-Apr-2022 01:05 426  
[TXT]buildsrc-out.txt14-Apr-2022 01:05 881