Back to Multiple platform build/check report for BioC 3.14
ABCDEFGHIJKL[M]NOPQRSTUVWXYZ

This page was generated on 2021-12-03 13:04:54 -0500 (Fri, 03 Dec 2021).

INSTALL results for MPRAnalyze on nebbiolo2

To the developers/maintainers of the MPRAnalyze package:
- Please allow up to 24 hours (and sometimes 48 hours) for your latest push to git@git.bioconductor.org:packages/MPRAnalyze.git to
reflect on this report. See How and When does the builder pull? When will my changes propagate? here for more information.
- Make sure to use the following settings in order to reproduce any error or warning you see on this page.

raw results

Package 1208/2083HostnameOS / ArchINSTALLBUILDCHECKBUILD BIN
MPRAnalyze 1.12.0  (landing page)
Tal Ashuach
Snapshot Date: 2021-12-02 01:55:06 -0500 (Thu, 02 Dec 2021)
git_url: https://git.bioconductor.org/packages/MPRAnalyze
git_branch: RELEASE_3_14
git_last_commit: 490525a
git_last_commit_date: 2021-10-26 12:47:13 -0500 (Tue, 26 Oct 2021)
nebbiolo2Linux (Ubuntu 20.04.3 LTS) / x86_64  OK    OK    OK  UNNEEDED, same version is already published
tokay2Windows Server 2012 R2 Standard / x64  OK    OK    OK    OK  UNNEEDED, same version is already published
machv2macOS 10.14.6 Mojave / x86_64  OK    OK    OK    OK  UNNEEDED, same version is already published

Summary

Package: MPRAnalyze
Version: 1.12.0
Command: /home/biocbuild/bbs-3.14-bioc/R/bin/R CMD INSTALL MPRAnalyze
StartedAt: 2021-12-02 03:20:23 -0500 (Thu, 02 Dec 2021)
EndedAt: 2021-12-02 03:20:41 -0500 (Thu, 02 Dec 2021)
EllapsedTime: 17.1 seconds
RetCode: 0
Status:   OK  

Command output

##############################################################################
##############################################################################
###
### Running command:
###
###   /home/biocbuild/bbs-3.14-bioc/R/bin/R CMD INSTALL MPRAnalyze
###
##############################################################################
##############################################################################


* installing to library ‘/home/biocbuild/bbs-3.14-bioc/R/library’
* installing *source* package ‘MPRAnalyze’ ...
** using staged installation
** R
** data
** inst
** byte-compile and prepare package for lazy loading
** help
*** installing help indices
** building package indices
** installing vignettes
** testing if installed package can be loaded from temporary location
** testing if installed package can be loaded from final location
** testing if installed package keeps a record of temporary installation path
* DONE (MPRAnalyze)