Back to Multiple platform build/check report for BioC 3.14
ABCDEFGHIJKL[M]NOPQRSTUVWXYZ

This page was generated on 2021-12-01 17:17:30 -0500 (Wed, 01 Dec 2021).

BUILD results for MPRAnalyze on nebbiolo2

To the developers/maintainers of the MPRAnalyze package:
- Please allow up to 24 hours (and sometimes 48 hours) for your latest push to git@git.bioconductor.org:packages/MPRAnalyze.git to
reflect on this report. See How and When does the builder pull? When will my changes propagate? here for more information.
- Make sure to use the following settings in order to reproduce any error or warning you see on this page.

raw results

Package 1208/2083HostnameOS / ArchINSTALLBUILDCHECKBUILD BIN
MPRAnalyze 1.12.0  (landing page)
Tal Ashuach
Snapshot Date: 2021-11-30 04:15:05 -0500 (Tue, 30 Nov 2021)
git_url: https://git.bioconductor.org/packages/MPRAnalyze
git_branch: RELEASE_3_14
git_last_commit: 490525a
git_last_commit_date: 2021-10-26 12:47:13 -0500 (Tue, 26 Oct 2021)
nebbiolo2Linux (Ubuntu 20.04.3 LTS) / x86_64  OK    OK    OK  UNNEEDED, same version is already published
tokay2Windows Server 2012 R2 Standard / x64  OK    OK    OK    OK  UNNEEDED, same version is already published
machv2macOS 10.14.6 Mojave / x86_64  OK    OK    OK    OK  UNNEEDED, same version is already published

Summary

Package: MPRAnalyze
Version: 1.12.0
Command: /home/biocbuild/bbs-3.14-bioc/R/bin/R CMD build --keep-empty-dirs --no-resave-data MPRAnalyze
StartedAt: 2021-11-30 06:52:42 -0500 (Tue, 30 Nov 2021)
EndedAt: 2021-11-30 06:53:39 -0500 (Tue, 30 Nov 2021)
EllapsedTime: 56.9 seconds
RetCode: 0
Status:   OK  
PackageFile: MPRAnalyze_1.12.0.tar.gz
PackageFileSize: 398.3 KiB

Command output

##############################################################################
##############################################################################
###
### Running command:
###
###   /home/biocbuild/bbs-3.14-bioc/R/bin/R CMD build --keep-empty-dirs --no-resave-data MPRAnalyze
###
##############################################################################
##############################################################################


* checking for file ‘MPRAnalyze/DESCRIPTION’ ... OK
* preparing ‘MPRAnalyze’:
* checking DESCRIPTION meta-information ... OK
* installing the package to build vignettes
* creating vignettes ... OK
* checking for LF line-endings in source and make files and shell scripts
* checking for empty or unneeded directories
* looking to see if a ‘data/datalist’ file should be added
* building ‘MPRAnalyze_1.12.0.tar.gz’