Back to Multiple platform build/check report for BioC 3.14
ABCDEFGHIJKL[M]NOPQRSTUVWXYZ

This page was generated on 2021-12-06 13:05:04 -0500 (Mon, 06 Dec 2021).

BUILD results for MODA on nebbiolo2

To the developers/maintainers of the MODA package:
- Please allow up to 24 hours (and sometimes 48 hours) for your latest push to git@git.bioconductor.org:packages/MODA.git to
reflect on this report. See How and When does the builder pull? When will my changes propagate? here for more information.
- Make sure to use the following settings in order to reproduce any error or warning you see on this page.

raw results

Package 1187/2083HostnameOS / ArchINSTALLBUILDCHECKBUILD BIN
MODA 1.20.0  (landing page)
Dong Li
Snapshot Date: 2021-12-05 01:55:05 -0500 (Sun, 05 Dec 2021)
git_url: https://git.bioconductor.org/packages/MODA
git_branch: RELEASE_3_14
git_last_commit: c3b2e62
git_last_commit_date: 2021-10-26 12:29:14 -0500 (Tue, 26 Oct 2021)
nebbiolo2Linux (Ubuntu 20.04.3 LTS) / x86_64  OK    OK    OK  UNNEEDED, same version is already published
tokay2Windows Server 2012 R2 Standard / x64  OK    OK    OK    OK  UNNEEDED, same version is already published
machv2macOS 10.14.6 Mojave / x86_64  OK    OK    OK    OK  UNNEEDED, same version is already published

Summary

Package: MODA
Version: 1.20.0
Command: /home/biocbuild/bbs-3.14-bioc/R/bin/R CMD build --keep-empty-dirs --no-resave-data MODA
StartedAt: 2021-12-05 05:02:07 -0500 (Sun, 05 Dec 2021)
EndedAt: 2021-12-05 05:02:07 -0500 (Sun, 05 Dec 2021)
EllapsedTime: 0.4 seconds
RetCode: 0
Status:   OK  
PackageFile: MODA_1.20.0.tar.gz
PackageFileSize: 296.2 KiB

Command output

##############################################################################
##############################################################################
###
### Running command:
###
###   /home/biocbuild/bbs-3.14-bioc/R/bin/R CMD build --keep-empty-dirs --no-resave-data MODA
###
##############################################################################
##############################################################################


* checking for file ‘MODA/DESCRIPTION’ ... OK
* preparing ‘MODA’:
* checking DESCRIPTION meta-information ... OK
* checking for LF line-endings in source and make files and shell scripts
* checking for empty or unneeded directories
* looking to see if a ‘data/datalist’ file should be added
* building ‘MODA_1.20.0.tar.gz’