Back to Multiple platform build/check report for BioC 3.14
ABCDEFGHIJKL[M]NOPQRSTUVWXYZ

This page was generated on 2022-01-17 13:06:35 -0500 (Mon, 17 Jan 2022).

HostnameOSArch (*)R versionInstalled pkgs
nebbiolo2Linux (Ubuntu 20.04.4 LTS)x86_644.1.2 (2021-11-01) -- "Bird Hippie" 4328
tokay2Windows Server 2012 R2 Standardx644.1.2 (2021-11-01) -- "Bird Hippie" 4077
machv2macOS 10.14.6 Mojavex86_644.1.2 (2021-11-01) -- "Bird Hippie" 4138
Click on any hostname to see more info about the system (e.g. compilers)      (*) as reported by 'uname -p', except on Windows and Mac OS X

INSTALL results for MIGSA on tokay2


To the developers/maintainers of the MIGSA package:
- Please allow up to 24 hours (and sometimes 48 hours) for your latest push to git@git.bioconductor.org:packages/MIGSA.git to
reflect on this report. See How and When does the builder pull? When will my changes propagate? here for more information.
- Make sure to use the following settings in order to reproduce any error or warning you see on this page.

raw results

Package 1149/2083HostnameOS / ArchINSTALLBUILDCHECKBUILD BIN
MIGSA 1.18.0  (landing page)
Juan C. Rodriguez
Snapshot Date: 2022-01-16 01:55:05 -0500 (Sun, 16 Jan 2022)
git_url: https://git.bioconductor.org/packages/MIGSA
git_branch: RELEASE_3_14
git_last_commit: 13f31de
git_last_commit_date: 2021-10-26 12:33:30 -0500 (Tue, 26 Oct 2021)
nebbiolo2Linux (Ubuntu 20.04.4 LTS) / x86_64  OK    OK    OK  UNNEEDED, same version is already published
tokay2Windows Server 2012 R2 Standard / x64  OK    OK    ERROR    OK  
machv2macOS 10.14.6 Mojave / x86_64  OK    OK    OK    OK  UNNEEDED, same version is already published

Summary

Package: MIGSA
Version: 1.18.0
Command: C:\cygwin\bin\curl.exe -O http://155.52.207.166/BBS/3.14/bioc/src/contrib/MIGSA_1.18.0.tar.gz && rm -rf MIGSA.buildbin-libdir && mkdir MIGSA.buildbin-libdir && C:\Users\biocbuild\bbs-3.14-bioc\R\bin\R.exe CMD INSTALL --merge-multiarch --build --library=MIGSA.buildbin-libdir MIGSA_1.18.0.tar.gz && C:\Users\biocbuild\bbs-3.14-bioc\R\bin\R.exe CMD INSTALL MIGSA_1.18.0.zip && rm MIGSA_1.18.0.tar.gz MIGSA_1.18.0.zip
StartedAt: 2022-01-16 05:59:55 -0500 (Sun, 16 Jan 2022)
EndedAt: 2022-01-16 06:01:50 -0500 (Sun, 16 Jan 2022)
EllapsedTime: 115.2 seconds
RetCode: 0
Status:   OK  

Command output

##############################################################################
##############################################################################
###
### Running command:
###
###   C:\cygwin\bin\curl.exe -O http://155.52.207.166/BBS/3.14/bioc/src/contrib/MIGSA_1.18.0.tar.gz && rm -rf MIGSA.buildbin-libdir && mkdir MIGSA.buildbin-libdir && C:\Users\biocbuild\bbs-3.14-bioc\R\bin\R.exe CMD INSTALL --merge-multiarch --build --library=MIGSA.buildbin-libdir MIGSA_1.18.0.tar.gz && C:\Users\biocbuild\bbs-3.14-bioc\R\bin\R.exe CMD INSTALL MIGSA_1.18.0.zip && rm MIGSA_1.18.0.tar.gz MIGSA_1.18.0.zip
###
##############################################################################
##############################################################################


  % Total    % Received % Xferd  Average Speed   Time    Time     Time  Current
                                 Dload  Upload   Total   Spent    Left  Speed

  0     0    0     0    0     0      0      0 --:--:-- --:--:-- --:--:--     0
100 1626k  100 1626k    0     0  4165k      0 --:--:-- --:--:-- --:--:-- 4170k

install for i386

* installing *source* package 'MIGSA' ...
** using staged installation
** R
** data
** inst
** byte-compile and prepare package for lazy loading
** help
*** installing help indices
  converting help for package 'MIGSA'
    finding HTML links ... done
    ExprData-class                          html  
    FitOptions-class                        html  
    GSEAparams-class                        html  
    Genesets-as.Genesets                    html  
    Genesets-enrichr                        html  
    Genesets-geneSetsFromFile               html  
    Genesets-loadGo                         html  
    IGSAinput-class                         html  
    IGSAinput-getDEGenes                    html  
    IGSAinput-getterSetters                 html  
REDIRECT:topic	 Previous alias or file overwritten by alias: C:/Users/biocbuild/bbs-3.14-bioc/meat/MIGSA.buildbin-libdir/00LOCK-MIGSA/00new/MIGSA/help/fitOptions.html
REDIRECT:topic	 Previous alias or file overwritten by alias: C:/Users/biocbuild/bbs-3.14-bioc/meat/MIGSA.buildbin-libdir/00LOCK-MIGSA/00new/MIGSA/help/gseaParams.html
    MIGSA                                   html  
    MIGSAPackage                            html  
    MIGSAmGSZ                               html  
    MIGSAres-GoAnalysis                     html  
    MIGSAres-class                          html  
    MIGSAres-common                         html  
    MIGSAres-genesManipulation              html  
    MIGSAres-getAdditionalInfo              html  
    MIGSAres-plots                          html  
    MIGSAres-setEnrCutoff                   html  
    SEAparams-class                         html  
REDIRECT:topic	 Previous alias or file overwritten by alias: C:/Users/biocbuild/bbs-3.14-bioc/meat/MIGSA.buildbin-libdir/00LOCK-MIGSA/00new/MIGSA/help/SEAparams.html
    bcMigsaRes                              html  
    migsaRes                                html  
    summaryFunctions                        html  
** building package indices
** installing vignettes
** testing if installed package can be loaded from temporary location
** testing if installed package can be loaded from final location
** testing if installed package keeps a record of temporary installation path

install for x64

* installing *source* package 'MIGSA' ...
** testing if installed package can be loaded
* MD5 sums
packaged installation of 'MIGSA' as MIGSA_1.18.0.zip
* DONE (MIGSA)
* installing to library 'C:/Users/biocbuild/bbs-3.14-bioc/R/library'
package 'MIGSA' successfully unpacked and MD5 sums checked