Back to Multiple platform build/check report for BioC 3.14
ABCDEFGHIJKL[M]NOPQRSTUVWXYZ

This page was generated on 2022-01-17 13:06:32 -0500 (Mon, 17 Jan 2022).

HostnameOSArch (*)R versionInstalled pkgs
nebbiolo2Linux (Ubuntu 20.04.4 LTS)x86_644.1.2 (2021-11-01) -- "Bird Hippie" 4328
tokay2Windows Server 2012 R2 Standardx644.1.2 (2021-11-01) -- "Bird Hippie" 4077
machv2macOS 10.14.6 Mojavex86_644.1.2 (2021-11-01) -- "Bird Hippie" 4138
Click on any hostname to see more info about the system (e.g. compilers)      (*) as reported by 'uname -p', except on Windows and Mac OS X

INSTALL results for MBQN on tokay2


To the developers/maintainers of the MBQN package:
- Please allow up to 24 hours (and sometimes 48 hours) for your latest push to git@git.bioconductor.org:packages/MBQN.git to
reflect on this report. See How and When does the builder pull? When will my changes propagate? here for more information.
- Make sure to use the following settings in order to reproduce any error or warning you see on this page.

raw results

Package 1066/2083HostnameOS / ArchINSTALLBUILDCHECKBUILD BIN
MBQN 2.6.0  (landing page)
Ariane Schad
Snapshot Date: 2022-01-16 01:55:05 -0500 (Sun, 16 Jan 2022)
git_url: https://git.bioconductor.org/packages/MBQN
git_branch: RELEASE_3_14
git_last_commit: 3e5b754
git_last_commit_date: 2021-10-26 12:55:27 -0500 (Tue, 26 Oct 2021)
nebbiolo2Linux (Ubuntu 20.04.4 LTS) / x86_64  OK    OK    ERROR  
tokay2Windows Server 2012 R2 Standard / x64  OK    OK    ERROR    OK  
machv2macOS 10.14.6 Mojave / x86_64  OK    OK    ERROR    OK  

Summary

Package: MBQN
Version: 2.6.0
Command: C:\cygwin\bin\curl.exe -O http://155.52.207.166/BBS/3.14/bioc/src/contrib/MBQN_2.6.0.tar.gz && rm -rf MBQN.buildbin-libdir && mkdir MBQN.buildbin-libdir && C:\Users\biocbuild\bbs-3.14-bioc\R\bin\R.exe CMD INSTALL --merge-multiarch --build --library=MBQN.buildbin-libdir MBQN_2.6.0.tar.gz && C:\Users\biocbuild\bbs-3.14-bioc\R\bin\R.exe CMD INSTALL MBQN_2.6.0.zip && rm MBQN_2.6.0.tar.gz MBQN_2.6.0.zip
StartedAt: 2022-01-16 05:35:18 -0500 (Sun, 16 Jan 2022)
EndedAt: 2022-01-16 05:36:16 -0500 (Sun, 16 Jan 2022)
EllapsedTime: 57.8 seconds
RetCode: 0
Status:   OK  

Command output

##############################################################################
##############################################################################
###
### Running command:
###
###   C:\cygwin\bin\curl.exe -O http://155.52.207.166/BBS/3.14/bioc/src/contrib/MBQN_2.6.0.tar.gz && rm -rf MBQN.buildbin-libdir && mkdir MBQN.buildbin-libdir && C:\Users\biocbuild\bbs-3.14-bioc\R\bin\R.exe CMD INSTALL --merge-multiarch --build --library=MBQN.buildbin-libdir MBQN_2.6.0.tar.gz && C:\Users\biocbuild\bbs-3.14-bioc\R\bin\R.exe CMD INSTALL MBQN_2.6.0.zip && rm MBQN_2.6.0.tar.gz MBQN_2.6.0.zip
###
##############################################################################
##############################################################################


  % Total    % Received % Xferd  Average Speed   Time    Time     Time  Current
                                 Dload  Upload   Total   Spent    Left  Speed

  0     0    0     0    0     0      0      0 --:--:-- --:--:-- --:--:--     0
 26 44629   26 11969    0     0  31825      0  0:00:01 --:--:--  0:00:01 31832
100 44629  100 44629    0     0   115k      0 --:--:-- --:--:-- --:--:--  115k

install for i386

* installing *source* package 'MBQN' ...
** using staged installation
** R
** inst
** byte-compile and prepare package for lazy loading
** help
*** installing help indices
  converting help for package 'MBQN'
    finding HTML links ... done
    example_NApattern                       html  
    getKminmax                              html  
    getPXDfile                              html  
    getPvalue                               html  
    mbqn                                    html  
    mbqnBoxplot                             html  
    mbqnGetIntersect                        html  
    mbqnGetNRIfeatures                      html  
    mbqnGetThreshold                        html  
    mbqnLoadFile                            html  
    mbqnNRI                                 html  
    mbqnPlotAll                             html  
    mbqnPlotRI                              html  
    mbqnSimuData                            html  
    mbqnSimuDistortion                      html  
    oneSidedTest                            html  
    truncateDecimals                        html  
** building package indices
** installing vignettes
** testing if installed package can be loaded from temporary location
** testing if installed package can be loaded from final location
** testing if installed package keeps a record of temporary installation path

install for x64

* installing *source* package 'MBQN' ...
** testing if installed package can be loaded
* MD5 sums
packaged installation of 'MBQN' as MBQN_2.6.0.zip
* DONE (MBQN)
* installing to library 'C:/Users/biocbuild/bbs-3.14-bioc/R/library'
package 'MBQN' successfully unpacked and MD5 sums checked