Back to Multiple platform build/check report for BioC 3.14
ABCDEFGHIJKL[M]NOPQRSTUVWXYZ

This page was generated on 2022-01-24 13:05:16 -0500 (Mon, 24 Jan 2022).

HostnameOSArch (*)R versionInstalled pkgs
nebbiolo2Linux (Ubuntu 20.04.4 LTS)x86_644.1.2 (2021-11-01) -- "Bird Hippie" 4329
tokay2Windows Server 2012 R2 Standardx644.1.2 (2021-11-01) -- "Bird Hippie" 4080
machv2macOS 10.14.6 Mojavex86_644.1.2 (2021-11-01) -- "Bird Hippie" 4141
Click on any hostname to see more info about the system (e.g. compilers)      (*) as reported by 'uname -p', except on Windows and Mac OS X

CHECK results for MAIT on nebbiolo2


To the developers/maintainers of the MAIT package:
- Please allow up to 24 hours (and sometimes 48 hours) for your latest push to git@git.bioconductor.org:packages/MAIT.git to
reflect on this report. See How and When does the builder pull? When will my changes propagate? here for more information.
- Make sure to use the following settings in order to reproduce any error or warning you see on this page.

raw results

Package 1039/2083HostnameOS / ArchINSTALLBUILDCHECKBUILD BIN
MAIT 1.28.0  (landing page)
Pol Sola-Santos
Snapshot Date: 2022-01-23 01:55:04 -0500 (Sun, 23 Jan 2022)
git_url: https://git.bioconductor.org/packages/MAIT
git_branch: RELEASE_3_14
git_last_commit: 70509d4
git_last_commit_date: 2021-10-26 12:16:52 -0500 (Tue, 26 Oct 2021)
nebbiolo2Linux (Ubuntu 20.04.4 LTS) / x86_64  OK    OK    OK  UNNEEDED, same version is already published
tokay2Windows Server 2012 R2 Standard / x64  OK    OK    OK    OK  UNNEEDED, same version is already published
machv2macOS 10.14.6 Mojave / x86_64  OK    OK    OK    OK  UNNEEDED, same version is already published

Summary

Package: MAIT
Version: 1.28.0
Command: /home/biocbuild/bbs-3.14-bioc/R/bin/R CMD check --install=check:MAIT.install-out.txt --library=/home/biocbuild/bbs-3.14-bioc/R/library --no-vignettes --timings MAIT_1.28.0.tar.gz
StartedAt: 2022-01-23 08:23:19 -0500 (Sun, 23 Jan 2022)
EndedAt: 2022-01-23 08:28:51 -0500 (Sun, 23 Jan 2022)
EllapsedTime: 331.6 seconds
RetCode: 0
Status:   OK  
CheckDir: MAIT.Rcheck
Warnings: 0

Command output

##############################################################################
##############################################################################
###
### Running command:
###
###   /home/biocbuild/bbs-3.14-bioc/R/bin/R CMD check --install=check:MAIT.install-out.txt --library=/home/biocbuild/bbs-3.14-bioc/R/library --no-vignettes --timings MAIT_1.28.0.tar.gz
###
##############################################################################
##############################################################################


* using log directory ‘/home/biocbuild/bbs-3.14-bioc/meat/MAIT.Rcheck’
* using R version 4.1.2 (2021-11-01)
* using platform: x86_64-pc-linux-gnu (64-bit)
* using session charset: UTF-8
* using option ‘--no-vignettes’
* checking for file ‘MAIT/DESCRIPTION’ ... OK
* checking extension type ... Package
* this is package ‘MAIT’ version ‘1.28.0’
* checking package namespace information ... OK
* checking package dependencies ... OK
* checking if this is a source package ... OK
* checking if there is a namespace ... OK
* checking for hidden files and directories ... OK
* checking for portable file names ... OK
* checking for sufficient/correct file permissions ... OK
* checking whether package ‘MAIT’ can be installed ... OK
* checking installed package size ... OK
* checking package directory ... OK
* checking ‘build’ directory ... OK
* checking DESCRIPTION meta-information ... OK
* checking top-level files ... OK
* checking for left-over files ... OK
* checking index information ... OK
* checking package subdirectories ... OK
* checking R files for non-ASCII characters ... OK
* checking R files for syntax errors ... OK
* checking whether the package can be loaded ... OK
* checking whether the package can be loaded with stated dependencies ... OK
* checking whether the package can be unloaded cleanly ... OK
* checking whether the namespace can be loaded with stated dependencies ... OK
* checking whether the namespace can be unloaded cleanly ... OK
* checking dependencies in R code ... NOTE
'library' or 'require' call to ‘rgl’ in package code.
  Please use :: or requireNamespace() instead.
  See section 'Suggested packages' in the 'Writing R Extensions' manual.
* checking S3 generic/method consistency ... OK
* checking replacement functions ... OK
* checking foreign function calls ... OK
* checking R code for possible problems ... NOTE
Biotransformations: no visible global function definition for ‘data’
Biotransformations: no visible binding for global variable ‘MAITtables’
Biotransformations: no visible global function definition for
  ‘read.csv’
Biotransformations: no visible global function definition for
  ‘read.csv2’
PLSDA: no visible global function definition for ‘predict’
Validation: no visible global function definition for ‘predict’
Validation: no visible global function definition for ‘sd’
Validation: no visible global function definition for ‘rainbow’
Validation: no visible global function definition for ‘png’
Validation: no visible global function definition for ‘boxplot’
Validation: no visible global function definition for ‘legend’
Validation: no visible global function definition for ‘title’
Validation: no visible global function definition for ‘dev.off’
Validation: no visible binding for global variable ‘sd’
computeSpectra: no visible global function definition for ‘cor’
identifyMetabolites: no visible global function definition for ‘data’
identifyMetabolites: no visible binding for global variable
  ‘MAITtables’
identifyMetabolites: no visible global function definition for
  ‘read.csv’
identifyMetabolites: no visible global function definition for
  ‘write.table’
metaboliteTable: no visible global function definition for
  ‘write.table’
peakAggregation: no visible global function definition for
  ‘write.table’
peakAnnotation: no visible global function definition for ‘data’
peakAnnotation: no visible binding for global variable ‘MAITtables’
peakAnnotation: no visible global function definition for ‘read.csv2’
plotBoxplot: no visible global function definition for ‘png’
plotBoxplot: no visible global function definition for ‘boxplot’
plotBoxplot: no visible global function definition for ‘title’
plotBoxplot: no visible global function definition for ‘dev.off’
plotHeatmap: no visible global function definition for ‘p.adjust’
plotHeatmap : distCor: no visible global function definition for
  ‘as.dist’
plotHeatmap : distCor: no visible global function definition for ‘cor’
plotHeatmap : hclustWard: no visible global function definition for
  ‘hclust’
plotHeatmap: no visible global function definition for
  ‘colorRampPalette’
plotHeatmap: no visible global function definition for ‘png’
plotHeatmap: no visible global function definition for ‘legend’
plotHeatmap: no visible global function definition for ‘dev.off’
plotPCA: no visible global function definition for ‘prcomp’
plotPCA: no visible global function definition for ‘png’
plotPCA: no visible global function definition for ‘legend’
plotPCA: no visible global function definition for ‘dev.off’
plotPLS: no visible global function definition for ‘png’
plotPLS: no visible global function definition for ‘legend’
plotPLS: no visible global function definition for ‘dev.off’
sigPeaksTable: no visible global function definition for ‘p.adjust’
sigPeaksTable: no visible global function definition for ‘aggregate’
sigPeaksTable: no visible binding for global variable ‘median’
sigPeaksTable: no visible global function definition for ‘write.csv’
spectralAnova: no visible global function definition for ‘lm’
spectralAnova: no visible global function definition for ‘anova’
spectralAnova: no visible global function definition for ‘p.adjust’
spectralFUN: no visible global function definition for ‘p.adjust’
spectralKruskal: no visible global function definition for
  ‘kruskal.test’
spectralKruskal: no visible global function definition for ‘p.adjust’
spectralTStudent: no visible global function definition for ‘lm’
spectralTStudent: no visible global function definition for ‘t.test’
spectralTStudent: no visible global function definition for ‘p.adjust’
spectralWelch: no visible global function definition for ‘lm’
spectralWelch: no visible global function definition for ‘t.test’
spectralWelch: no visible global function definition for ‘p.adjust’
spectralWilcox: no visible global function definition for ‘lm’
spectralWilcox: no visible global function definition for ‘wilcox.test’
spectralWilcox: no visible global function definition for ‘p.adjust’
writeExcelTable: no visible global function definition for ‘write.csv’
writeParameterTable: no visible global function definition for
  ‘write.csv’
Undefined global functions or variables:
  MAITtables aggregate anova as.dist boxplot colorRampPalette cor data
  dev.off hclust kruskal.test legend lm median p.adjust png prcomp
  predict rainbow read.csv read.csv2 sd t.test title wilcox.test
  write.csv write.table
Consider adding
  importFrom("grDevices", "colorRampPalette", "dev.off", "png",
             "rainbow")
  importFrom("graphics", "boxplot", "legend", "title")
  importFrom("stats", "aggregate", "anova", "as.dist", "cor", "hclust",
             "kruskal.test", "lm", "median", "p.adjust", "prcomp",
             "predict", "sd", "t.test", "wilcox.test")
  importFrom("utils", "data", "read.csv", "read.csv2", "write.csv",
             "write.table")
to your NAMESPACE file.
* checking Rd files ... OK
* checking Rd metadata ... OK
* checking Rd cross-references ... OK
* checking for missing documentation entries ... OK
* checking for code/documentation mismatches ... OK
* checking Rd \usage sections ... OK
* checking Rd contents ... OK
* checking for unstated dependencies in examples ... OK
* checking contents of ‘data’ directory ... OK
* checking data for non-ASCII characters ... OK
* checking data for ASCII and uncompressed saves ... OK
* checking files in ‘vignettes’ ... OK
* checking examples ... OK
Examples with CPU (user + system) or elapsed time > 5s
                      user system elapsed
ovClassifRatioTable 11.518  0.168  11.709
parameters          10.516  0.152  10.668
Validation          10.471  0.164  10.635
classifRatioClasses 10.480  0.124  10.604
ovClassifRatio       9.947  0.132  10.079
* checking for unstated dependencies in vignettes ... OK
* checking package vignettes in ‘inst/doc’ ... OK
* checking running R code from vignettes ... SKIPPED
* checking re-building of vignette outputs ... SKIPPED
* checking PDF version of manual ... OK
* DONE

Status: 2 NOTEs
See
  ‘/home/biocbuild/bbs-3.14-bioc/meat/MAIT.Rcheck/00check.log’
for details.



Installation output

MAIT.Rcheck/00install.out

##############################################################################
##############################################################################
###
### Running command:
###
###   /home/biocbuild/bbs-3.14-bioc/R/bin/R CMD INSTALL MAIT
###
##############################################################################
##############################################################################


* installing to library ‘/home/biocbuild/bbs-3.14-bioc/R/library’
* installing *source* package ‘MAIT’ ...
** using staged installation
** R
** data
** inst
** byte-compile and prepare package for lazy loading
Creating a new generic function for ‘scores’ in package ‘MAIT’
Creating a new generic function for ‘loadings’ in package ‘MAIT’
** help
*** installing help indices
** building package indices
** installing vignettes
** testing if installed package can be loaded from temporary location
** testing if installed package can be loaded from final location
** testing if installed package keeps a record of temporary installation path
* DONE (MAIT)

Tests output


Example timings

MAIT.Rcheck/MAIT-Ex.timings

nameusersystemelapsed
Biotransformations0.7450.0640.810
LSDResults0.6080.0080.617
MAITbuilder0.0170.0000.018
Validation10.471 0.16410.635
classNum0.0030.0000.003
classes0.0040.0000.003
classifRatioClasses10.480 0.12410.604
featureID0.6140.0000.614
featureInfo0.6230.0080.631
featureSigID0.6150.0000.615
getScoresTable0.6170.0080.625
identifyMetabolites1.0370.0281.065
loadings2.0790.0282.106
metaboliteTable1.0780.0001.079
method0.0030.0000.003
model1.9980.0362.035
models0.5690.0040.573
ovClassifRatio 9.947 0.13210.079
ovClassifRatioTable11.518 0.16811.709
parameters10.516 0.15210.668
pcaLoadings0.6780.0160.693
pcaModel0.6730.0040.678
pcaScores0.7080.0160.724
peakAggregation0.0070.0000.008
peakAnnotation000
plotBoxplot0.7560.0000.756
plotHeatmap2.1520.0442.196
plotPCA0.6560.0000.655
plotPLS2.0070.0282.035
plsLoadings1.9590.0121.970
plsModel1.9700.0121.982
plsScores2.0040.0362.039
pvalues0.5980.0000.597
pvaluesCorrection0.5990.0120.610
rawData0.0030.0000.003
resultsPath0.6090.0000.610
sampleProcessing0.0000.0000.001
scores2.0500.0202.069
sigPeaksTable0.6890.0120.701
spectralSigFeatures0.6290.0000.630