Back to Multiple platform build/check report for BioC 3.14
ABCDEFGHIJKL[M]NOPQRSTUVWXYZ

This page was generated on 2021-12-06 13:05:02 -0500 (Mon, 06 Dec 2021).

BUILD results for MACPET on nebbiolo2

To the developers/maintainers of the MACPET package:
- Please allow up to 24 hours (and sometimes 48 hours) for your latest push to git@git.bioconductor.org:packages/MACPET.git to
reflect on this report. See How and When does the builder pull? When will my changes propagate? here for more information.
- Make sure to use the following settings in order to reproduce any error or warning you see on this page.

raw results

Package 1029/2083HostnameOS / ArchINSTALLBUILDCHECKBUILD BIN
MACPET 1.14.0  (landing page)
Ioannis Vardaxis
Snapshot Date: 2021-12-05 01:55:05 -0500 (Sun, 05 Dec 2021)
git_url: https://git.bioconductor.org/packages/MACPET
git_branch: RELEASE_3_14
git_last_commit: d1b9a5c
git_last_commit_date: 2021-10-26 12:41:58 -0500 (Tue, 26 Oct 2021)
nebbiolo2Linux (Ubuntu 20.04.3 LTS) / x86_64  OK    OK    OK  UNNEEDED, same version is already published
tokay2Windows Server 2012 R2 Standard / x64  OK    OK    OK    OK  UNNEEDED, same version is already published
machv2macOS 10.14.6 Mojave / x86_64  OK    OK    OK    OK  UNNEEDED, same version is already published

Summary

Package: MACPET
Version: 1.14.0
Command: /home/biocbuild/bbs-3.14-bioc/R/bin/R CMD build --keep-empty-dirs --no-resave-data MACPET
StartedAt: 2021-12-05 04:52:26 -0500 (Sun, 05 Dec 2021)
EndedAt: 2021-12-05 04:54:08 -0500 (Sun, 05 Dec 2021)
EllapsedTime: 102.5 seconds
RetCode: 0
Status:   OK  
PackageFile: MACPET_1.14.0.tar.gz
PackageFileSize: 857.2 KiB

Command output

##############################################################################
##############################################################################
###
### Running command:
###
###   /home/biocbuild/bbs-3.14-bioc/R/bin/R CMD build --keep-empty-dirs --no-resave-data MACPET
###
##############################################################################
##############################################################################


* checking for file ‘MACPET/DESCRIPTION’ ... OK
* preparing ‘MACPET’:
* checking DESCRIPTION meta-information ... OK
* cleaning src
* installing the package to build vignettes
* creating vignettes ... OK
* cleaning src
* checking for LF line-endings in source and make files and shell scripts
* checking for empty or unneeded directories
Omitted ‘LazyData’ from DESCRIPTION
* building ‘MACPET_1.14.0.tar.gz’