Index of /checkResults/3.14/bioc-LATEST/LineagePulse/raw-results/nebbiolo2

[ICO]NameLast modifiedSizeDescription

[DIR]Parent Directory  -  
[TXT]checksrc-out.txt14-Apr-2022 01:05 7.6K 
[TXT]install-out.txt14-Apr-2022 01:05 1.4K 
[TXT]buildsrc-out.txt14-Apr-2022 01:05 826  
[   ]checksrc-summary.dcf14-Apr-2022 01:05 450  
[   ]buildsrc-summary.dcf14-Apr-2022 01:05 432  
[   ]install-summary.dcf14-Apr-2022 01:05 269