Index of /checkResults/3.14/bioc-LATEST/KinSwingR/raw-results

[ICO]NameLast modifiedSizeDescription

[DIR]Parent Directory  -  
[   ]info.dcf18-Jan-2022 03:07 287  
[DIR]machv2/18-Jan-2022 03:07 -  
[DIR]nebbiolo2/18-Jan-2022 03:05 -  
[DIR]tokay2/18-Jan-2022 03:06 -